From mboxrd@z Thu Jan 1 00:00:00 1970 Return-Path: Received: from mails.dpdk.org (mails.dpdk.org [217.70.189.124]) by inbox.dpdk.org (Postfix) with ESMTP id 5AD5646770 for ; Sat, 17 May 2025 11:55:03 +0200 (CEST) Received: from mails.dpdk.org (localhost [127.0.0.1]) by mails.dpdk.org (Postfix) with ESMTP id 2E5C5402E5; Sat, 17 May 2025 11:55:03 +0200 (CEST) Received: from mail-pg1-f226.google.com (mail-pg1-f226.google.com [209.85.215.226]) by mails.dpdk.org (Postfix) with ESMTP id 25CB7402E0 for ; Sat, 17 May 2025 11:55:01 +0200 (CEST) Received: by mail-pg1-f226.google.com with SMTP id 41be03b00d2f7-879d2e419b9so2592676a12.2 for ; Sat, 17 May 2025 02:55:01 -0700 (PDT) DKIM-Signature: v=1; a=rsa-sha256; c=relaxed/relaxed; d=iol.unh.edu; s=unh-iol; t=1747475700; x=1748080500; darn=dpdk.org; h=references:in-reply-to:cc:to:from:subject:message-id:date:from:to :cc:subject:date:message-id:reply-to; bh=Hjh/+Mb3QS71QPMP+UTuRtVkiFhWkpMvGAzO2jzWFYA=; b=WhECQ0kgpXCdHOYpyLx0Q0mhjx+PXu1XPbu52VRyalph20mR3B0doyH0ifeUdEkAAh Ujgt2yLUXBYcBwYk/KjN252lLxLiZFttJcg9KB2ad/dYlqEltkmzpWf2yUnYEr9khmTS dxGvWSfxGaTYJQG1Qh7juAK0zBT7MOO5NTr8c= X-Google-DKIM-Signature: v=1; a=rsa-sha256; c=relaxed/relaxed; d=1e100.net; s=20230601; t=1747475700; x=1748080500; h=references:in-reply-to:cc:to:from:subject:message-id:date :x-gm-message-state:from:to:cc:subject:date:message-id:reply-to; bh=Hjh/+Mb3QS71QPMP+UTuRtVkiFhWkpMvGAzO2jzWFYA=; b=mslEXzuPQbOMBlEeasFr9DW81+jO7VExtEd4i2EkiN+nAvgF77wZaSjFXx3r7U+SSB 6tq4oqNkNIIKLraGNOQuh1Z7B+BVkh2fUXpNBhKEX8ouNq/V43gDukLgdeIhiKcBZgKr 3xoiqHLn9rNEIf2aoq+JZ2YiFumE2UYuohC3bRZ9s+W0uG/Hh10MmoSwdAJ2jpK6E3YD a4T1/9AMvonV3D/QAckgpn3ATM9+bZwFfldXBsBhpUVpGC53EpAkqPHeUCKDrwoZv6Lu +VI6c74KHmjuqkgYPR4g4sFKfiQU4h9MqQTTEPrnlEPmqcblcPLiiI7dnOpLWzxJUpYC 1xfQ== X-Gm-Message-State: AOJu0YxWwfkT4fxCMoJEQuwAen1tZJjj/3L5q0hnm/6thpYEXa3dppiM wH1wmdutLZ+FiIzHVfnX+EcjhNiTWQfi9UT4lh268IS7xarT0NbujqcyH0A7ev3fjA74yGhc/vw 5pOsUVzVmvYONM6xLgJ0jDArSxpKKalDlpunsduItB2Qg X-Gm-Gg: ASbGncuLd0siXVsKEdVfS95agVz1k+fZa/nG5nxr9o3xnVYzd40U7dOrKmZKx1aX423 bYwmcj7MI+tBVbZ2CKSxsVRCLyJcvV7IdziMtXApiKBfAjf82EGv7my9IxVvwWGCn32s8+kYblY E9zqxv5+MpBv/oyfggHwSScrPavZJxS1+4MV9AdN/w+qFF1ucOYk6efNaaCp9ibLokc8Ldq/KpL zGT+y1Obevues6LnC9OKizQRlO6DpsXEDnupn7Grv674YCXl2eLRoTQZyPBQbpqE3qCTrCF41ZY qF3d/+PEh7o26FOZM0EMiuBd3PHwFchRrBuexm0OWAgA6Ro0+1s8YBikwvw= X-Google-Smtp-Source: AGHT+IFx7YQJHHnCvjMHlyr/xkbLlpnY/QMZzZObDKXjq1VpSRMYVIRA0M96JNiL14HfiAF6d31ffvzP/F1s X-Received: by 2002:a17:902:e74c:b0:231:d0c4:e806 with SMTP id d9443c01a7336-231d459a971mr100659035ad.32.1747475700030; Sat, 17 May 2025 02:55:00 -0700 (PDT) Received: from postal.iol.unh.edu (postal.iol.unh.edu. [132.177.123.84]) by smtp-relay.gmail.com with ESMTPS id d9443c01a7336-231d4ae3926sm2070455ad.60.2025.05.17.02.54.59 (version=TLS1_2 cipher=ECDHE-ECDSA-AES128-GCM-SHA256 bits=128/128); Sat, 17 May 2025 02:55:00 -0700 (PDT) X-Relaying-Domain: iol.unh.edu Date: Sat, 17 May 2025 02:55:00 -0700 (PDT) Message-ID: <68285cf4.170a0220.1418e0.c747SMTPIN_ADDED_MISSING@mx.google.com> Received: from [172.17.0.2] (unknown [172.18.0.76]) by postal.iol.unh.edu (Postfix) with ESMTP id 7A46B6052471; Sat, 17 May 2025 05:54:59 -0400 (EDT) Subject: |SUCCESS| pw153499-153500 [PATCH] [v5,2/2] lib/fib: enable fib to be From: dpdklab@iol.unh.edu To: Test Report Cc: dpdk-test-reports@iol.unh.edu In-Reply-To: <1747428335-3736-3-git-send-email-andremue@linux.microsoft.com> References: <1747428335-3736-3-git-send-email-andremue@linux.microsoft.com> Content-Type: text/plain X-BeenThere: test-report@dpdk.org X-Mailman-Version: 2.1.29 Precedence: list List-Id: automatic DPDK test reports List-Unsubscribe: , List-Archive: List-Post: List-Help: List-Subscribe: , Errors-To: test-report-bounces@dpdk.org Test-Label: iol-unit-amd64-testing Test-Status: SUCCESS http://dpdk.org/patch/153500 _Testing PASS_ Submitter: Andre Muezerie Date: Friday, May 16 2025 20:45:35 DPDK git baseline: Repo:dpdk Branch: master CommitID:117e86c4b96ed761e9a7ab766261208fe81bf5ca 153499-153500 --> testing pass Upstream job id: Generic-VM-Unit-Test-DPDK#28593 Test environment and result as below: +---------------------+----------------+ | Environment | dpdk_unit_test | +=====================+================+ | CentOS Stream 9 | PASS | +---------------------+----------------+ | Debian 12 | PASS | +---------------------+----------------+ | CentOS Stream 10 | PASS | +---------------------+----------------+ | Fedora 40 | PASS | +---------------------+----------------+ | Fedora 40 (Clang) | PASS | +---------------------+----------------+ | Fedora 41 | PASS | +---------------------+----------------+ | Fedora 41 (Clang) | PASS | +---------------------+----------------+ | RHEL9 | PASS | +---------------------+----------------+ | Ubuntu 20.04 | PASS | +---------------------+----------------+ | Ubuntu 24.04 | PASS | +---------------------+----------------+ | RHEL8 | PASS | +---------------------+----------------+ | Ubuntu 22.04 | PASS | +---------------------+----------------+ | Windows Server 2022 | PASS | +---------------------+----------------+ CentOS Stream 9 Kernel: Depends on container host Compiler: gcc 11.5.0 20240719 (Red Hat 11.5.0-2) Debian 12 Kernel: Depends on container host Compiler: gcc (Debian 12.2.0-14) 12.2.0 CentOS Stream 10 Kernel: Depends on container host Compiler: gcc 14.2.1 20241104 (Red Hat 14.2.1-6) Fedora 40 Kernel: Depends on container host Compiler: gcc 14.2.1 20240912 (Red Hat 14.2.1-3) Fedora 40 (Clang) Kernel: Depends on container host Compiler: clang 18.1.8 (Fedora 18.1.8-1.fc40) Fedora 41 Kernel: Depends on container host Compiler: gcc 14.2.1 20240912 (Red Hat 14.2.1-3) Fedora 41 (Clang) Kernel: Depends on container host Compiler: clang 19.1.5 (Fedora 19.1.5-1.fc41) RHEL9 Kernel: Depends on container host Compiler: gcc 11.5.0 20240719 (Red Hat 11.5.0-2) Ubuntu 20.04 Kernel: Depends on container host Compiler: gcc (Ubuntu 9.4.0-1ubuntu1~20.04.2) 9.4.0 Ubuntu 24.04 Kernel: Depends on container host Compiler: gcc (Ubuntu 13.3.0-6ubuntu2~24.04) 13.3.0 RHEL8 Kernel: Depends on container host Compiler: gcc 8.5.0 20210514 (Red Hat 8.5.0-22) Ubuntu 22.04 Kernel: Depends on container host Compiler: gcc (Ubuntu 11.4.0-1ubuntu1~22.04) 11.4.0 Windows Server 2022 Kernel: 10.0.20348.2031 Compiler: clang 15.0.7, gcc 14.1.0 (MinGW), and MSVC VS 19.39.33521 To view detailed results, visit: https://lab.dpdk.org/results/dashboard/patchsets/33198/ UNH-IOL DPDK Community Lab To manage your email subscriptions, visit: https://lab.dpdk.org/results/dashboard/preferences/subscriptions/