From mboxrd@z Thu Jan 1 00:00:00 1970 Return-Path: Received: from mails.dpdk.org (mails.dpdk.org [217.70.189.124]) by inbox.dpdk.org (Postfix) with ESMTP id 46C9046770 for ; Sat, 17 May 2025 11:55:21 +0200 (CEST) Received: from mails.dpdk.org (localhost [127.0.0.1]) by mails.dpdk.org (Postfix) with ESMTP id 42AFF402E5; Sat, 17 May 2025 11:55:21 +0200 (CEST) Received: from mail-pj1-f100.google.com (mail-pj1-f100.google.com [209.85.216.100]) by mails.dpdk.org (Postfix) with ESMTP id B5E1E402E0 for ; Sat, 17 May 2025 11:55:19 +0200 (CEST) Received: by mail-pj1-f100.google.com with SMTP id 98e67ed59e1d1-30e8f4dbb72so1361137a91.1 for ; Sat, 17 May 2025 02:55:19 -0700 (PDT) DKIM-Signature: v=1; a=rsa-sha256; c=relaxed/relaxed; d=iol.unh.edu; s=unh-iol; t=1747475719; x=1748080519; darn=dpdk.org; h=references:in-reply-to:cc:to:from:subject:message-id:date:from:to :cc:subject:date:message-id:reply-to; bh=Yjqi6JZRjqmyQX1CDU6/FulWgLfE8Zte8Ne92S33IyA=; b=S3hw+RAMt95Plo/cteijU2LXWAqCaOMsJPqPgy8+UfLBwNLEBzLb0Y0bBlNgrV/lAD fq14jSRCBJYv1D0cTpSitUZcoepK+kMvKVMPXa19ApbvG2AkJKiRx+Da2NhU+vL2Vdhz 4KNTj2NrHfdfRUAjvBxUExX6f47Ao3S3HQX18= X-Google-DKIM-Signature: v=1; a=rsa-sha256; c=relaxed/relaxed; d=1e100.net; s=20230601; t=1747475719; x=1748080519; h=references:in-reply-to:cc:to:from:subject:message-id:date :x-gm-message-state:from:to:cc:subject:date:message-id:reply-to; bh=Yjqi6JZRjqmyQX1CDU6/FulWgLfE8Zte8Ne92S33IyA=; b=QGEG/oiZlId3wO9qh0WuHtIO0bzPUDgjoilUDsfCHGiItY1b9Lw3WmLuReHnuZuBce nWi85vQOzZXXkt6rG5rPNot1Qad4iF+YhqTh96MdL4m66RJJXb6ZSPQXfmiwN2vskXod sQmtvXNHhuEXXTTN8SkrLNBBR7axpCqoBoTvwGyU66M4i2arQUfCDQg3UhIAKcVjRoRw KQJnxCFokj2t3pi0hThuHpTGsu9vV9OKVefrMB/eHZfQCT+61bNzjovA9UI9ZvEifFQ5 eha7rn1+qjmQl8FQxubtI46Jxy+aorTNrZpTHnYKI211q0mdkWz7Z6HSRG6k9V86857e wKlg== X-Gm-Message-State: AOJu0YxIx4C68llWjIARUM4c14AxVOFfMqp7E0o3FfLxF21X9wf2Moa4 HRVLLu5+fL3SKYOgjJopgXUTuAgp2Oufhzpb6K89acmJUd8AcMIUnxl3sOXHspZQIOD/aVOiGFz PPEAVd4tFjZb7pYd0qNFUwX2FcIN284zRA1cCNh/IoCDefCo4EZtk0T6RoqPn X-Gm-Gg: ASbGncu73CpYd8qW4daXUxmrDFVNs1t52zxCyhPUNtOJrzqU9I8JIZZAFITaYxlEmR5 687FAnG/sHK2uV4POnSWatJILU2sCFI7A2S6/71KZ9oHUk8KCcGnOno+M/onYhVMBJvbLoBXlwI d5ACNeesP7wCoM0lJxLDMRAyRfsWaq6Koo2lDfzkigeE8oYxHeJP3nhzPmqkAf2by/lh6qWk0Lo yqIoPV1CNTA29zF6tCWp+diNYTeCOW4zjEiaWiKsl790KHNjfQ6eO5H7rFJUgm9GS+Fbsbtd/Y2 45HAPjcsSPwNNw5pgJTmezFvaNBoKabGwOU4 X-Google-Smtp-Source: AGHT+IGklok38DbKNn+aUOsgJe3kCcfIC8WXCizIKWwrKagoQTlESTtO0vqkSOXN5bcaofydlW5DIWl57m3G X-Received: by 2002:a17:90b:5407:b0:309:f53c:b0a0 with SMTP id 98e67ed59e1d1-30e83225857mr8183927a91.24.1747475718589; Sat, 17 May 2025 02:55:18 -0700 (PDT) Received: from postal.iol.unh.edu (postal.iol.unh.edu. [2606:4100:3880:1234::84]) by smtp-relay.gmail.com with ESMTPS id 98e67ed59e1d1-30e546f21d0sm330240a91.1.2025.05.17.02.55.18 (version=TLS1_2 cipher=ECDHE-ECDSA-AES128-GCM-SHA256 bits=128/128); Sat, 17 May 2025 02:55:18 -0700 (PDT) X-Relaying-Domain: iol.unh.edu Date: Sat, 17 May 2025 02:55:18 -0700 (PDT) Message-ID: <68285d06.170a0220.353c89.1a29SMTPIN_ADDED_MISSING@mx.google.com> Received: from [172.17.0.3] (unknown [172.18.0.74]) by postal.iol.unh.edu (Postfix) with ESMTP id 14F8F6052471; Sat, 17 May 2025 05:55:18 -0400 (EDT) Subject: |SUCCESS| pw153499-153500 [PATCH] [v5,2/2] lib/fib: enable fib to be From: dpdklab@iol.unh.edu To: Test Report Cc: dpdk-test-reports@iol.unh.edu In-Reply-To: <1747428335-3736-3-git-send-email-andremue@linux.microsoft.com> References: <1747428335-3736-3-git-send-email-andremue@linux.microsoft.com> Content-Type: text/plain X-BeenThere: test-report@dpdk.org X-Mailman-Version: 2.1.29 Precedence: list List-Id: automatic DPDK test reports List-Unsubscribe: , List-Archive: List-Post: List-Help: List-Subscribe: , Errors-To: test-report-bounces@dpdk.org Test-Label: iol-compile-amd64-testing Test-Status: SUCCESS http://dpdk.org/patch/153500 _Testing PASS_ Submitter: Andre Muezerie Date: Friday, May 16 2025 20:45:35 DPDK git baseline: Repo:dpdk Branch: master CommitID:117e86c4b96ed761e9a7ab766261208fe81bf5ca 153499-153500 --> testing pass Upstream job id: Generic-DPDK-Compile-Meson#389016 Test environment and result as below: +-----------------------------------+--------------------+-------------------+------------------+-------------------------+-------------------+ | Environment | dpdk_meson_compile | dpdk_compile_spdk | dpdk_compile_ovs | dpdk_llvm_clang_compile | dpdk_msvc_compile | +===================================+====================+===================+==================+=========================+===================+ | CentOS Stream 9 | PASS | PASS | SKIPPED | SKIPPED | SKIPPED | +-----------------------------------+--------------------+-------------------+------------------+-------------------------+-------------------+ | Fedora 40 (Clang) | PASS | PASS | SKIPPED | SKIPPED | SKIPPED | +-----------------------------------+--------------------+-------------------+------------------+-------------------------+-------------------+ | Fedora 41 (Clang) | PASS | PASS | PASS | SKIPPED | SKIPPED | +-----------------------------------+--------------------+-------------------+------------------+-------------------------+-------------------+ | Debian 12 | PASS | PASS | SKIPPED | SKIPPED | SKIPPED | +-----------------------------------+--------------------+-------------------+------------------+-------------------------+-------------------+ | RHEL8 | PASS | SKIPPED | SKIPPED | SKIPPED | SKIPPED | +-----------------------------------+--------------------+-------------------+------------------+-------------------------+-------------------+ | openSUSE Leap 15 | PASS | SKIPPED | SKIPPED | SKIPPED | SKIPPED | +-----------------------------------+--------------------+-------------------+------------------+-------------------------+-------------------+ | Fedora 41 | PASS | PASS | PASS | SKIPPED | SKIPPED | +-----------------------------------+--------------------+-------------------+------------------+-------------------------+-------------------+ | Ubuntu 20.04 | PASS | SKIPPED | SKIPPED | SKIPPED | SKIPPED | +-----------------------------------+--------------------+-------------------+------------------+-------------------------+-------------------+ | RHEL9 | PASS | SKIPPED | SKIPPED | SKIPPED | SKIPPED | +-----------------------------------+--------------------+-------------------+------------------+-------------------------+-------------------+ | Ubuntu 22.04 | PASS | PASS | SKIPPED | SKIPPED | SKIPPED | +-----------------------------------+--------------------+-------------------+------------------+-------------------------+-------------------+ | Ubuntu 24.04 | PASS | PASS | PASS | SKIPPED | SKIPPED | +-----------------------------------+--------------------+-------------------+------------------+-------------------------+-------------------+ | Alpine | PASS | SKIPPED | SKIPPED | SKIPPED | SKIPPED | +-----------------------------------+--------------------+-------------------+------------------+-------------------------+-------------------+ | FreeBSD 13.5 | PASS | SKIPPED | SKIPPED | SKIPPED | SKIPPED | +-----------------------------------+--------------------+-------------------+------------------+-------------------------+-------------------+ | Ubuntu 24.04 32 Bit Cross Compile | PASS | SKIPPED | SKIPPED | SKIPPED | SKIPPED | +-----------------------------------+--------------------+-------------------+------------------+-------------------------+-------------------+ | FreeBSD 14.2 | PASS | SKIPPED | SKIPPED | SKIPPED | SKIPPED | +-----------------------------------+--------------------+-------------------+------------------+-------------------------+-------------------+ | Fedora 40 | PASS | PASS | SKIPPED | SKIPPED | SKIPPED | +-----------------------------------+--------------------+-------------------+------------------+-------------------------+-------------------+ | CentOS Stream 10 | PASS | SKIPPED | SKIPPED | SKIPPED | SKIPPED | +-----------------------------------+--------------------+-------------------+------------------+-------------------------+-------------------+ | Windows Server 2022 | SKIPPED | SKIPPED | SKIPPED | PASS | PASS | +-----------------------------------+--------------------+-------------------+------------------+-------------------------+-------------------+ CentOS Stream 9 Kernel: Depends on container host Compiler: gcc 11.5.0 20240719 (Red Hat 11.5.0-2) Fedora 40 (Clang) Kernel: Depends on container host Compiler: clang 18.1.8 (Fedora 18.1.8-1.fc40) Fedora 41 (Clang) Kernel: Depends on container host Compiler: clang 19.1.5 (Fedora 19.1.5-1.fc41) Debian 12 Kernel: Depends on container host Compiler: gcc (Debian 12.2.0-14) 12.2.0 RHEL8 Kernel: Depends on container host Compiler: gcc 8.5.0 20210514 (Red Hat 8.5.0-22) openSUSE Leap 15 Kernel: Depends on container host Compiler: gcc (SUSE Linux) 7.5.0 Fedora 41 Kernel: Depends on container host Compiler: gcc 14.2.1 20240912 (Red Hat 14.2.1-3) Ubuntu 20.04 Kernel: Depends on container host Compiler: gcc (Ubuntu 9.4.0-1ubuntu1~20.04.2) 9.4.0 RHEL9 Kernel: Depends on container host Compiler: gcc 11.5.0 20240719 (Red Hat 11.5.0-2) Ubuntu 22.04 Kernel: Depends on container host Compiler: gcc (Ubuntu 11.4.0-1ubuntu1~22.04) 11.4.0 Ubuntu 24.04 Kernel: Depends on container host Compiler: gcc (Ubuntu 13.3.0-6ubuntu2~24.04) 13.3.0 Alpine Kernel: Depends on container host Compiler: gcc (Alpine 14.2.0) 14.2.0 FreeBSD 13.5 Kernel: 13.5-RELEASE Compiler: clang 19.1.7 Ubuntu 24.04 32 Bit Cross Compile Kernel: Depends on container host Compiler: gcc (Ubuntu 13.3.0-6ubuntu2~24.04) 13.3.0 FreeBSD 14.2 Kernel: 14.2-RELEASE Compiler: clang 18.1.6 Fedora 40 Kernel: Depends on container host Compiler: gcc 14.2.1 20240912 (Red Hat 14.2.1-3) CentOS Stream 10 Kernel: Depends on container host Compiler: gcc 14.2.1 20241104 (Red Hat 14.2.1-6) Windows Server 2022 Kernel: 10.0.20348.2031 Compiler: clang 15.0.7, gcc 14.1.0 (MinGW), and MSVC VS 19.39.33521 To view detailed results, visit: https://lab.dpdk.org/results/dashboard/patchsets/33198/ UNH-IOL DPDK Community Lab To manage your email subscriptions, visit: https://lab.dpdk.org/results/dashboard/preferences/subscriptions/