From mboxrd@z Thu Jan 1 00:00:00 1970 Return-Path: Received: from mails.dpdk.org (mails.dpdk.org [217.70.189.124]) by inbox.dpdk.org (Postfix) with ESMTP id 7B42646771 for ; Sat, 17 May 2025 12:03:00 +0200 (CEST) Received: from mails.dpdk.org (localhost [127.0.0.1]) by mails.dpdk.org (Postfix) with ESMTP id 6392A402E5; Sat, 17 May 2025 12:03:00 +0200 (CEST) Received: from mail-yb1-f225.google.com (mail-yb1-f225.google.com [209.85.219.225]) by mails.dpdk.org (Postfix) with ESMTP id C00B2402E0 for ; Sat, 17 May 2025 12:02:59 +0200 (CEST) Received: by mail-yb1-f225.google.com with SMTP id 3f1490d57ef6-e7b811be778so1169837276.2 for ; Sat, 17 May 2025 03:02:59 -0700 (PDT) DKIM-Signature: v=1; a=rsa-sha256; c=relaxed/relaxed; d=iol.unh.edu; s=unh-iol; t=1747476179; x=1748080979; darn=dpdk.org; h=references:in-reply-to:cc:to:from:subject:message-id:date:from:to :cc:subject:date:message-id:reply-to; bh=R/PW8k66JsUit/PMjcT/WmeVjTDWlA+uwnoU8oqchFc=; b=UoGt8d02clbaCyrtuLl3GRHGHfL9BrY370Xl8lbssf3w2ii8KK7K0dN972XG53oJIf Uo0UllSa1lkwRl8t/r2YFt+/Q/x4ZHCMHSG0tqe2UDFAI17NRQbdpsQ9gBRQ5AXiuHty nVl/lEFTxr6gu0ozzkUg5QbJukfFukr9/oMtA= X-Google-DKIM-Signature: v=1; a=rsa-sha256; c=relaxed/relaxed; d=1e100.net; s=20230601; t=1747476179; x=1748080979; h=references:in-reply-to:cc:to:from:subject:message-id:date :x-gm-message-state:from:to:cc:subject:date:message-id:reply-to; bh=R/PW8k66JsUit/PMjcT/WmeVjTDWlA+uwnoU8oqchFc=; b=J0sVBC2K3yo4ui0hRcnapwVbjnefv+o55tO3ruQf2FCRCg2HuMNRMf7SIjH2I05UTR dWkUa6dx1f9avnJQnIJujkjSn0IgcWxJEVIgQn9CJunNcJv48ade0w9JAx42enGr/afX rx4eTrMvfAGwVAKAD8CJmnSCKBmr6+h2oD11pxaqQIKSFcH01TSrRgQwTMEdUrFWDhja JMz5gVtKhhQPjY8rqujo+wYrKViTyr1qMi4SMwRb5d8g4nCndD0btBfLTljZb3IHAxAl yryRgw+yeJsQTwopTURjgZDtbLWJsZ0M1XOpFv9PF3Lq/shBhL+57x2vx2mmNhsJywvu TSjA== X-Gm-Message-State: AOJu0Yy/7Ip6piyTpq82WffHE3S9pODyV0TrHtPDQkU7w73b19rg0neT ezqcpyOuoBgiamZwWbgMCpNa2ynr73QEMksORfHggx4/yjcQvh/XB55SJxZESaNXtdbiBFeV6X2 xTfselhsLcw9k5mPa/3IiTbcpL0bDS9Y56xr95uwmPY+o X-Gm-Gg: ASbGnctSp6aogC3Ml00XIz42v8BFkqwUisjoDSB10hnn7YQlqCTRn2cs8zubwf9Ys2X u0pBK8SEUFzT6XbhTOw/JfdDPz5e5XnXYQKZKxUA5nOnH5AuSAZmwwQ150Dv7kR0a0I/mVXLDlW K47h4OLNtha+TTrLiPSmfhp5L8zRPy1Yjfaq9O2ii8kjWWjL9sWOZre6VLRXytrlILDeNQMgRJ+ iwf8KL78x9341IIUYWw80JuZrSc+X1gzpim/x9PQxwZZRsn8eiHQaPHV8u4JONmqKozuZmG6+cU XHoqmLrxvkkn7TPRMR/ICq/MRatd+qdu1SM+2v4AfFce4QEwz2vaAXka3v8= X-Google-Smtp-Source: AGHT+IEVQmm3g/ZQEzgWVUIiZgkaUUX7mG2E5VI2tgaQL8Djf3EEwRshkoyhfKD2Uj3bUWmg7SUftI+C9hf9 X-Received: by 2002:a05:6902:2401:b0:e7a:b192:e5c2 with SMTP id 3f1490d57ef6-e7b6a0a013fmr8347614276.19.1747476179076; Sat, 17 May 2025 03:02:59 -0700 (PDT) Received: from postal.iol.unh.edu (postal.iol.unh.edu. [132.177.123.84]) by smtp-relay.gmail.com with ESMTPS id 3f1490d57ef6-e7b6acafa53sm168818276.6.2025.05.17.03.02.58 (version=TLS1_2 cipher=ECDHE-ECDSA-AES128-GCM-SHA256 bits=128/128); Sat, 17 May 2025 03:02:59 -0700 (PDT) X-Relaying-Domain: iol.unh.edu Date: Sat, 17 May 2025 03:02:59 -0700 (PDT) Message-ID: <68285ed3.250a0220.305ca0.9bbcSMTPIN_ADDED_MISSING@mx.google.com> Received: from [172.17.0.2] (unknown [172.18.0.75]) by postal.iol.unh.edu (Postfix) with ESMTP id A663F6052471; Sat, 17 May 2025 06:02:58 -0400 (EDT) Subject: |SUCCESS| pw153499-153500 [PATCH] [v5,2/2] lib/fib: enable fib to be From: dpdklab@iol.unh.edu To: Test Report Cc: dpdk-test-reports@iol.unh.edu In-Reply-To: <1747428335-3736-3-git-send-email-andremue@linux.microsoft.com> References: <1747428335-3736-3-git-send-email-andremue@linux.microsoft.com> Content-Type: text/plain X-BeenThere: test-report@dpdk.org X-Mailman-Version: 2.1.29 Precedence: list List-Id: automatic DPDK test reports List-Unsubscribe: , List-Archive: List-Post: List-Help: List-Subscribe: , Errors-To: test-report-bounces@dpdk.org Test-Label: iol-compile-amd64-testing Test-Status: SUCCESS http://dpdk.org/patch/153500 _Testing PASS_ Submitter: Andre Muezerie Date: Friday, May 16 2025 20:45:35 DPDK git baseline: Repo:dpdk Branch: master CommitID:117e86c4b96ed761e9a7ab766261208fe81bf5ca 153499-153500 --> testing pass Upstream job id: Windows-Compile-DPDK-Native#28467 Test environment and result as below: +-----------------------------------+--------------------+-------------------+------------------+-------------------------+-------------------+----------------------+ | Environment | dpdk_meson_compile | dpdk_compile_spdk | dpdk_compile_ovs | dpdk_llvm_clang_compile | dpdk_msvc_compile | dpdk_mingw64_compile | +===================================+====================+===================+==================+=========================+===================+======================+ | CentOS Stream 9 | PASS | PASS | SKIPPED | SKIPPED | SKIPPED | SKIPPED | +-----------------------------------+--------------------+-------------------+------------------+-------------------------+-------------------+----------------------+ | Fedora 40 (Clang) | PASS | PASS | SKIPPED | SKIPPED | SKIPPED | SKIPPED | +-----------------------------------+--------------------+-------------------+------------------+-------------------------+-------------------+----------------------+ | Fedora 41 (Clang) | PASS | PASS | PASS | SKIPPED | SKIPPED | SKIPPED | +-----------------------------------+--------------------+-------------------+------------------+-------------------------+-------------------+----------------------+ | Debian 12 | PASS | PASS | SKIPPED | SKIPPED | SKIPPED | SKIPPED | +-----------------------------------+--------------------+-------------------+------------------+-------------------------+-------------------+----------------------+ | RHEL8 | PASS | SKIPPED | SKIPPED | SKIPPED | SKIPPED | SKIPPED | +-----------------------------------+--------------------+-------------------+------------------+-------------------------+-------------------+----------------------+ | openSUSE Leap 15 | PASS | SKIPPED | SKIPPED | SKIPPED | SKIPPED | SKIPPED | +-----------------------------------+--------------------+-------------------+------------------+-------------------------+-------------------+----------------------+ | Fedora 41 | PASS | PASS | PASS | SKIPPED | SKIPPED | SKIPPED | +-----------------------------------+--------------------+-------------------+------------------+-------------------------+-------------------+----------------------+ | Ubuntu 20.04 | PASS | SKIPPED | SKIPPED | SKIPPED | SKIPPED | SKIPPED | +-----------------------------------+--------------------+-------------------+------------------+-------------------------+-------------------+----------------------+ | RHEL9 | PASS | SKIPPED | SKIPPED | SKIPPED | SKIPPED | SKIPPED | +-----------------------------------+--------------------+-------------------+------------------+-------------------------+-------------------+----------------------+ | Ubuntu 22.04 | PASS | PASS | SKIPPED | SKIPPED | SKIPPED | SKIPPED | +-----------------------------------+--------------------+-------------------+------------------+-------------------------+-------------------+----------------------+ | Ubuntu 24.04 | PASS | PASS | PASS | SKIPPED | SKIPPED | SKIPPED | +-----------------------------------+--------------------+-------------------+------------------+-------------------------+-------------------+----------------------+ | Alpine | PASS | SKIPPED | SKIPPED | SKIPPED | SKIPPED | SKIPPED | +-----------------------------------+--------------------+-------------------+------------------+-------------------------+-------------------+----------------------+ | FreeBSD 13.5 | PASS | SKIPPED | SKIPPED | SKIPPED | SKIPPED | SKIPPED | +-----------------------------------+--------------------+-------------------+------------------+-------------------------+-------------------+----------------------+ | Ubuntu 24.04 32 Bit Cross Compile | PASS | SKIPPED | SKIPPED | SKIPPED | SKIPPED | SKIPPED | +-----------------------------------+--------------------+-------------------+------------------+-------------------------+-------------------+----------------------+ | FreeBSD 14.2 | PASS | SKIPPED | SKIPPED | SKIPPED | SKIPPED | SKIPPED | +-----------------------------------+--------------------+-------------------+------------------+-------------------------+-------------------+----------------------+ | Fedora 40 | PASS | PASS | SKIPPED | SKIPPED | SKIPPED | SKIPPED | +-----------------------------------+--------------------+-------------------+------------------+-------------------------+-------------------+----------------------+ | CentOS Stream 10 | PASS | SKIPPED | SKIPPED | SKIPPED | SKIPPED | SKIPPED | +-----------------------------------+--------------------+-------------------+------------------+-------------------------+-------------------+----------------------+ | Windows Server 2022 | SKIPPED | SKIPPED | SKIPPED | PASS | PASS | PASS | +-----------------------------------+--------------------+-------------------+------------------+-------------------------+-------------------+----------------------+ CentOS Stream 9 Kernel: Depends on container host Compiler: gcc 11.5.0 20240719 (Red Hat 11.5.0-2) Fedora 40 (Clang) Kernel: Depends on container host Compiler: clang 18.1.8 (Fedora 18.1.8-1.fc40) Fedora 41 (Clang) Kernel: Depends on container host Compiler: clang 19.1.5 (Fedora 19.1.5-1.fc41) Debian 12 Kernel: Depends on container host Compiler: gcc (Debian 12.2.0-14) 12.2.0 RHEL8 Kernel: Depends on container host Compiler: gcc 8.5.0 20210514 (Red Hat 8.5.0-22) openSUSE Leap 15 Kernel: Depends on container host Compiler: gcc (SUSE Linux) 7.5.0 Fedora 41 Kernel: Depends on container host Compiler: gcc 14.2.1 20240912 (Red Hat 14.2.1-3) Ubuntu 20.04 Kernel: Depends on container host Compiler: gcc (Ubuntu 9.4.0-1ubuntu1~20.04.2) 9.4.0 RHEL9 Kernel: Depends on container host Compiler: gcc 11.5.0 20240719 (Red Hat 11.5.0-2) Ubuntu 22.04 Kernel: Depends on container host Compiler: gcc (Ubuntu 11.4.0-1ubuntu1~22.04) 11.4.0 Ubuntu 24.04 Kernel: Depends on container host Compiler: gcc (Ubuntu 13.3.0-6ubuntu2~24.04) 13.3.0 Alpine Kernel: Depends on container host Compiler: gcc (Alpine 14.2.0) 14.2.0 FreeBSD 13.5 Kernel: 13.5-RELEASE Compiler: clang 19.1.7 Ubuntu 24.04 32 Bit Cross Compile Kernel: Depends on container host Compiler: gcc (Ubuntu 13.3.0-6ubuntu2~24.04) 13.3.0 FreeBSD 14.2 Kernel: 14.2-RELEASE Compiler: clang 18.1.6 Fedora 40 Kernel: Depends on container host Compiler: gcc 14.2.1 20240912 (Red Hat 14.2.1-3) CentOS Stream 10 Kernel: Depends on container host Compiler: gcc 14.2.1 20241104 (Red Hat 14.2.1-6) Windows Server 2022 Kernel: 10.0.20348.2031 Compiler: clang 15.0.7, gcc 14.1.0 (MinGW), and MSVC VS 19.39.33521 To view detailed results, visit: https://lab.dpdk.org/results/dashboard/patchsets/33198/ UNH-IOL DPDK Community Lab To manage your email subscriptions, visit: https://lab.dpdk.org/results/dashboard/preferences/subscriptions/