From mboxrd@z Thu Jan 1 00:00:00 1970 Return-Path: Received: from mails.dpdk.org (mails.dpdk.org [217.70.189.124]) by inbox.dpdk.org (Postfix) with ESMTP id EC5B846771 for ; Sat, 17 May 2025 12:07:40 +0200 (CEST) Received: from mails.dpdk.org (localhost [127.0.0.1]) by mails.dpdk.org (Postfix) with ESMTP id C988E402E5; Sat, 17 May 2025 12:07:40 +0200 (CEST) Received: from mail-il1-f226.google.com (mail-il1-f226.google.com [209.85.166.226]) by mails.dpdk.org (Postfix) with ESMTP id 9B55E402E0 for ; Sat, 17 May 2025 12:07:39 +0200 (CEST) Received: by mail-il1-f226.google.com with SMTP id e9e14a558f8ab-3da73e9cf17so24039315ab.2 for ; Sat, 17 May 2025 03:07:39 -0700 (PDT) DKIM-Signature: v=1; a=rsa-sha256; c=relaxed/relaxed; d=iol.unh.edu; s=unh-iol; t=1747476459; x=1748081259; darn=dpdk.org; h=references:in-reply-to:cc:to:from:subject:message-id:date:from:to :cc:subject:date:message-id:reply-to; bh=6bmRJoBfRD4pbgy1ZfR6DV5XvrzcWpIsC5dKkA7MxnY=; b=S4SQKdGBr8B0RRO1ZNsWSmZN7mBfdA37Qwbk7nALdsTj8I2hUt3uL8n6vGctzgKZa9 YdGVjH4MTDqZdxFOMHPCgmpzPWlEifGZfFUDfX6R7WY4iVmDJt6rMPGJokBe1gSypcKH BWwQy1ySX5v2vv0hWGkybn76ncX9VwGudg1Qs= X-Google-DKIM-Signature: v=1; a=rsa-sha256; c=relaxed/relaxed; d=1e100.net; s=20230601; t=1747476459; x=1748081259; h=references:in-reply-to:cc:to:from:subject:message-id:date :x-gm-message-state:from:to:cc:subject:date:message-id:reply-to; bh=6bmRJoBfRD4pbgy1ZfR6DV5XvrzcWpIsC5dKkA7MxnY=; b=QDrsn1uI1rKEln2oEqyPR5thfscKkuxRsPR2V497vk7aAt0+otalntH0TypcZ78vVs iAZGU8bxKjTUCwao4Ag9MRMD9rHFj8Wdah+6/hxZJC8SqmSbesPxeo/murNhjI+Th61G ddUfIREgy6liJwtl9lhdY+BKPba6zwvgYb7Zm08wYdHdiwoHc0lnpFhCBMri73sHHgDl fvxoAbsbeifA+s5SNztgvfoZ1AOjGUKjRFb7YXrpFi+1V/9CiXHb+dqJBS9pmczN60BY E7RL5eTP8KmBdiLYAh7NksWBFi9LA5zrba6xmPy/4lzmav9WhBuB842a3kJLSBzhEuCC rU3g== X-Gm-Message-State: AOJu0YxNIXMGehGYg8fl3ifsHRHT8vVIer6HIiNG/mwPOeUbK5DsYpgw dYx27Sgq69Kdabmyrqh2WPaFCtu7U4gosCghm2J9b2gFen0Wri8EO0egUBbsapPJDUcktUIxYjh Tu5pEjwY403KHmO1Wf3/vstXgKLnAOD9ozmJM8rUeRafGaI4YDTv2tPf0XVSc X-Gm-Gg: ASbGncuzs0SRMuKDumeuuZjnQgQhUG2JzvJr48cGG0Tcm+hhR+DqV9PYRxPDRwGvyNB 7HGUv2MY9g7UwZOpr+PLO8PWhohQuq6VfwH+1jISnFgbhlvAzkerRq6yXjy81uMSolCY1hTfp+v +aB4UauDdqPcE4YKiv3ztZh8M4ffwZHFlwJHYa0rVwMFyLcg26jJoBTrk4sM3Y75cYScmePWHia LNMVsNDlN913vdvtXtf46C4QMbsQLa9z/yth6QebeSUwmXGdh4EQl3jVeQIr5p5nuIT+XfY2hdd cT9UT1PqwtSwCYeo2GP/1g+KuOi8HEwGQyiz X-Google-Smtp-Source: AGHT+IFK+iQcMHaRJWEneJc/DPPKCh5FtGcUOh0uTP5giN3FZH5FxK46Tap489gj4jF2FeTxibStBDUaSMB/ X-Received: by 2002:a05:6e02:351d:b0:3db:7265:622f with SMTP id e9e14a558f8ab-3db8433235amr79244795ab.21.1747476458858; Sat, 17 May 2025 03:07:38 -0700 (PDT) Received: from postal.iol.unh.edu (postal.iol.unh.edu. [2606:4100:3880:1234::84]) by smtp-relay.gmail.com with ESMTPS id e9e14a558f8ab-3db8449c0a4sm1521795ab.56.2025.05.17.03.07.38 (version=TLS1_2 cipher=ECDHE-ECDSA-AES128-GCM-SHA256 bits=128/128); Sat, 17 May 2025 03:07:38 -0700 (PDT) X-Relaying-Domain: iol.unh.edu Date: Sat, 17 May 2025 03:07:38 -0700 (PDT) Message-ID: <68285fea.050a0220.1a57d0.8db5SMTPIN_ADDED_MISSING@mx.google.com> Received: from [172.17.0.4] (unknown [172.18.0.74]) by postal.iol.unh.edu (Postfix) with ESMTP id 7B6976052471; Sat, 17 May 2025 06:07:38 -0400 (EDT) Subject: |SUCCESS| pw153499-153500 [PATCH] [v5,2/2] lib/fib: enable fib to be From: dpdklab@iol.unh.edu To: Test Report Cc: dpdk-test-reports@iol.unh.edu In-Reply-To: <1747428335-3736-3-git-send-email-andremue@linux.microsoft.com> References: <1747428335-3736-3-git-send-email-andremue@linux.microsoft.com> Content-Type: text/plain X-BeenThere: test-report@dpdk.org X-Mailman-Version: 2.1.29 Precedence: list List-Id: automatic DPDK test reports List-Unsubscribe: , List-Archive: List-Post: List-Help: List-Subscribe: , Errors-To: test-report-bounces@dpdk.org Test-Label: iol-unit-arm64-testing Test-Status: SUCCESS http://dpdk.org/patch/153500 _Testing PASS_ Submitter: Andre Muezerie Date: Friday, May 16 2025 20:45:35 DPDK git baseline: Repo:dpdk Branch: master CommitID:117e86c4b96ed761e9a7ab766261208fe81bf5ca 153499-153500 --> testing pass Upstream job id: Generic-Unit-Test-DPDK#338731 Test environment and result as below: +-----------------------------+--------------+---------------------------+------------------------------+----------------+ | Environment | lpm_autotest | cryptodev_sw_zuc_autotest | cryptodev_sw_snow3g_autotest | dpdk_unit_test | +=============================+==============+===========================+==============================+================+ | Ubuntu 20.04 ARM SVE | PASS | SKIPPED | SKIPPED | SKIPPED | +-----------------------------+--------------+---------------------------+------------------------------+----------------+ | Debian 12 (arm) | SKIPPED | PASS | PASS | PASS | +-----------------------------+--------------+---------------------------+------------------------------+----------------+ | CentOS Stream 9 (ARM) | SKIPPED | SKIPPED | SKIPPED | PASS | +-----------------------------+--------------+---------------------------+------------------------------+----------------+ | CentOS Stream 10 (ARM) | SKIPPED | SKIPPED | SKIPPED | PASS | +-----------------------------+--------------+---------------------------+------------------------------+----------------+ | Fedora 40 (ARM) | SKIPPED | SKIPPED | SKIPPED | PASS | +-----------------------------+--------------+---------------------------+------------------------------+----------------+ | Fedora 41 (ARM) | SKIPPED | SKIPPED | SKIPPED | PASS | +-----------------------------+--------------+---------------------------+------------------------------+----------------+ | Ubuntu 20.04 (ARM) | SKIPPED | SKIPPED | SKIPPED | PASS | +-----------------------------+--------------+---------------------------+------------------------------+----------------+ | Fedora 40 (ARM Clang) | SKIPPED | SKIPPED | SKIPPED | PASS | +-----------------------------+--------------+---------------------------+------------------------------+----------------+ | Fedora 41 (ARM Clang) | SKIPPED | SKIPPED | SKIPPED | PASS | +-----------------------------+--------------+---------------------------+------------------------------+----------------+ | RHEL9 (ARM) | SKIPPED | SKIPPED | SKIPPED | PASS | +-----------------------------+--------------+---------------------------+------------------------------+----------------+ | Ubuntu 24.04 (ARM) | SKIPPED | SKIPPED | SKIPPED | PASS | +-----------------------------+--------------+---------------------------+------------------------------+----------------+ | Ubuntu 22.04 (ARM) | SKIPPED | SKIPPED | SKIPPED | PASS | +-----------------------------+--------------+---------------------------+------------------------------+----------------+ | 32-bit Ubuntu 22.04.4 (ARM) | SKIPPED | SKIPPED | SKIPPED | PASS | +-----------------------------+--------------+---------------------------+------------------------------+----------------+ Ubuntu 20.04 ARM SVE Kernel: Depends on container host Compiler: gcc (Ubuntu 10.5.0-1ubuntu1~20.04) 10.5.0 Debian 12 (arm) Kernel: Depends on container host Compiler: gcc (Debian 12.2.0-14) 12.2.0 CentOS Stream 9 (ARM) Kernel: Depends on container host Compiler: gcc 11.5.0 20240719 (Red Hat 11.5.0-2) CentOS Stream 10 (ARM) Kernel: Depends on container host Compiler: gcc 14.2.1 20241104 (Red Hat 14.2.1-6) Fedora 40 (ARM) Kernel: Depends on container host Compiler: gcc 14.2.1 20240912 (Red Hat 14.2.1-3) Fedora 41 (ARM) Kernel: Depends on container host Compiler: gcc 14.2.1 20240912 (Red Hat 14.2.1-3) Ubuntu 20.04 (ARM) Kernel: Depends on container host Compiler: gcc (Ubuntu 9.4.0-1ubuntu1~20.04.2) 9.4.0 Fedora 40 (ARM Clang) Kernel: Depends on container host Compiler: clang 18.1.8 (Fedora 18.1.8-1.fc40) Fedora 41 (ARM Clang) Kernel: Depends on container host Compiler: clang 19.1.5 (Fedora 19.1.5-1.fc41) RHEL9 (ARM) Kernel: Depends on container host Compiler: gcc 11.5.0 20240719 (Red Hat 11.5.0-2) Ubuntu 24.04 (ARM) Kernel: Depends on container host Compiler: gcc (Ubuntu 13.3.0-6ubuntu2~24.04) 13.3.0 Ubuntu 22.04 (ARM) Kernel: Depends on container host Compiler: gcc (Ubuntu 11.4.0-1ubuntu1~22.04) 11.4.0 32-bit Ubuntu 22.04.4 (ARM) Kernel: 5.15.83+ aarch64 Compiler: gcc (Ubuntu 11.4.0-1ubuntu1~22.04) 11.4.0 To view detailed results, visit: https://lab.dpdk.org/results/dashboard/patchsets/33198/ UNH-IOL DPDK Community Lab To manage your email subscriptions, visit: https://lab.dpdk.org/results/dashboard/preferences/subscriptions/