From mboxrd@z Thu Jan 1 00:00:00 1970 Return-Path: Received: from mails.dpdk.org (mails.dpdk.org [217.70.189.124]) by inbox.dpdk.org (Postfix) with ESMTP id 81D7446771 for ; Sat, 17 May 2025 13:00:44 +0200 (CEST) Received: from mails.dpdk.org (localhost [127.0.0.1]) by mails.dpdk.org (Postfix) with ESMTP id 6F2E14042F; Sat, 17 May 2025 13:00:44 +0200 (CEST) Received: from mail-pf1-f225.google.com (mail-pf1-f225.google.com [209.85.210.225]) by mails.dpdk.org (Postfix) with ESMTP id 4637E402E5 for ; Sat, 17 May 2025 13:00:43 +0200 (CEST) Received: by mail-pf1-f225.google.com with SMTP id d2e1a72fcca58-742c035f2afso86679b3a.2 for ; Sat, 17 May 2025 04:00:43 -0700 (PDT) DKIM-Signature: v=1; a=rsa-sha256; c=relaxed/relaxed; d=iol.unh.edu; s=unh-iol; t=1747479642; x=1748084442; darn=dpdk.org; h=references:in-reply-to:cc:to:from:subject:message-id:date:from:to :cc:subject:date:message-id:reply-to; bh=UH7XcTJClgq85DOMl1E/+u/p0WAEwJK0XmU6zDhDGp4=; b=fIeNCyojBzdhUuAaBZLFs+N/RhpscPrHfw5dZ7E9HHycyMZECkEgNP14ESU4staows AbcjeX9bhnhAS2qd+QBv8sY4EXTogzPv6zS4epv66S4Y6vQDhPS3ygabpC+/wHjzoQZK baIdhxuoSNzYu3SEgikkz2IsQJeYLZE0tOHD0= X-Google-DKIM-Signature: v=1; a=rsa-sha256; c=relaxed/relaxed; d=1e100.net; s=20230601; t=1747479642; x=1748084442; h=references:in-reply-to:cc:to:from:subject:message-id:date :x-gm-message-state:from:to:cc:subject:date:message-id:reply-to; bh=UH7XcTJClgq85DOMl1E/+u/p0WAEwJK0XmU6zDhDGp4=; b=mfwtA+nTZVOZKtTdAUFEfN1ov2wVn3siaaHes50KNn/yZOlUb3fB9MeI1B+Mhllrda Z3miLNb+J+jU1/I/RwVm9bbYxh+fVPpCxVVFYLBPYXAtH5MgH3wORC3usJfeLI07w9u7 gqwqzq2z/34v2+tvaLFgpI4nGKPof6w+d3lKEhK8sSchaAlYhiO4mbWndkdBG4efO0j7 iLao3u4dThlnH1phR/9B+aalkNA7zT+rlxR29QGePy1yc1In+gJYK22KTw4paIJ0yZcC WCmnyw4SSfuAlQoaGnx3sLxwr+w8+gp9h0aOGgxAxmmaF2hIlXk6sM62knSO0KJSgk5u hIow== X-Gm-Message-State: AOJu0YxFbJ+eeRexwPPpkJ9EdDZRTEg0X8UNtJgyOpuItZ4GD50TI82k xSeWNG4hvSroAVq8m5ww2iaaWHsTiFBnbEarjyLbmTAski3Rqx8CzeYBP5DL0Vebx/q06IJgpxe sckAGotwbhSfRtgIshhy2z9aLP2RIcDTMJtluG63XNZ5vi34OR4Qyd5viFyjA X-Gm-Gg: ASbGncvl7sOqzeyfwnaYmIssSrMbH5Sc27Ugej3f778BM84TELlWaPw6Hu4RzszC93p vpqEA0vAcVs5k81vbNnyNqf0mWEGk9j8qeZCv+DIbFQb9ByodQhwgq/yF52VgEkDVSRa2Fpkmme qConBbe90CJQN8o9Y/rnMBfIq8GyWxW7eAzWLIwr1c0ZHrvX9gLe4QMog2QH3S8h0t68Lj6xKWu Cu7rKES2DfkZB3fF4lWyyFI99oDaZH8it4cxdQUbNpH2xjMHV1U1gCsrDX9AfRlPhDpUaV3Q4cr 0/5IiTW3eV8rZHofRrv62E7pmvEZGnNRYA8w X-Google-Smtp-Source: AGHT+IGYwgEvLD85zP7zV3F/hN9TodZzfbAlHWvSrQ/YlIHT6ZKF6gaSoJHZ7PxERcVlVWIy3bv4bvrMlYcq X-Received: by 2002:a05:6a21:33a5:b0:1fe:6bbf:af22 with SMTP id adf61e73a8af0-21621875a3dmr9739681637.1.1747479642340; Sat, 17 May 2025 04:00:42 -0700 (PDT) Received: from postal.iol.unh.edu (postal.iol.unh.edu. [2606:4100:3880:1234::84]) by smtp-relay.gmail.com with ESMTPS id 41be03b00d2f7-b26eafb19b4sm234660a12.15.2025.05.17.04.00.42 (version=TLS1_2 cipher=ECDHE-ECDSA-AES128-GCM-SHA256 bits=128/128); Sat, 17 May 2025 04:00:42 -0700 (PDT) X-Relaying-Domain: iol.unh.edu Date: Sat, 17 May 2025 04:00:42 -0700 (PDT) Message-ID: <68286c5a.630a0220.35b1fb.d2f8SMTPIN_ADDED_MISSING@mx.google.com> Received: from [172.21.0.6] (unknown [172.18.0.240]) by postal.iol.unh.edu (Postfix) with ESMTP id 3CCDB6052471; Sat, 17 May 2025 07:00:41 -0400 (EDT) Subject: |SUCCESS| pw153498 [PATCH] doc: elaborate on per test suite configur From: dpdklab@iol.unh.edu To: Test Report Cc: dpdk-test-reports@iol.unh.edu In-Reply-To: <20250516202600.632070-2-npratte@iol.unh.edu> References: <20250516202600.632070-2-npratte@iol.unh.edu> Content-Type: text/plain X-BeenThere: test-report@dpdk.org X-Mailman-Version: 2.1.29 Precedence: list List-Id: automatic DPDK test reports List-Unsubscribe: , List-Archive: List-Post: List-Help: List-Subscribe: , Errors-To: test-report-bounces@dpdk.org Test-Label: iol-abi-testing Test-Status: SUCCESS http://dpdk.org/patch/153498 _Testing PASS_ Submitter: Nicholas Pratte Date: Friday, May 16 2025 20:26:01 DPDK git baseline: Repo:dpdk Branch: master CommitID:1aef42bc97a31906486c9d66b792208948af06f3 153498 --> testing pass Upstream job id: Generic-DPDK-Compile-ABI#126788 Test environment and result as below: +-------------------+----------+ | Environment | abi_test | +===================+==========+ | CentOS Stream 9 | PASS | +-------------------+----------+ | CentOS Stream 10 | PASS | +-------------------+----------+ | Fedora 40 (Clang) | PASS | +-------------------+----------+ | Debian 12 | PASS | +-------------------+----------+ | Fedora 40 | PASS | +-------------------+----------+ | Fedora 41 | PASS | +-------------------+----------+ | Fedora 41 (Clang) | PASS | +-------------------+----------+ | openSUSE Leap 15 | PASS | +-------------------+----------+ | RHEL8 | PASS | +-------------------+----------+ | RHEL9 | PASS | +-------------------+----------+ | Ubuntu 22.04 | PASS | +-------------------+----------+ CentOS Stream 9 Kernel: Depends on container host Compiler: gcc 11.5.0 20240719 (Red Hat 11.5.0-2) CentOS Stream 10 Kernel: Depends on container host Compiler: gcc 14.2.1 20241104 (Red Hat 14.2.1-6) Fedora 40 (Clang) Kernel: Depends on container host Compiler: clang 18.1.8 (Fedora 18.1.8-1.fc40) Debian 12 Kernel: Depends on container host Compiler: gcc (Debian 12.2.0-14) 12.2.0 Fedora 40 Kernel: Depends on container host Compiler: gcc 14.2.1 20240912 (Red Hat 14.2.1-3) Fedora 41 Kernel: Depends on container host Compiler: gcc 14.2.1 20240912 (Red Hat 14.2.1-3) Fedora 41 (Clang) Kernel: Depends on container host Compiler: clang 19.1.5 (Fedora 19.1.5-1.fc41) openSUSE Leap 15 Kernel: Depends on container host Compiler: gcc (SUSE Linux) 7.5.0 RHEL8 Kernel: Depends on container host Compiler: gcc 8.5.0 20210514 (Red Hat 8.5.0-22) RHEL9 Kernel: Depends on container host Compiler: gcc 11.5.0 20240719 (Red Hat 11.5.0-2) Ubuntu 22.04 Kernel: Depends on container host Compiler: gcc (Ubuntu 11.4.0-1ubuntu1~22.04) 11.4.0 To view detailed results, visit: https://lab.dpdk.org/results/dashboard/patchsets/33197/ UNH-IOL DPDK Community Lab To manage your email subscriptions, visit: https://lab.dpdk.org/results/dashboard/preferences/subscriptions/