From mboxrd@z Thu Jan 1 00:00:00 1970 Return-Path: Received: from mails.dpdk.org (mails.dpdk.org [217.70.189.124]) by inbox.dpdk.org (Postfix) with ESMTP id 9DFDE46771 for ; Sat, 17 May 2025 13:02:20 +0200 (CEST) Received: from mails.dpdk.org (localhost [127.0.0.1]) by mails.dpdk.org (Postfix) with ESMTP id 989254042F; Sat, 17 May 2025 13:02:20 +0200 (CEST) Received: from mail-qv1-f99.google.com (mail-qv1-f99.google.com [209.85.219.99]) by mails.dpdk.org (Postfix) with ESMTP id CEA23402E5 for ; Sat, 17 May 2025 13:02:18 +0200 (CEST) Received: by mail-qv1-f99.google.com with SMTP id 6a1803df08f44-6f5365bdbaeso27661186d6.3 for ; Sat, 17 May 2025 04:02:18 -0700 (PDT) DKIM-Signature: v=1; a=rsa-sha256; c=relaxed/relaxed; d=iol.unh.edu; s=unh-iol; t=1747479738; x=1748084538; darn=dpdk.org; h=references:in-reply-to:cc:to:from:subject:message-id:date:from:to :cc:subject:date:message-id:reply-to; bh=GHZM5AADH2q6dl3OFNbLGe9M2ztPffis/2lSk+55tuo=; b=fHnQfZ021vZHYj78QfvOikITvLFx7dOaVd3RIYIM3JxHKZQW/wGfFgy47MN5Y1SpAO Lj5+Y6UWyUDUkUY7qk6GohOB+dPdEJekf1N8XC+Ojs/lAE8pglyG4IL4DzyK9S6SK2CO 9RQZx+l0SZEByds2/KP0sSOPvwIebdtTJe+K8= X-Google-DKIM-Signature: v=1; a=rsa-sha256; c=relaxed/relaxed; d=1e100.net; s=20230601; t=1747479738; x=1748084538; h=references:in-reply-to:cc:to:from:subject:message-id:date :x-gm-message-state:from:to:cc:subject:date:message-id:reply-to; bh=GHZM5AADH2q6dl3OFNbLGe9M2ztPffis/2lSk+55tuo=; b=npDPIqFqurCsnPNYBiRwZllBHPp2vAnC+v7uKya//+kyBzJ/WB9V+sn24hsxbXXW9G F3ZbIyIhO0ymYqozMGUG2TA+XIscaYTh2sSsRc/ux296TReR7ypmzPIgFmtAMUm/58ze lD+v6OiCeku3zoHRa/Q/mDr96lBoeprkdq7SwMyL3zq6wLZ4lOOg93zd4trGiu4O5/p7 6Ew0tYe10zSC6IDWi0puqEu4lh6bWbJ14If0Ea9lyn4fZ8l3H1q+UbBfPKbHXc5Eaeab pbcZeq/a2Bha7BVDetkLVaZYWVBYtQ2ccMHvw/e/YEzp6c5kOweVOJXKPdsMuK2yc9Bx 6I7w== X-Gm-Message-State: AOJu0YwMOApJdkKHZJqJ9GwNGNLPpRNQdWiid0xMZNR9p7DWn7prx5lN k6aYfZAGHRdjj3qA3cFEYPxHV7RTrlvU6YBZjTFkfye0GonOgBhOz/VrYnxWE4DVwyhvWU8VNsk 9tG9bMq+xsCrVSQ8bsz6vYJIuYnPW0ygXf7Gn4Ju0pK1R+Q3JTkemvFmW04ED X-Gm-Gg: ASbGnctUI5+BT0Vg/bvCXBtL2dPI8q8n08DDNg/AtaVSYOQX81kEbxW5HQyt/BEd7SJ Ah8ogP88mzE5oOOcT4twS1EkD0y6yhBdhDBNp4GQ7zk0hfOWgR0/pIPuQppq/Y0LoRm2e+yNA2f vlemir+sJLPamUStNVGDetiFuw5gunrxPyvSbH3kIA9Lc+EUHKx5qAg47q2NVuNHIpeUNOMTCN7 R5tOt6eAXquDYo1UCvrkn3IYJlNugpedNyUZudSYU2/rlu+UT6zsRXKnhXfBFgNbsJAhNI2dmYA ounOgJkL/Czn6CST9FJN6rfVFdhRBLEMWmMT X-Google-Smtp-Source: AGHT+IH2RGRHa7YilBtqi5hsJ8TpcM1u2T4sR1pk1tx7GzbeuM1bXcK2mrKl6zvBwTgKQu+eIdwZWRn7/nP9 X-Received: by 2002:ad4:5caa:0:b0:6e4:4194:df35 with SMTP id 6a1803df08f44-6f8b2cc77c4mr92943796d6.9.1747479738045; Sat, 17 May 2025 04:02:18 -0700 (PDT) Received: from postal.iol.unh.edu (postal.iol.unh.edu. [2606:4100:3880:1234::84]) by smtp-relay.gmail.com with ESMTPS id 6a1803df08f44-6f8b09b56a0sm1351086d6.62.2025.05.17.04.02.17 (version=TLS1_2 cipher=ECDHE-ECDSA-AES128-GCM-SHA256 bits=128/128); Sat, 17 May 2025 04:02:18 -0700 (PDT) X-Relaying-Domain: iol.unh.edu Date: Sat, 17 May 2025 04:02:18 -0700 (PDT) Message-ID: <68286cba.050a0220.22d621.7878SMTPIN_ADDED_MISSING@mx.google.com> Received: from [172.21.0.5] (unknown [172.18.0.240]) by postal.iol.unh.edu (Postfix) with ESMTP id 94BFA6052471; Sat, 17 May 2025 07:02:17 -0400 (EDT) Subject: |SUCCESS| pw153498 [PATCH] doc: elaborate on per test suite configur From: dpdklab@iol.unh.edu To: Test Report Cc: dpdk-test-reports@iol.unh.edu In-Reply-To: <20250516202600.632070-2-npratte@iol.unh.edu> References: <20250516202600.632070-2-npratte@iol.unh.edu> Content-Type: text/plain X-BeenThere: test-report@dpdk.org X-Mailman-Version: 2.1.29 Precedence: list List-Id: automatic DPDK test reports List-Unsubscribe: , List-Archive: List-Post: List-Help: List-Subscribe: , Errors-To: test-report-bounces@dpdk.org Test-Label: iol-abi-testing Test-Status: SUCCESS http://dpdk.org/patch/153498 _Testing PASS_ Submitter: Nicholas Pratte Date: Friday, May 16 2025 20:26:01 DPDK git baseline: Repo:dpdk Branch: master CommitID:1aef42bc97a31906486c9d66b792208948af06f3 153498 --> testing pass Upstream job id: Generic-DPDK-Compile-ABI#126791 Test environment and result as below: +-------------------+----------+ | Environment | abi_test | +===================+==========+ | CentOS Stream 9 | PASS | +-------------------+----------+ | CentOS Stream 10 | PASS | +-------------------+----------+ | Fedora 40 (Clang) | PASS | +-------------------+----------+ | Debian 12 | PASS | +-------------------+----------+ | Fedora 40 | PASS | +-------------------+----------+ | Fedora 41 | PASS | +-------------------+----------+ | Fedora 41 (Clang) | PASS | +-------------------+----------+ | openSUSE Leap 15 | PASS | +-------------------+----------+ | RHEL8 | PASS | +-------------------+----------+ | RHEL9 | PASS | +-------------------+----------+ | Ubuntu 22.04 | PASS | +-------------------+----------+ CentOS Stream 9 Kernel: Depends on container host Compiler: gcc 11.5.0 20240719 (Red Hat 11.5.0-2) CentOS Stream 10 Kernel: Depends on container host Compiler: gcc 14.2.1 20241104 (Red Hat 14.2.1-6) Fedora 40 (Clang) Kernel: Depends on container host Compiler: clang 18.1.8 (Fedora 18.1.8-1.fc40) Debian 12 Kernel: Depends on container host Compiler: gcc (Debian 12.2.0-14) 12.2.0 Fedora 40 Kernel: Depends on container host Compiler: gcc 14.2.1 20240912 (Red Hat 14.2.1-3) Fedora 41 Kernel: Depends on container host Compiler: gcc 14.2.1 20240912 (Red Hat 14.2.1-3) Fedora 41 (Clang) Kernel: Depends on container host Compiler: clang 19.1.5 (Fedora 19.1.5-1.fc41) openSUSE Leap 15 Kernel: Depends on container host Compiler: gcc (SUSE Linux) 7.5.0 RHEL8 Kernel: Depends on container host Compiler: gcc 8.5.0 20210514 (Red Hat 8.5.0-22) RHEL9 Kernel: Depends on container host Compiler: gcc 11.5.0 20240719 (Red Hat 11.5.0-2) Ubuntu 22.04 Kernel: Depends on container host Compiler: gcc (Ubuntu 11.4.0-1ubuntu1~22.04) 11.4.0 To view detailed results, visit: https://lab.dpdk.org/results/dashboard/patchsets/33197/ UNH-IOL DPDK Community Lab To manage your email subscriptions, visit: https://lab.dpdk.org/results/dashboard/preferences/subscriptions/