From mboxrd@z Thu Jan 1 00:00:00 1970 Return-Path: Received: from mails.dpdk.org (mails.dpdk.org [217.70.189.124]) by inbox.dpdk.org (Postfix) with ESMTP id A5DDF46771 for ; Sat, 17 May 2025 13:24:39 +0200 (CEST) Received: from mails.dpdk.org (localhost [127.0.0.1]) by mails.dpdk.org (Postfix) with ESMTP id 7F33040678; Sat, 17 May 2025 13:24:39 +0200 (CEST) Received: from mail-qk1-f227.google.com (mail-qk1-f227.google.com [209.85.222.227]) by mails.dpdk.org (Postfix) with ESMTP id D73904042F for ; Sat, 17 May 2025 13:24:37 +0200 (CEST) Received: by mail-qk1-f227.google.com with SMTP id af79cd13be357-7c922169051so172204185a.0 for ; Sat, 17 May 2025 04:24:37 -0700 (PDT) DKIM-Signature: v=1; a=rsa-sha256; c=relaxed/relaxed; d=iol.unh.edu; s=unh-iol; t=1747481077; x=1748085877; darn=dpdk.org; h=references:in-reply-to:cc:to:from:subject:message-id:date:from:to :cc:subject:date:message-id:reply-to; bh=ONgjTaPRyLBj8VdF6v5gxnWpZAunUXg5vYQHewma+LI=; b=BcPLEiMZZXYCUw5eQ5SPfZBWDh8BKt0w+xdzxSQ2Ksy3dk8/yaIbHN1Pw+7Ztv3+Tg SRmhGia1dShYPSdlvD8BMSstLCvl6Z3ZT+LN2e7Ap7abiZFyI8FZYtJTGn+2V33LTyTe QasalWDA0QZVFq8YuZzt0xMiCu9pgsPIO9WiI= X-Google-DKIM-Signature: v=1; a=rsa-sha256; c=relaxed/relaxed; d=1e100.net; s=20230601; t=1747481077; x=1748085877; h=references:in-reply-to:cc:to:from:subject:message-id:date :x-gm-message-state:from:to:cc:subject:date:message-id:reply-to; bh=ONgjTaPRyLBj8VdF6v5gxnWpZAunUXg5vYQHewma+LI=; b=b0j2wcukMwZrCQn4D9eUPdeO3jJG7WwOr0oFHIwmEj6fRnTb6jqu3Um34G+8ngVtk9 Lyx1xPAusnhnah2c76JhZ2dhGYwxYweIW9eJHvcwlCFeCLuLNhbsTpRJiRNdEitf9ure idLO/3NV2VJD9bYCugkPRPX0hJmPRMFwJIpyF+a/ULzzq04NzOnc2gf1c+vWDHFnHWBg MLbnKZg+2R3DTbenvO+XprYN52bLSusvyWEPTPp1GJBO2YXcB3wZ68XqoUv298K2omHg t9Zsm2RYsJ8GPYsWGrnWtvXfi12o+fGD/7Y7qo9vqBOs346U4apVyzb0c7LJE03HK9+G kHFw== X-Gm-Message-State: AOJu0YyNfG94C7eEw25yHHld5FC6JNKOQlMYo6naXcGt36pYWykVhi+d LdfEmZG4Oq4aOsuN3OiKD1B9ih2JWejlE8Qe/XsAducEnhLBZLqQhAc7AzW33TA9QWLKhqh7h60 bnTK4Rf9TdS9AtgZXYwDO+UIWI+m9EYgE3b2+D/BnMr7t X-Gm-Gg: ASbGncvq2FSBFph5ZSIkZ9PssknYu3RSGOIcic6hjPK41/gGhVMabVJE3BQpTxNFjZe UwsMObFjQv2PTNFvhr9Bcqn6T/PH5vEvfYb/wEgwGcD+NMl09RCTmi3am/KlcmeRTiYaRtM+csP +Y88SV2XWRiGiFoBFh7gVAlU1KNaBriQxLf46bDJNbsi15fi1+MIkMTSq4lxXothRbEHdufLZI7 NLJjc34oPxxx3DjMOV0eX/6/poJNhgyds7BqXOO6sc1IUXdT7bYup1Z3+nCJa0HiVRVkxBXketW Q1XxZZJWUmVSWWStr97X4c5NQNirqB20Tda81j11988G3d4IjvfGb1lsm44= X-Google-Smtp-Source: AGHT+IEbu/4TlVfWMVW2ricNk7Tmx+oatiNqjDoUWuZs0htbAXayZK0MyeaoSOw+R8pV6P3baRofFkwhSt/B X-Received: by 2002:a05:620a:d8e:b0:7c5:50ab:de04 with SMTP id af79cd13be357-7cd46731aa8mr1028538085a.32.1747481077232; Sat, 17 May 2025 04:24:37 -0700 (PDT) Received: from postal.iol.unh.edu (postal.iol.unh.edu. [132.177.123.84]) by smtp-relay.gmail.com with ESMTPS id af79cd13be357-7cd4687159esm14046285a.6.2025.05.17.04.24.37 (version=TLS1_2 cipher=ECDHE-ECDSA-AES128-GCM-SHA256 bits=128/128); Sat, 17 May 2025 04:24:37 -0700 (PDT) X-Relaying-Domain: iol.unh.edu Date: Sat, 17 May 2025 04:24:37 -0700 (PDT) Message-ID: <682871f5.050a0220.30b218.8e32SMTPIN_ADDED_MISSING@mx.google.com> Received: from [172.17.0.5] (unknown [172.18.0.74]) by postal.iol.unh.edu (Postfix) with ESMTP id 7EA266052471; Sat, 17 May 2025 07:24:36 -0400 (EDT) Subject: |SUCCESS| pw153498 [PATCH] doc: elaborate on per test suite configur From: dpdklab@iol.unh.edu To: Test Report Cc: dpdk-test-reports@iol.unh.edu In-Reply-To: <20250516202600.632070-2-npratte@iol.unh.edu> References: <20250516202600.632070-2-npratte@iol.unh.edu> Content-Type: text/plain X-BeenThere: test-report@dpdk.org X-Mailman-Version: 2.1.29 Precedence: list List-Id: automatic DPDK test reports List-Unsubscribe: , List-Archive: List-Post: List-Help: List-Subscribe: , Errors-To: test-report-bounces@dpdk.org Test-Label: iol-unit-amd64-testing Test-Status: SUCCESS http://dpdk.org/patch/153498 _Testing PASS_ Submitter: Nicholas Pratte Date: Friday, May 16 2025 20:26:01 DPDK git baseline: Repo:dpdk Branch: master CommitID:1aef42bc97a31906486c9d66b792208948af06f3 153498 --> testing pass Upstream job id: Generic-Unit-Test-DPDK#338767 Test environment and result as below: +---------------------+----------------+ | Environment | dpdk_unit_test | +=====================+================+ | Debian 12 | PASS | +---------------------+----------------+ | CentOS Stream 10 | PASS | +---------------------+----------------+ | Fedora 40 | PASS | +---------------------+----------------+ | CentOS Stream 9 | PASS | +---------------------+----------------+ | Fedora 41 (Clang) | PASS | +---------------------+----------------+ | RHEL8 | PASS | +---------------------+----------------+ | Fedora 41 | PASS | +---------------------+----------------+ | Fedora 40 (Clang) | PASS | +---------------------+----------------+ | RHEL9 | PASS | +---------------------+----------------+ | Ubuntu 22.04 | PASS | +---------------------+----------------+ | Ubuntu 20.04 | PASS | +---------------------+----------------+ | Ubuntu 24.04 | PASS | +---------------------+----------------+ | Windows Server 2022 | PASS | +---------------------+----------------+ Debian 12 Kernel: Depends on container host Compiler: gcc (Debian 12.2.0-14) 12.2.0 CentOS Stream 10 Kernel: Depends on container host Compiler: gcc 14.2.1 20241104 (Red Hat 14.2.1-6) Fedora 40 Kernel: Depends on container host Compiler: gcc 14.2.1 20240912 (Red Hat 14.2.1-3) CentOS Stream 9 Kernel: Depends on container host Compiler: gcc 11.5.0 20240719 (Red Hat 11.5.0-2) Fedora 41 (Clang) Kernel: Depends on container host Compiler: clang 19.1.5 (Fedora 19.1.5-1.fc41) RHEL8 Kernel: Depends on container host Compiler: gcc 8.5.0 20210514 (Red Hat 8.5.0-22) Fedora 41 Kernel: Depends on container host Compiler: gcc 14.2.1 20240912 (Red Hat 14.2.1-3) Fedora 40 (Clang) Kernel: Depends on container host Compiler: clang 18.1.8 (Fedora 18.1.8-1.fc40) RHEL9 Kernel: Depends on container host Compiler: gcc 11.5.0 20240719 (Red Hat 11.5.0-2) Ubuntu 22.04 Kernel: Depends on container host Compiler: gcc (Ubuntu 11.4.0-1ubuntu1~22.04) 11.4.0 Ubuntu 20.04 Kernel: Depends on container host Compiler: gcc (Ubuntu 9.4.0-1ubuntu1~20.04.2) 9.4.0 Ubuntu 24.04 Kernel: Depends on container host Compiler: gcc (Ubuntu 13.3.0-6ubuntu2~24.04) 13.3.0 Windows Server 2022 Kernel: 10.0.20348.2031 Compiler: clang 15.0.7, gcc 14.1.0 (MinGW), and MSVC VS 19.39.33521 To view detailed results, visit: https://lab.dpdk.org/results/dashboard/patchsets/33197/ UNH-IOL DPDK Community Lab To manage your email subscriptions, visit: https://lab.dpdk.org/results/dashboard/preferences/subscriptions/