From mboxrd@z Thu Jan 1 00:00:00 1970 Return-Path: Received: from mails.dpdk.org (mails.dpdk.org [217.70.189.124]) by inbox.dpdk.org (Postfix) with ESMTP id 3B52446771 for ; Sat, 17 May 2025 13:43:45 +0200 (CEST) Received: from mails.dpdk.org (localhost [127.0.0.1]) by mails.dpdk.org (Postfix) with ESMTP id 354D640678; Sat, 17 May 2025 13:43:45 +0200 (CEST) Received: from mail-oo1-f99.google.com (mail-oo1-f99.google.com [209.85.161.99]) by mails.dpdk.org (Postfix) with ESMTP id 03AF24042F for ; Sat, 17 May 2025 13:43:44 +0200 (CEST) Received: by mail-oo1-f99.google.com with SMTP id 006d021491bc7-6060a70ba80so1802278eaf.2 for ; Sat, 17 May 2025 04:43:43 -0700 (PDT) DKIM-Signature: v=1; a=rsa-sha256; c=relaxed/relaxed; d=iol.unh.edu; s=unh-iol; t=1747482223; x=1748087023; darn=dpdk.org; h=references:in-reply-to:cc:to:from:subject:message-id:date:from:to :cc:subject:date:message-id:reply-to; bh=W985Y+Twu3slKydGr2H6BO0/MeBmTrN2+mXFoC3FQ68=; b=W2L1VNkynXUhf+AIzVVKc3295p/cMQxrTrxKz9xcC4ezfI+/JHLOzRtRNjF3kV/8d5 MgLS3cjDfhkCFgk1+3JbnUfTc8NjccfUUo7lED98pNCIwP37L/RgFlOdyCNf7K+uP8tm 9sy1W3YBvx3DClXSAHxR+rEn+8U7NUPS/iFsI= X-Google-DKIM-Signature: v=1; a=rsa-sha256; c=relaxed/relaxed; d=1e100.net; s=20230601; t=1747482223; x=1748087023; h=references:in-reply-to:cc:to:from:subject:message-id:date :x-gm-message-state:from:to:cc:subject:date:message-id:reply-to; bh=W985Y+Twu3slKydGr2H6BO0/MeBmTrN2+mXFoC3FQ68=; b=vgTGcSLu0VaSy+fa7MF/krnhbL/Sc9y4mMlNQ9ylHlZP4j+tOUP3H2QA2kF6NbBYQ2 E7PFPUmH3c+g0FepxZy3QsmTngguv2zB+A+TS7mrsfcrvbOolnz+cMrXkDJ2NvMpZkRM G0Sl4EvAPSoTaZIqI+rWnhhw4oSec/a2bse8aAmucS2vog6TGRjxXUKCxPwzh+wFZvyK emx9UpPytMsPKA4tCoia6CDuS06QGb1tzv7t7cCBRAMbG81DQxWDqLsQ3u8tZ8k+2Nn0 yDXWzFhG0vkZj/p8mt+WJwpYENHgLjvlwGc6Re2/CZoItRlVo6/TEfbc8aBw49P0Lmnx Mj0Q== X-Gm-Message-State: AOJu0YzIAju7mop/urE62r0h94LZRNi/g7mcNBagP6Kif8pN4VKoNfUh 0iqThEKSfmSQpUVZV0E/fbTL6X8q8L7P94c+wjiWZUt7KYzoEa4OBX4NLD0zxwflDZq1EDWNC9w FKYBJSVGv5A74AMuSIf3D/Ako7rJ4UHtGohsuVD1tdFUy X-Gm-Gg: ASbGncukG6ysQc28Fmp159LR5QheQY5oUq2CaTPoVK8opJJcoa/ECrpj6qIiyvsBCYf KielLGCgHPWzZsP1gXaIzWgPfIMWiH/TAol6Pb/wbcuYvmp9adm57xqcOoCaYcd5wPpAJ+lMcJW scLhDiQx52An/Qn8vvJYoMvF1vHL8CA6QU6L3XwqYMIyweiBrorlhhTototohs8/H1JXeRieqc+ h+XSyoXNzdSa9NPKD2JhMFqoiGkNqHVtH70iI2PxHMe5pX5ez/dYSwe5KWt17bxhYY8oIlAPxHz vVTmPZq/4VGcTcbcfUzKAL/rNHR0W1BB6lh0zlWDHhaMVxsFP0ejq0YUWuk= X-Google-Smtp-Source: AGHT+IHcpTU8+GZjYUYOkUBabE0Oh+4trlUdU0C7mgt8AYrZX4MvkNOcKsTV7zMR36l7wmNm5aN/qo21gyLI X-Received: by 2002:a05:6870:179a:b0:2c2:588a:70a3 with SMTP id 586e51a60fabf-2e3c1ea2c0dmr3022220fac.24.1747482222980; Sat, 17 May 2025 04:43:42 -0700 (PDT) Received: from postal.iol.unh.edu (postal.iol.unh.edu. [132.177.123.84]) by smtp-relay.gmail.com with ESMTPS id 586e51a60fabf-2e3c0792900sm202867fac.21.2025.05.17.04.43.42 (version=TLS1_2 cipher=ECDHE-ECDSA-AES128-GCM-SHA256 bits=128/128); Sat, 17 May 2025 04:43:42 -0700 (PDT) X-Relaying-Domain: iol.unh.edu Date: Sat, 17 May 2025 04:43:42 -0700 (PDT) Message-ID: <6828766e.050a0220.362f4b.ab63SMTPIN_ADDED_MISSING@mx.google.com> Received: from [172.21.0.5] (unknown [172.18.0.240]) by postal.iol.unh.edu (Postfix) with ESMTP id 71D176052471; Sat, 17 May 2025 07:43:42 -0400 (EDT) Subject: |SUCCESS| pw153498 [PATCH] doc: elaborate on per test suite configur From: dpdklab@iol.unh.edu To: Test Report Cc: dpdk-test-reports@iol.unh.edu In-Reply-To: <20250516202600.632070-2-npratte@iol.unh.edu> References: <20250516202600.632070-2-npratte@iol.unh.edu> Content-Type: text/plain X-BeenThere: test-report@dpdk.org X-Mailman-Version: 2.1.29 Precedence: list List-Id: automatic DPDK test reports List-Unsubscribe: , List-Archive: List-Post: List-Help: List-Subscribe: , Errors-To: test-report-bounces@dpdk.org Test-Label: iol-unit-amd64-testing Test-Status: SUCCESS http://dpdk.org/patch/153498 _Testing PASS_ Submitter: Nicholas Pratte Date: Friday, May 16 2025 20:26:01 DPDK git baseline: Repo:dpdk Branch: master CommitID:1aef42bc97a31906486c9d66b792208948af06f3 153498 --> testing pass Upstream job id: Generic-VM-Unit-Test-DPDK#28596 Test environment and result as below: +---------------------+----------------+ | Environment | dpdk_unit_test | +=====================+================+ | Debian 12 | PASS | +---------------------+----------------+ | CentOS Stream 10 | PASS | +---------------------+----------------+ | Fedora 40 | PASS | +---------------------+----------------+ | CentOS Stream 9 | PASS | +---------------------+----------------+ | Fedora 41 (Clang) | PASS | +---------------------+----------------+ | RHEL8 | PASS | +---------------------+----------------+ | Fedora 41 | PASS | +---------------------+----------------+ | Fedora 40 (Clang) | PASS | +---------------------+----------------+ | RHEL9 | PASS | +---------------------+----------------+ | Ubuntu 22.04 | PASS | +---------------------+----------------+ | Ubuntu 20.04 | PASS | +---------------------+----------------+ | Ubuntu 24.04 | PASS | +---------------------+----------------+ | Windows Server 2022 | PASS | +---------------------+----------------+ Debian 12 Kernel: Depends on container host Compiler: gcc (Debian 12.2.0-14) 12.2.0 CentOS Stream 10 Kernel: Depends on container host Compiler: gcc 14.2.1 20241104 (Red Hat 14.2.1-6) Fedora 40 Kernel: Depends on container host Compiler: gcc 14.2.1 20240912 (Red Hat 14.2.1-3) CentOS Stream 9 Kernel: Depends on container host Compiler: gcc 11.5.0 20240719 (Red Hat 11.5.0-2) Fedora 41 (Clang) Kernel: Depends on container host Compiler: clang 19.1.5 (Fedora 19.1.5-1.fc41) RHEL8 Kernel: Depends on container host Compiler: gcc 8.5.0 20210514 (Red Hat 8.5.0-22) Fedora 41 Kernel: Depends on container host Compiler: gcc 14.2.1 20240912 (Red Hat 14.2.1-3) Fedora 40 (Clang) Kernel: Depends on container host Compiler: clang 18.1.8 (Fedora 18.1.8-1.fc40) RHEL9 Kernel: Depends on container host Compiler: gcc 11.5.0 20240719 (Red Hat 11.5.0-2) Ubuntu 22.04 Kernel: Depends on container host Compiler: gcc (Ubuntu 11.4.0-1ubuntu1~22.04) 11.4.0 Ubuntu 20.04 Kernel: Depends on container host Compiler: gcc (Ubuntu 9.4.0-1ubuntu1~20.04.2) 9.4.0 Ubuntu 24.04 Kernel: Depends on container host Compiler: gcc (Ubuntu 13.3.0-6ubuntu2~24.04) 13.3.0 Windows Server 2022 Kernel: 10.0.20348.2031 Compiler: clang 15.0.7, gcc 14.1.0 (MinGW), and MSVC VS 19.39.33521 To view detailed results, visit: https://lab.dpdk.org/results/dashboard/patchsets/33197/ UNH-IOL DPDK Community Lab To manage your email subscriptions, visit: https://lab.dpdk.org/results/dashboard/preferences/subscriptions/