From mboxrd@z Thu Jan 1 00:00:00 1970 Return-Path: Received: from mails.dpdk.org (mails.dpdk.org [217.70.189.124]) by inbox.dpdk.org (Postfix) with ESMTP id BE0D746772 for ; Sat, 17 May 2025 14:00:36 +0200 (CEST) Received: from mails.dpdk.org (localhost [127.0.0.1]) by mails.dpdk.org (Postfix) with ESMTP id A834A40678; Sat, 17 May 2025 14:00:36 +0200 (CEST) Received: from mail-pl1-f228.google.com (mail-pl1-f228.google.com [209.85.214.228]) by mails.dpdk.org (Postfix) with ESMTP id 9EE024042F for ; Sat, 17 May 2025 14:00:34 +0200 (CEST) Received: by mail-pl1-f228.google.com with SMTP id d9443c01a7336-232059c0b50so2823825ad.2 for ; Sat, 17 May 2025 05:00:34 -0700 (PDT) DKIM-Signature: v=1; a=rsa-sha256; c=relaxed/relaxed; d=iol.unh.edu; s=unh-iol; t=1747483233; x=1748088033; darn=dpdk.org; h=references:in-reply-to:cc:to:from:subject:message-id:date:from:to :cc:subject:date:message-id:reply-to; bh=IykcCVTuZYF0ZaV3lPg8tmgz9MQ1W5I7Qu/4MBiSYCc=; b=dcS/FHqIzGMgarsPYl04gbvtoLlEQPSpvB3YE4j34YHgO5iKX+6Vs86TDQOou+eWK+ iOO/K/WEM3VNQ66CzVikXPT2lxyBJQ1uFcO3cpDvVZyb9qbHZV4eEYice1FSfV5O5efm QsOKtaHM16ZBy4p9bQOZ/77yaq8VojBHvbDsE= X-Google-DKIM-Signature: v=1; a=rsa-sha256; c=relaxed/relaxed; d=1e100.net; s=20230601; t=1747483233; x=1748088033; h=references:in-reply-to:cc:to:from:subject:message-id:date :x-gm-message-state:from:to:cc:subject:date:message-id:reply-to; bh=IykcCVTuZYF0ZaV3lPg8tmgz9MQ1W5I7Qu/4MBiSYCc=; b=Z472JUDOxHYfFrLZ0KKYP5ePvrvLmkLi7o+jWvpmggaGzdksPr4Awj+gh/WmJ96gqd 720J7aGRR1r2ITdaFF75CbBbm2OMu8jd9BHAWHKGPVUTvl7h06wjc7B2r2+lidNETPAX pEQNP4CtqG+Qc1aKFf5CKcTK+9HCagq9HGqNMejH2mDPS2PeXuTbtf2RW3Ywbf1PpjF6 x7GbnW9l1+UqxEO8mZrc2g6L2xHGqFRXwwy7IoCWtg11rYsC9lMmxUVrH2rEGgByCKZ9 +LcI+fDbs9dp1Qn5YsB/yD71m0UnWbJyEAF7h4R9FeG5InATFlrCIleMBnJA3r8D67QG K+9Q== X-Gm-Message-State: AOJu0YxwNXC8NGCf8RJu6Kdpl2fBdjmo4DzSv/0vcHn8atrKz1+mCrC8 j8cQy0xgzqrBeKw6aeZVrKCIl6XdUxgnfFGzB5TQ41mnHh3Xvf+ZNW14wa9qrlWJlyo51CHtlyk 9l5LnOG6wo5rAC7UIysQqCBqaQKPBaevPd1gqz0OdKZ1w X-Gm-Gg: ASbGncsfeVdEnxQK6HPDAZYDOoVgF5unltargctw4ZvdxIZPsEHWpJAEUpzPASzOh2X Je3jjeOi59OAUBYlQlldpkADg18YVMi0gYQscf8q4pnOk1ZjNXmdV+UvByk3vV8epJCD1HSleRR U5ULOWVN0EnWX5IFbNoYtieU/FgYimLfojdgTrTACYCYi0qTDWQAVZIV8Hk8Cng6edCxG45iDUf oI5lqYdDXPoQ8m0TIC3VEfF2z64JhJU7qz/9FUZdr0pfs8vNhkY1rs05jUvFKxfa+XT09QxbRhY FdXexvLeQINtkBXmydFTOssoA+FTAj/8q8k2vPmZyD0LIDCnAARg5oDCez0= X-Google-Smtp-Source: AGHT+IHqRbpHH1DiHMbUp3NxM661K1Dza6HntgBgQUiVEUHV3dxjKldPK8LQ7XBAao4FFjmXJ5idA8nMyW7s X-Received: by 2002:a17:902:e94c:b0:22e:5e82:6701 with SMTP id d9443c01a7336-231de31179amr74666415ad.18.1747483233559; Sat, 17 May 2025 05:00:33 -0700 (PDT) Received: from postal.iol.unh.edu (postal.iol.unh.edu. [132.177.123.84]) by smtp-relay.gmail.com with ESMTPS id d9443c01a7336-231d4ebb9c4sm2079635ad.116.2025.05.17.05.00.33 (version=TLS1_2 cipher=ECDHE-ECDSA-AES128-GCM-SHA256 bits=128/128); Sat, 17 May 2025 05:00:33 -0700 (PDT) X-Relaying-Domain: iol.unh.edu Date: Sat, 17 May 2025 05:00:33 -0700 (PDT) Message-ID: <68287a61.170a0220.35134d.b668SMTPIN_ADDED_MISSING@mx.google.com> Received: from [172.21.0.5] (unknown [172.18.0.240]) by postal.iol.unh.edu (Postfix) with ESMTP id B74DD6052471; Sat, 17 May 2025 08:00:32 -0400 (EDT) Subject: |SUCCESS| pw153498 [PATCH] doc: elaborate on per test suite configur From: dpdklab@iol.unh.edu To: Test Report Cc: dpdk-test-reports@iol.unh.edu In-Reply-To: <20250516202600.632070-2-npratte@iol.unh.edu> References: <20250516202600.632070-2-npratte@iol.unh.edu> Content-Type: text/plain X-BeenThere: test-report@dpdk.org X-Mailman-Version: 2.1.29 Precedence: list List-Id: automatic DPDK test reports List-Unsubscribe: , List-Archive: List-Post: List-Help: List-Subscribe: , Errors-To: test-report-bounces@dpdk.org Test-Label: iol-compile-amd64-testing Test-Status: SUCCESS http://dpdk.org/patch/153498 _Testing PASS_ Submitter: Nicholas Pratte Date: Friday, May 16 2025 20:26:01 DPDK git baseline: Repo:dpdk Branch: master CommitID:1aef42bc97a31906486c9d66b792208948af06f3 153498 --> testing pass Upstream job id: Generic-DPDK-Compile-Meson#389056 Test environment and result as below: +-----------------------------------+--------------------+-------------------+------------------+-------------------------+----------------------+ | Environment | dpdk_meson_compile | dpdk_compile_spdk | dpdk_compile_ovs | dpdk_llvm_clang_compile | dpdk_mingw64_compile | +===================================+====================+===================+==================+=========================+======================+ | CentOS Stream 9 | PASS | PASS | SKIPPED | SKIPPED | SKIPPED | +-----------------------------------+--------------------+-------------------+------------------+-------------------------+----------------------+ | CentOS Stream 10 | PASS | SKIPPED | SKIPPED | SKIPPED | SKIPPED | +-----------------------------------+--------------------+-------------------+------------------+-------------------------+----------------------+ | Fedora 40 (Clang) | PASS | PASS | SKIPPED | SKIPPED | SKIPPED | +-----------------------------------+--------------------+-------------------+------------------+-------------------------+----------------------+ | Fedora 40 | PASS | PASS | SKIPPED | SKIPPED | SKIPPED | +-----------------------------------+--------------------+-------------------+------------------+-------------------------+----------------------+ | Debian 12 | PASS | PASS | SKIPPED | SKIPPED | SKIPPED | +-----------------------------------+--------------------+-------------------+------------------+-------------------------+----------------------+ | Fedora 41 (Clang) | PASS | PASS | PASS | SKIPPED | SKIPPED | +-----------------------------------+--------------------+-------------------+------------------+-------------------------+----------------------+ | RHEL8 | PASS | SKIPPED | SKIPPED | SKIPPED | SKIPPED | +-----------------------------------+--------------------+-------------------+------------------+-------------------------+----------------------+ | openSUSE Leap 15 | PASS | SKIPPED | SKIPPED | SKIPPED | SKIPPED | +-----------------------------------+--------------------+-------------------+------------------+-------------------------+----------------------+ | Fedora 41 | PASS | PASS | PASS | SKIPPED | SKIPPED | +-----------------------------------+--------------------+-------------------+------------------+-------------------------+----------------------+ | RHEL9 | PASS | SKIPPED | SKIPPED | SKIPPED | SKIPPED | +-----------------------------------+--------------------+-------------------+------------------+-------------------------+----------------------+ | Ubuntu 20.04 | PASS | SKIPPED | SKIPPED | SKIPPED | SKIPPED | +-----------------------------------+--------------------+-------------------+------------------+-------------------------+----------------------+ | Ubuntu 22.04 | PASS | PASS | SKIPPED | SKIPPED | SKIPPED | +-----------------------------------+--------------------+-------------------+------------------+-------------------------+----------------------+ | Ubuntu 24.04 | PASS | PASS | PASS | SKIPPED | SKIPPED | +-----------------------------------+--------------------+-------------------+------------------+-------------------------+----------------------+ | Alpine | PASS | SKIPPED | SKIPPED | SKIPPED | SKIPPED | +-----------------------------------+--------------------+-------------------+------------------+-------------------------+----------------------+ | Ubuntu 24.04 32 Bit Cross Compile | PASS | SKIPPED | SKIPPED | SKIPPED | SKIPPED | +-----------------------------------+--------------------+-------------------+------------------+-------------------------+----------------------+ | FreeBSD 13.5 | PASS | SKIPPED | SKIPPED | SKIPPED | SKIPPED | +-----------------------------------+--------------------+-------------------+------------------+-------------------------+----------------------+ | FreeBSD 14.2 | PASS | SKIPPED | SKIPPED | SKIPPED | SKIPPED | +-----------------------------------+--------------------+-------------------+------------------+-------------------------+----------------------+ | Windows Server 2022 | SKIPPED | SKIPPED | SKIPPED | PASS | PASS | +-----------------------------------+--------------------+-------------------+------------------+-------------------------+----------------------+ CentOS Stream 9 Kernel: Depends on container host Compiler: gcc 11.5.0 20240719 (Red Hat 11.5.0-2) CentOS Stream 10 Kernel: Depends on container host Compiler: gcc 14.2.1 20241104 (Red Hat 14.2.1-6) Fedora 40 (Clang) Kernel: Depends on container host Compiler: clang 18.1.8 (Fedora 18.1.8-1.fc40) Fedora 40 Kernel: Depends on container host Compiler: gcc 14.2.1 20240912 (Red Hat 14.2.1-3) Debian 12 Kernel: Depends on container host Compiler: gcc (Debian 12.2.0-14) 12.2.0 Fedora 41 (Clang) Kernel: Depends on container host Compiler: clang 19.1.5 (Fedora 19.1.5-1.fc41) RHEL8 Kernel: Depends on container host Compiler: gcc 8.5.0 20210514 (Red Hat 8.5.0-22) openSUSE Leap 15 Kernel: Depends on container host Compiler: gcc (SUSE Linux) 7.5.0 Fedora 41 Kernel: Depends on container host Compiler: gcc 14.2.1 20240912 (Red Hat 14.2.1-3) RHEL9 Kernel: Depends on container host Compiler: gcc 11.5.0 20240719 (Red Hat 11.5.0-2) Ubuntu 20.04 Kernel: Depends on container host Compiler: gcc (Ubuntu 9.4.0-1ubuntu1~20.04.2) 9.4.0 Ubuntu 22.04 Kernel: Depends on container host Compiler: gcc (Ubuntu 11.4.0-1ubuntu1~22.04) 11.4.0 Ubuntu 24.04 Kernel: Depends on container host Compiler: gcc (Ubuntu 13.3.0-6ubuntu2~24.04) 13.3.0 Alpine Kernel: Depends on container host Compiler: gcc (Alpine 14.2.0) 14.2.0 Ubuntu 24.04 32 Bit Cross Compile Kernel: Depends on container host Compiler: gcc (Ubuntu 13.3.0-6ubuntu2~24.04) 13.3.0 FreeBSD 13.5 Kernel: 13.5-RELEASE Compiler: clang 19.1.7 FreeBSD 14.2 Kernel: 14.2-RELEASE Compiler: clang 18.1.6 Windows Server 2022 Kernel: 10.0.20348.2031 Compiler: clang 15.0.7, gcc 14.1.0 (MinGW), and MSVC VS 19.39.33521 To view detailed results, visit: https://lab.dpdk.org/results/dashboard/patchsets/33197/ UNH-IOL DPDK Community Lab To manage your email subscriptions, visit: https://lab.dpdk.org/results/dashboard/preferences/subscriptions/