From mboxrd@z Thu Jan 1 00:00:00 1970 Return-Path: Received: from mails.dpdk.org (mails.dpdk.org [217.70.189.124]) by inbox.dpdk.org (Postfix) with ESMTP id 3BAE846772 for ; Sat, 17 May 2025 14:31:07 +0200 (CEST) Received: from mails.dpdk.org (localhost [127.0.0.1]) by mails.dpdk.org (Postfix) with ESMTP id 189994067A; Sat, 17 May 2025 14:31:07 +0200 (CEST) Received: from mail-pl1-f227.google.com (mail-pl1-f227.google.com [209.85.214.227]) by mails.dpdk.org (Postfix) with ESMTP id 56EE140678 for ; Sat, 17 May 2025 14:31:05 +0200 (CEST) Received: by mail-pl1-f227.google.com with SMTP id d9443c01a7336-22e09f57ed4so43664205ad.0 for ; Sat, 17 May 2025 05:31:05 -0700 (PDT) DKIM-Signature: v=1; a=rsa-sha256; c=relaxed/relaxed; d=iol.unh.edu; s=unh-iol; t=1747485064; x=1748089864; darn=dpdk.org; h=references:in-reply-to:cc:to:from:subject:message-id:date:from:to :cc:subject:date:message-id:reply-to; bh=YaUVONCD+r7A03FL/nNB1xfY4QAWNIJW97GBTvOT5qE=; b=CDcbP3r5/AtRO9ZB4cJzk3boUc1zCIFbOjxtqS5oAoEfCMFSIflGqyTlYchsZbmjkw bGFVgMT4PgtkEloGkcSdBcv4e1iZiqLyBv8wSwUi61MioVFdPZIm3HH2JZTfNYK+MYlz +1EFJOu0PN0MLRNsRMl22rvyCL2NdoQKjxBdE= X-Google-DKIM-Signature: v=1; a=rsa-sha256; c=relaxed/relaxed; d=1e100.net; s=20230601; t=1747485064; x=1748089864; h=references:in-reply-to:cc:to:from:subject:message-id:date :x-gm-message-state:from:to:cc:subject:date:message-id:reply-to; bh=YaUVONCD+r7A03FL/nNB1xfY4QAWNIJW97GBTvOT5qE=; b=IjwxtfKlF21hO1aseKZW5UCEvLBO7Wg6m7i3779zyUaqxr6yDICj4PHuYZIqchG5Ya LuSz11ubF4mue7D9DQ6qaQrwGTcXbeCmYE3aWfLpLmfVx6VYyTx1QDPDXBb9TqWmHqUI Aa5FpelBQEeUs+GI9RjTJSyC4OWgbo0JM3OkZXoBX7AHp+etZY9GUXrz3ZGyGfUxGst5 VReEVc3hhlF/OKuXjKIWaH0GidcdKT00T6gJ8/e8MzT2TELUErrgyy5YGLxNknCfvL4Y /SkOODy0HU391QZeD9XAYqR+jxydDaPA8P+fsmpZIFSMQB4S4nBsX15/AIwFivMSnPoD 6vwg== X-Gm-Message-State: AOJu0YyLU+PNpf2L9YGE8J0NPUxvv0nKX867OTt0NaAUPUsC4VB/aBnu 1xFQ+pxIrb/4I55zSuXdELWzhNihy55byp8qtdH+Utb3Of4ATR4TbWmua1TZPlRzRxxO+SIYIml R23nYqhkELbAdZMfYD9DACz63mRhqE7F0Jq2lr1iMpfWe X-Gm-Gg: ASbGnctrhsKnMfWEY6ua9rhgoTBGliJJNrfcPLRRwOJVfe4L+LbyBwblSkN0xcOjfFW yh7I/wFlJLzKnL0SJbmFZUlhID1K+nteZPrqhEKCi1I0OqVR77d1q0Y+dkmMDrQr034bGT8PvZe kD00zl8RRl3vshmLgZl150t1SY8gnqUNsdJSBusbOXIeyVWHQUMz14KkihWI4XovIZrRJlL07uw IQTmRlp7vGJTnNCeXtWnSeyVw7waPjW9IDqMNL9TkzYpbqVH6aIBkq1Jcvi4nucj0kvkB/37LEH C4XNm+QtR+AJiq51vPa0kxqnW0jQYcHDZFdeyzrf3QUrjO6ZCYsenPKNORI= X-Google-Smtp-Source: AGHT+IGC9tqxyK258Cp045hV8opyfF95+rCdgmF4hfXjyEoAlUrFFB6a5Y5asNvJNvRnq5XdqG9a+320Em/t X-Received: by 2002:a17:903:3c27:b0:22e:457d:3989 with SMTP id d9443c01a7336-231b388273dmr172025595ad.0.1747485064225; Sat, 17 May 2025 05:31:04 -0700 (PDT) Received: from postal.iol.unh.edu (postal.iol.unh.edu. [132.177.123.84]) by smtp-relay.gmail.com with ESMTPS id d9443c01a7336-231d4e97e05sm1970525ad.78.2025.05.17.05.31.04 (version=TLS1_2 cipher=ECDHE-ECDSA-AES128-GCM-SHA256 bits=128/128); Sat, 17 May 2025 05:31:04 -0700 (PDT) X-Relaying-Domain: iol.unh.edu Date: Sat, 17 May 2025 05:31:04 -0700 (PDT) Message-ID: <68288188.170a0220.26f5cd.a741SMTPIN_ADDED_MISSING@mx.google.com> Received: from [172.17.0.4] (unknown [172.18.0.74]) by postal.iol.unh.edu (Postfix) with ESMTP id E02CA6052471; Sat, 17 May 2025 08:31:02 -0400 (EDT) Subject: |SUCCESS| pw153492-153497 [PATCH] [RFC,v2,6/6] dts: add performance From: dpdklab@iol.unh.edu To: Test Report Cc: dpdk-test-reports@iol.unh.edu In-Reply-To: <20250516201834.626206-7-npratte@iol.unh.edu> References: <20250516201834.626206-7-npratte@iol.unh.edu> Content-Type: text/plain X-BeenThere: test-report@dpdk.org X-Mailman-Version: 2.1.29 Precedence: list List-Id: automatic DPDK test reports List-Unsubscribe: , List-Archive: List-Post: List-Help: List-Subscribe: , Errors-To: test-report-bounces@dpdk.org Test-Label: iol-abi-testing Test-Status: SUCCESS http://dpdk.org/patch/153497 _Testing PASS_ Submitter: Nicholas Pratte Date: Friday, May 16 2025 20:18:34 DPDK git baseline: Repo:dpdk Branch: master CommitID:1aef42bc97a31906486c9d66b792208948af06f3 153492-153497 --> testing pass Upstream job id: Generic-DPDK-Compile-ABI#126810 Test environment and result as below: +-------------------+----------+ | Environment | abi_test | +===================+==========+ | Fedora 40 (Clang) | PASS | +-------------------+----------+ | CentOS Stream 10 | PASS | +-------------------+----------+ | Debian 12 | PASS | +-------------------+----------+ | CentOS Stream 9 | PASS | +-------------------+----------+ | Fedora 41 (Clang) | PASS | +-------------------+----------+ | openSUSE Leap 15 | PASS | +-------------------+----------+ | Ubuntu 22.04 | PASS | +-------------------+----------+ | RHEL9 | PASS | +-------------------+----------+ | RHEL8 | PASS | +-------------------+----------+ | Fedora 41 | PASS | +-------------------+----------+ | Ubuntu 24.04 | PASS | +-------------------+----------+ Fedora 40 (Clang) Kernel: Depends on container host Compiler: clang 18.1.8 (Fedora 18.1.8-1.fc40) CentOS Stream 10 Kernel: Depends on container host Compiler: gcc 14.2.1 20241104 (Red Hat 14.2.1-6) Debian 12 Kernel: Depends on container host Compiler: gcc (Debian 12.2.0-14) 12.2.0 CentOS Stream 9 Kernel: Depends on container host Compiler: gcc 11.5.0 20240719 (Red Hat 11.5.0-2) Fedora 41 (Clang) Kernel: Depends on container host Compiler: clang 19.1.5 (Fedora 19.1.5-1.fc41) openSUSE Leap 15 Kernel: Depends on container host Compiler: gcc (SUSE Linux) 7.5.0 Ubuntu 22.04 Kernel: Depends on container host Compiler: gcc (Ubuntu 11.4.0-1ubuntu1~22.04) 11.4.0 RHEL9 Kernel: Depends on container host Compiler: gcc 11.5.0 20240719 (Red Hat 11.5.0-2) RHEL8 Kernel: Depends on container host Compiler: gcc 8.5.0 20210514 (Red Hat 8.5.0-22) Fedora 41 Kernel: Depends on container host Compiler: gcc 14.2.1 20240912 (Red Hat 14.2.1-3) Ubuntu 24.04 Kernel: Depends on container host Compiler: gcc (Ubuntu 13.3.0-6ubuntu2~24.04) 13.3.0 To view detailed results, visit: https://lab.dpdk.org/results/dashboard/patchsets/33196/ UNH-IOL DPDK Community Lab To manage your email subscriptions, visit: https://lab.dpdk.org/results/dashboard/preferences/subscriptions/