From mboxrd@z Thu Jan 1 00:00:00 1970 Return-Path: Received: from mails.dpdk.org (mails.dpdk.org [217.70.189.124]) by inbox.dpdk.org (Postfix) with ESMTP id 3446446772 for ; Sat, 17 May 2025 14:31:34 +0200 (CEST) Received: from mails.dpdk.org (localhost [127.0.0.1]) by mails.dpdk.org (Postfix) with ESMTP id 2FFEC4067A; Sat, 17 May 2025 14:31:34 +0200 (CEST) Received: from mail-pf1-f227.google.com (mail-pf1-f227.google.com [209.85.210.227]) by mails.dpdk.org (Postfix) with ESMTP id 4EADC40678 for ; Sat, 17 May 2025 14:31:32 +0200 (CEST) Received: by mail-pf1-f227.google.com with SMTP id d2e1a72fcca58-7424c24f88bso3947128b3a.1 for ; Sat, 17 May 2025 05:31:32 -0700 (PDT) DKIM-Signature: v=1; a=rsa-sha256; c=relaxed/relaxed; d=iol.unh.edu; s=unh-iol; t=1747485091; x=1748089891; darn=dpdk.org; h=references:in-reply-to:cc:to:from:subject:message-id:date:from:to :cc:subject:date:message-id:reply-to; bh=6SV8vN4Ovh6VDuugWq7sqR21cN6nPyDD20D+sg86V28=; b=V5FjAEj95NumrPXF9WEsHS7lU6cyfPnH1HjCCBAr47lOXyjs9R7RsQWLIfx79he2pY /BREWWnV9YjA+70DpUbhvf56yBL+mSxfRjsLc6HzC2tGh7vCM7Sf5r9QkoyDsHFlM05M mF/thlwx3nrMvjkI78Fd1nBt5mxIUEYHcjoKI= X-Google-DKIM-Signature: v=1; a=rsa-sha256; c=relaxed/relaxed; d=1e100.net; s=20230601; t=1747485091; x=1748089891; h=references:in-reply-to:cc:to:from:subject:message-id:date :x-gm-message-state:from:to:cc:subject:date:message-id:reply-to; bh=6SV8vN4Ovh6VDuugWq7sqR21cN6nPyDD20D+sg86V28=; b=nTAAFKwGfMZxKOs+OpSPV//xF3nowNDGiUz/1ZnLmcTjnxI+mUgIGtGYgVoankn/wk plK6o7A5DK5+Lfo6+ojUzPos8dDxPQW1GH6KixD1BCqX7l7VfLB5z9c6V2aoBIOnBgP8 3n8OxtNweAqzCiNpdj+ww8iKljUixplMFBH6NnIgzKLBe+P52C9FbLv3vSp8CAt0ZTvq cqyjmHhrrFrq6xr7PYIXOOgZQsM4vE3BXEZzgjVa860P2OZcTNNFuBG80XRjFoiruQ6i 7I7Np844YUHTnjkQP9Or39zk6oBenlKeUe16lFmauJIN61rHXEFPZEb6LhjsCA4DWTze MQqQ== X-Gm-Message-State: AOJu0YwjyNn/HDiDDwah12ECYijsnhw7CbB2dyWp7NFZE/bqhrje2UnI 3y99j0GYbG0eZ0AQucd2fxshh0te2tmm3T21/mEzrqvvXR/fwEZtFl5fLcozxy2mgEynahyB9Dz bQ/W+Y6jhesGV6zqlS4QA/DlZafVMgTChIZ13gXi5o3cE X-Gm-Gg: ASbGnctsrQqa4GjEAzkRFkML8sp1D8wI9Zv1wYWahpc41+a5j6KyKBgXPBE9dw4TnLj ji42w8i7tiYC1joGJtkwNnLKTmkp9p20Uwglw5L5C3mUoPIms/8wB6WGWMp9L8pQdrjscyxfef5 WuLOra2ltS8DdECHvkt7r+x9PRubFCllGRMJ2Bag72vV7cX5hDgYY4UUWfq33FVd6uk5eOAWU2K efgld49RSDJoyeGCZCuObXSXD7TaSD0obpwEdIuTdZ4fPsvMlbkJejfgk3QDe3Ij9R5Zp2282Ah PuilNTujFlNfBoMsgEPXkK0qRUFLLNEBt3LjBf6NE5w+enigPy2ZSuyQBw4= X-Google-Smtp-Source: AGHT+IH7mkF5fOvoCwNN/72DzW8rsciGfVGxY5rF6Xhx2PhMauwpM+iP3kAVB2+X18iOG7h+68PkU3bOzLRy X-Received: by 2002:a05:6a00:c86:b0:740:9e87:9625 with SMTP id d2e1a72fcca58-742acc8ff71mr8677902b3a.4.1747485091433; Sat, 17 May 2025 05:31:31 -0700 (PDT) Received: from postal.iol.unh.edu (postal.iol.unh.edu. [132.177.123.84]) by smtp-relay.gmail.com with ESMTPS id d2e1a72fcca58-742a9886073sm207912b3a.20.2025.05.17.05.31.31 (version=TLS1_2 cipher=ECDHE-ECDSA-AES128-GCM-SHA256 bits=128/128); Sat, 17 May 2025 05:31:31 -0700 (PDT) X-Relaying-Domain: iol.unh.edu Date: Sat, 17 May 2025 05:31:31 -0700 (PDT) Message-ID: <682881a3.050a0220.7701d.a654SMTPIN_ADDED_MISSING@mx.google.com> Received: from [172.21.0.6] (unknown [172.18.0.240]) by postal.iol.unh.edu (Postfix) with ESMTP id 5B2F26052471; Sat, 17 May 2025 08:31:30 -0400 (EDT) Subject: |SUCCESS| pw153492-153497 [PATCH] [RFC,v2,6/6] dts: add performance From: dpdklab@iol.unh.edu To: Test Report Cc: dpdk-test-reports@iol.unh.edu In-Reply-To: <20250516201834.626206-7-npratte@iol.unh.edu> References: <20250516201834.626206-7-npratte@iol.unh.edu> Content-Type: text/plain X-BeenThere: test-report@dpdk.org X-Mailman-Version: 2.1.29 Precedence: list List-Id: automatic DPDK test reports List-Unsubscribe: , List-Archive: List-Post: List-Help: List-Subscribe: , Errors-To: test-report-bounces@dpdk.org Test-Label: iol-abi-testing Test-Status: SUCCESS http://dpdk.org/patch/153497 _Testing PASS_ Submitter: Nicholas Pratte Date: Friday, May 16 2025 20:18:34 DPDK git baseline: Repo:dpdk Branch: master CommitID:1aef42bc97a31906486c9d66b792208948af06f3 153492-153497 --> testing pass Upstream job id: Generic-DPDK-Compile-ABI#126805 Test environment and result as below: +-------------------+----------+ | Environment | abi_test | +===================+==========+ | Fedora 40 (Clang) | PASS | +-------------------+----------+ | CentOS Stream 10 | PASS | +-------------------+----------+ | Debian 12 | PASS | +-------------------+----------+ | CentOS Stream 9 | PASS | +-------------------+----------+ | Fedora 41 (Clang) | PASS | +-------------------+----------+ | openSUSE Leap 15 | PASS | +-------------------+----------+ | Ubuntu 22.04 | PASS | +-------------------+----------+ | RHEL9 | PASS | +-------------------+----------+ | RHEL8 | PASS | +-------------------+----------+ | Fedora 41 | PASS | +-------------------+----------+ | Ubuntu 24.04 | PASS | +-------------------+----------+ Fedora 40 (Clang) Kernel: Depends on container host Compiler: clang 18.1.8 (Fedora 18.1.8-1.fc40) CentOS Stream 10 Kernel: Depends on container host Compiler: gcc 14.2.1 20241104 (Red Hat 14.2.1-6) Debian 12 Kernel: Depends on container host Compiler: gcc (Debian 12.2.0-14) 12.2.0 CentOS Stream 9 Kernel: Depends on container host Compiler: gcc 11.5.0 20240719 (Red Hat 11.5.0-2) Fedora 41 (Clang) Kernel: Depends on container host Compiler: clang 19.1.5 (Fedora 19.1.5-1.fc41) openSUSE Leap 15 Kernel: Depends on container host Compiler: gcc (SUSE Linux) 7.5.0 Ubuntu 22.04 Kernel: Depends on container host Compiler: gcc (Ubuntu 11.4.0-1ubuntu1~22.04) 11.4.0 RHEL9 Kernel: Depends on container host Compiler: gcc 11.5.0 20240719 (Red Hat 11.5.0-2) RHEL8 Kernel: Depends on container host Compiler: gcc 8.5.0 20210514 (Red Hat 8.5.0-22) Fedora 41 Kernel: Depends on container host Compiler: gcc 14.2.1 20240912 (Red Hat 14.2.1-3) Ubuntu 24.04 Kernel: Depends on container host Compiler: gcc (Ubuntu 13.3.0-6ubuntu2~24.04) 13.3.0 To view detailed results, visit: https://lab.dpdk.org/results/dashboard/patchsets/33196/ UNH-IOL DPDK Community Lab To manage your email subscriptions, visit: https://lab.dpdk.org/results/dashboard/preferences/subscriptions/