From mboxrd@z Thu Jan 1 00:00:00 1970 Return-Path: Received: from mails.dpdk.org (mails.dpdk.org [217.70.189.124]) by inbox.dpdk.org (Postfix) with ESMTP id 4467646772 for ; Sat, 17 May 2025 14:31:47 +0200 (CEST) Received: from mails.dpdk.org (localhost [127.0.0.1]) by mails.dpdk.org (Postfix) with ESMTP id 3F4FF4067A; Sat, 17 May 2025 14:31:47 +0200 (CEST) Received: from mail-qt1-f225.google.com (mail-qt1-f225.google.com [209.85.160.225]) by mails.dpdk.org (Postfix) with ESMTP id 38EAF40678 for ; Sat, 17 May 2025 14:31:45 +0200 (CEST) Received: by mail-qt1-f225.google.com with SMTP id d75a77b69052e-47688ae873fso32307401cf.0 for ; Sat, 17 May 2025 05:31:45 -0700 (PDT) DKIM-Signature: v=1; a=rsa-sha256; c=relaxed/relaxed; d=iol.unh.edu; s=unh-iol; t=1747485104; x=1748089904; darn=dpdk.org; h=references:in-reply-to:cc:to:from:subject:message-id:date:from:to :cc:subject:date:message-id:reply-to; bh=Er8IG3uwLRWyug+MYpfOrj83E5kS9BWuSiCOIH8naPU=; b=D4fyekt5gtikf2P/AnoQkB8niRwkpTWPWcHjdrYhMpGTUppTA5+xTHeckzzp0LK6ha bWaAWZ3O+4IdBdv0404SiEWulDjMn253bp8wE5Rlqy+3bwLUcXaySPa7IHY42clzmQ8v trXUZKi0kOWTblH93aV3+wJjAG0g3e5SnQbqY= X-Google-DKIM-Signature: v=1; a=rsa-sha256; c=relaxed/relaxed; d=1e100.net; s=20230601; t=1747485104; x=1748089904; h=references:in-reply-to:cc:to:from:subject:message-id:date :x-gm-message-state:from:to:cc:subject:date:message-id:reply-to; bh=Er8IG3uwLRWyug+MYpfOrj83E5kS9BWuSiCOIH8naPU=; b=O9ypT2HvmJBi1SCY1muFbcHnivwFrf0DQQZGN9CwO4VHKSVs9a1sCy+NpLeFH8aRzt Pg94jvBu+WLbh+C+w2I2Pu4Z3RF50gpyJKqd3j6AU/P+qkeloU5W6YB2137T4hMIfvJo Axx3i3bcXZNBmFDSvoq1THlKi6Fz9ho2OvAZtdGDTUoyPC61qT/H01w7o7SLTtmdRELe 7PYimWYEE+Cqp3f98q75wqsV9FhTv1pfjkRIoKukmnNk/BRhLA6+EjdVSEMZUf2eeIDU zt8ARSGpFpPtZ4lAVwLa9V2NwRzHcf+1we83xESlZQmhseX4pDOMXDmkU4dFm9OKvgvb bD4Q== X-Gm-Message-State: AOJu0YwDlUnH1KQepWZfUaWikM1yJAji1hN8J5G9RcQOXbkxi9uuX1ve yMFvlnhnDeFnzQfPA1061yDmXdGKjFgwSOIqkjhQPARPzO6wqRqpsS1JW5PjDPmgl9Foe/Hw40W lNFsLOurUyZswPBAZyYA2OxpMKU6/iepYS5RGlHuJpCcywObuRNNf2JlvVmbe X-Gm-Gg: ASbGncu4xSxRh4Gk9B+9u/vCli8KTP4Xjnq4SzznM7bAH34YlghDUd18D61FP883Eoe ljU6RFAKAkTJNBWl4snXjZetF1dFtD8B3mZZqNnbZRl/driOCururBxFdO4BplQAGYITTchyONk aogjnSKOf1rIbzgj0r3M71r6kC47ENUwRjHHLryuT/IFoo/eeGI4gvys88XBG0GV0mfhSKSX7Lj SMHo8URMpOn/tiFRFGOAvHx2/pqMeYOTdvVZocyac3syclmSWgU4RJHUZWGqoB5+WcrxYGoRi4W A4ikgmzk1diFYeCOmKa0vL0ELphqlf4voSiA X-Google-Smtp-Source: AGHT+IGVAKxKZXPsm/fJoZfQcjFw/0fwEPHsO4rTJhMU3xwmCBC6ifl7elCZ+xbmi5Je1cJkqTb/MozwVbK1 X-Received: by 2002:ac8:5c95:0:b0:494:a436:e610 with SMTP id d75a77b69052e-494ae357b94mr147753031cf.13.1747485104309; Sat, 17 May 2025 05:31:44 -0700 (PDT) Received: from postal.iol.unh.edu (postal.iol.unh.edu. [2606:4100:3880:1234::84]) by smtp-relay.gmail.com with ESMTPS id d75a77b69052e-494ae3d8b42sm1771641cf.4.2025.05.17.05.31.44 (version=TLS1_2 cipher=ECDHE-ECDSA-AES128-GCM-SHA256 bits=128/128); Sat, 17 May 2025 05:31:44 -0700 (PDT) X-Relaying-Domain: iol.unh.edu Date: Sat, 17 May 2025 05:31:44 -0700 (PDT) Message-ID: <682881b0.050a0220.2d76ce.988eSMTPIN_ADDED_MISSING@mx.google.com> Received: from [172.21.0.5] (unknown [172.18.0.240]) by postal.iol.unh.edu (Postfix) with ESMTP id C3B2F6052471; Sat, 17 May 2025 08:31:43 -0400 (EDT) Subject: |SUCCESS| pw153492-153497 [PATCH] [RFC,v2,6/6] dts: add performance From: dpdklab@iol.unh.edu To: Test Report Cc: dpdk-test-reports@iol.unh.edu In-Reply-To: <20250516201834.626206-7-npratte@iol.unh.edu> References: <20250516201834.626206-7-npratte@iol.unh.edu> Content-Type: text/plain X-BeenThere: test-report@dpdk.org X-Mailman-Version: 2.1.29 Precedence: list List-Id: automatic DPDK test reports List-Unsubscribe: , List-Archive: List-Post: List-Help: List-Subscribe: , Errors-To: test-report-bounces@dpdk.org Test-Label: iol-unit-amd64-testing Test-Status: SUCCESS http://dpdk.org/patch/153497 _Testing PASS_ Submitter: Nicholas Pratte Date: Friday, May 16 2025 20:18:34 DPDK git baseline: Repo:dpdk Branch: master CommitID:1aef42bc97a31906486c9d66b792208948af06f3 153492-153497 --> testing pass Upstream job id: Generic-VM-Unit-Test-DPDK#28597 Test environment and result as below: +---------------------+----------------+ | Environment | dpdk_unit_test | +=====================+================+ | CentOS Stream 10 | PASS | +---------------------+----------------+ | CentOS Stream 9 | PASS | +---------------------+----------------+ | Fedora 40 (Clang) | PASS | +---------------------+----------------+ | Debian 12 | PASS | +---------------------+----------------+ | Fedora 41 | PASS | +---------------------+----------------+ | RHEL8 | PASS | +---------------------+----------------+ | Fedora 40 | PASS | +---------------------+----------------+ | Fedora 41 (Clang) | PASS | +---------------------+----------------+ | Ubuntu 20.04 | PASS | +---------------------+----------------+ | Ubuntu 24.04 | PASS | +---------------------+----------------+ | RHEL9 | PASS | +---------------------+----------------+ | Ubuntu 22.04 | PASS | +---------------------+----------------+ | Windows Server 2022 | PASS | +---------------------+----------------+ CentOS Stream 10 Kernel: Depends on container host Compiler: gcc 14.2.1 20241104 (Red Hat 14.2.1-6) CentOS Stream 9 Kernel: Depends on container host Compiler: gcc 11.5.0 20240719 (Red Hat 11.5.0-2) Fedora 40 (Clang) Kernel: Depends on container host Compiler: clang 18.1.8 (Fedora 18.1.8-1.fc40) Debian 12 Kernel: Depends on container host Compiler: gcc (Debian 12.2.0-14) 12.2.0 Fedora 41 Kernel: Depends on container host Compiler: gcc 14.2.1 20240912 (Red Hat 14.2.1-3) RHEL8 Kernel: Depends on container host Compiler: gcc 8.5.0 20210514 (Red Hat 8.5.0-22) Fedora 40 Kernel: Depends on container host Compiler: gcc 14.2.1 20240912 (Red Hat 14.2.1-3) Fedora 41 (Clang) Kernel: Depends on container host Compiler: clang 19.1.5 (Fedora 19.1.5-1.fc41) Ubuntu 20.04 Kernel: Depends on container host Compiler: gcc (Ubuntu 9.4.0-1ubuntu1~20.04.2) 9.4.0 Ubuntu 24.04 Kernel: Depends on container host Compiler: gcc (Ubuntu 13.3.0-6ubuntu2~24.04) 13.3.0 RHEL9 Kernel: Depends on container host Compiler: gcc 11.5.0 20240719 (Red Hat 11.5.0-2) Ubuntu 22.04 Kernel: Depends on container host Compiler: gcc (Ubuntu 11.4.0-1ubuntu1~22.04) 11.4.0 Windows Server 2022 Kernel: 10.0.20348.2031 Compiler: clang 15.0.7, gcc 14.1.0 (MinGW), and MSVC VS 19.39.33521 To view detailed results, visit: https://lab.dpdk.org/results/dashboard/patchsets/33196/ UNH-IOL DPDK Community Lab To manage your email subscriptions, visit: https://lab.dpdk.org/results/dashboard/preferences/subscriptions/