From mboxrd@z Thu Jan 1 00:00:00 1970 Return-Path: Received: from mails.dpdk.org (mails.dpdk.org [217.70.189.124]) by inbox.dpdk.org (Postfix) with ESMTP id 1D06546772 for ; Sat, 17 May 2025 14:40:04 +0200 (CEST) Received: from mails.dpdk.org (localhost [127.0.0.1]) by mails.dpdk.org (Postfix) with ESMTP id E28CA40678; Sat, 17 May 2025 14:40:03 +0200 (CEST) Received: from mail-qv1-f99.google.com (mail-qv1-f99.google.com [209.85.219.99]) by mails.dpdk.org (Postfix) with ESMTP id 958D54064F for ; Sat, 17 May 2025 14:40:02 +0200 (CEST) Received: by mail-qv1-f99.google.com with SMTP id 6a1803df08f44-6f8b27c2d7bso20848646d6.1 for ; Sat, 17 May 2025 05:40:02 -0700 (PDT) DKIM-Signature: v=1; a=rsa-sha256; c=relaxed/relaxed; d=iol.unh.edu; s=unh-iol; t=1747485602; x=1748090402; darn=dpdk.org; h=references:in-reply-to:cc:to:from:subject:message-id:date:from:to :cc:subject:date:message-id:reply-to; bh=ksNnFn7GtS2zgAHl34wT+MOxXQ8k88wSHDvm1QCG3BU=; b=cc8N0The+iNzpOsSK1M5HrECCS+3ZP2yXQfSg8ZTT+zj6FafRqQR01jyVCeqrzheyX D/J6IAqg9V5i6ZBnalFlaSD+GQ7epPJ4HSA21fTWKGj7KlMKLjysnuVa8M7Q2mfCRRUA dYByAGh5sXUMJWymTiIB8cN/fgobb+HQM1ToQ= X-Google-DKIM-Signature: v=1; a=rsa-sha256; c=relaxed/relaxed; d=1e100.net; s=20230601; t=1747485602; x=1748090402; h=references:in-reply-to:cc:to:from:subject:message-id:date :x-gm-message-state:from:to:cc:subject:date:message-id:reply-to; bh=ksNnFn7GtS2zgAHl34wT+MOxXQ8k88wSHDvm1QCG3BU=; b=RU0Ik2OsxVJgJvFVY1kye2k27qnDU79O4v9bCmpIcVqj4SvC8ccsmfigIDO9YGJ7AB Fd8gewY1AHAaVJImQYiMKWEY3bKHKAJgCXZpOGi+CDuEp6GCO419xmuu4BVFdczPnGMa WbjV1ja4/Cf55HViKaKnLvO0KmD8r8gri9Or0KkkF0WP6AeB6xQHX1UAY7H5sgIxLuQN pBuiPUBP0iydAk1dmLBNHe0iVegdGc2W7Gm3BcyFmCknHvanlFCtXlr0aXTvhYlGQHmU mgsyWjkqtn/T1vc6yjzwml7OfaHC9MPPbx8xjAebAFIZ6b1/GbDFgGzgMeTQanp5uSh6 gC3A== X-Gm-Message-State: AOJu0Yyzmp7bv3qLU4fa3THOdMdSxnmn04f64ZCcRm18ZVn0T8/L3B/Q 1N0pzFZ0D9spW038K8poRwXrV7AsFgfOW4dE3OdI9qt8kVSAhw9/1n0NXwvY7XgQzu+exIovfiE D9B7HhJoqH0zEm3oIH6HZkdcD5+IMTdF38M0n0d1vFyrDvCQthfwZK5RuZATV X-Gm-Gg: ASbGncvRuhemEHjpHOVDMgV82E0mVeSCfNdqgJ+kQHj51Eg6dP+iVEKlAq5ygTs5EO2 wK27fR4I1QJMG1sOib8EcaO+/7qInNj22sK4/fecjXBxrAU8/xi69gUOMB34q+lxnlvGkQhqRae rx1jKfTncyqWbHshi1bbchpMZn+JTg+BSgIqzZW+Mgqz3rPRDKDF/UqFD9CDxOGsUtJEQm0B7TC EpTWOXi9DJk3SHQS60/78lErSPS2P9SNCbBkgkdGBOle+PaBZg2t0XL0uOSd2I6mNdGL/RzxtS9 5HUPD8r7f0+eIj/uoP1BQYaJDLyJBw6DWuIs X-Google-Smtp-Source: AGHT+IGF8TxTW3EAg/c8C1s+GYsisRoEiFH72DhU/gH0YncumQXYQ5sSoUceHEh+cHcCg2E0XEzPNzwhyFyc X-Received: by 2002:ad4:5f8e:0:b0:6e6:5e15:d94f with SMTP id 6a1803df08f44-6f8b2d4fa1dmr95584766d6.27.1747485601863; Sat, 17 May 2025 05:40:01 -0700 (PDT) Received: from postal.iol.unh.edu (postal.iol.unh.edu. [2606:4100:3880:1234::84]) by smtp-relay.gmail.com with ESMTPS id 6a1803df08f44-6f8b09a5448sm1231226d6.45.2025.05.17.05.40.01 (version=TLS1_2 cipher=ECDHE-ECDSA-AES128-GCM-SHA256 bits=128/128); Sat, 17 May 2025 05:40:01 -0700 (PDT) X-Relaying-Domain: iol.unh.edu Date: Sat, 17 May 2025 05:40:01 -0700 (PDT) Message-ID: <682883a1.d40a0220.34b0a.9944SMTPIN_ADDED_MISSING@mx.google.com> Received: from [172.17.0.3] (unknown [172.18.0.74]) by postal.iol.unh.edu (Postfix) with ESMTP id 8CD1C6052471; Sat, 17 May 2025 08:40:01 -0400 (EDT) Subject: |SUCCESS| pw153492-153497 [PATCH] [RFC,v2,6/6] dts: add performance From: dpdklab@iol.unh.edu To: Test Report Cc: dpdk-test-reports@iol.unh.edu In-Reply-To: <20250516201834.626206-7-npratte@iol.unh.edu> References: <20250516201834.626206-7-npratte@iol.unh.edu> Content-Type: text/plain X-BeenThere: test-report@dpdk.org X-Mailman-Version: 2.1.29 Precedence: list List-Id: automatic DPDK test reports List-Unsubscribe: , List-Archive: List-Post: List-Help: List-Subscribe: , Errors-To: test-report-bounces@dpdk.org Test-Label: iol-unit-amd64-testing Test-Status: SUCCESS http://dpdk.org/patch/153497 _Testing PASS_ Submitter: Nicholas Pratte Date: Friday, May 16 2025 20:18:34 DPDK git baseline: Repo:dpdk Branch: master CommitID:1aef42bc97a31906486c9d66b792208948af06f3 153492-153497 --> testing pass Upstream job id: Generic-VM-Unit-Test-DPDK#28598 Test environment and result as below: +---------------------+----------------+ | Environment | dpdk_unit_test | +=====================+================+ | CentOS Stream 10 | PASS | +---------------------+----------------+ | CentOS Stream 9 | PASS | +---------------------+----------------+ | Fedora 40 (Clang) | PASS | +---------------------+----------------+ | Debian 12 | PASS | +---------------------+----------------+ | Fedora 41 | PASS | +---------------------+----------------+ | RHEL8 | PASS | +---------------------+----------------+ | Fedora 40 | PASS | +---------------------+----------------+ | Fedora 41 (Clang) | PASS | +---------------------+----------------+ | Ubuntu 20.04 | PASS | +---------------------+----------------+ | Ubuntu 24.04 | PASS | +---------------------+----------------+ | RHEL9 | PASS | +---------------------+----------------+ | Ubuntu 22.04 | PASS | +---------------------+----------------+ | Windows Server 2022 | PASS | +---------------------+----------------+ CentOS Stream 10 Kernel: Depends on container host Compiler: gcc 14.2.1 20241104 (Red Hat 14.2.1-6) CentOS Stream 9 Kernel: Depends on container host Compiler: gcc 11.5.0 20240719 (Red Hat 11.5.0-2) Fedora 40 (Clang) Kernel: Depends on container host Compiler: clang 18.1.8 (Fedora 18.1.8-1.fc40) Debian 12 Kernel: Depends on container host Compiler: gcc (Debian 12.2.0-14) 12.2.0 Fedora 41 Kernel: Depends on container host Compiler: gcc 14.2.1 20240912 (Red Hat 14.2.1-3) RHEL8 Kernel: Depends on container host Compiler: gcc 8.5.0 20210514 (Red Hat 8.5.0-22) Fedora 40 Kernel: Depends on container host Compiler: gcc 14.2.1 20240912 (Red Hat 14.2.1-3) Fedora 41 (Clang) Kernel: Depends on container host Compiler: clang 19.1.5 (Fedora 19.1.5-1.fc41) Ubuntu 20.04 Kernel: Depends on container host Compiler: gcc (Ubuntu 9.4.0-1ubuntu1~20.04.2) 9.4.0 Ubuntu 24.04 Kernel: Depends on container host Compiler: gcc (Ubuntu 13.3.0-6ubuntu2~24.04) 13.3.0 RHEL9 Kernel: Depends on container host Compiler: gcc 11.5.0 20240719 (Red Hat 11.5.0-2) Ubuntu 22.04 Kernel: Depends on container host Compiler: gcc (Ubuntu 11.4.0-1ubuntu1~22.04) 11.4.0 Windows Server 2022 Kernel: 10.0.20348.2031 Compiler: clang 15.0.7, gcc 14.1.0 (MinGW), and MSVC VS 19.39.33521 To view detailed results, visit: https://lab.dpdk.org/results/dashboard/patchsets/33196/ UNH-IOL DPDK Community Lab To manage your email subscriptions, visit: https://lab.dpdk.org/results/dashboard/preferences/subscriptions/