From mboxrd@z Thu Jan 1 00:00:00 1970 Return-Path: Received: from mails.dpdk.org (mails.dpdk.org [217.70.189.124]) by inbox.dpdk.org (Postfix) with ESMTP id 7CC6A46772 for ; Sat, 17 May 2025 14:44:41 +0200 (CEST) Received: from mails.dpdk.org (localhost [127.0.0.1]) by mails.dpdk.org (Postfix) with ESMTP id 59E8240678; Sat, 17 May 2025 14:44:41 +0200 (CEST) Received: from mail-pl1-f226.google.com (mail-pl1-f226.google.com [209.85.214.226]) by mails.dpdk.org (Postfix) with ESMTP id 5116F4064F for ; Sat, 17 May 2025 14:44:40 +0200 (CEST) Received: by mail-pl1-f226.google.com with SMTP id d9443c01a7336-231e21d3b63so19452395ad.3 for ; Sat, 17 May 2025 05:44:40 -0700 (PDT) DKIM-Signature: v=1; a=rsa-sha256; c=relaxed/relaxed; d=iol.unh.edu; s=unh-iol; t=1747485879; x=1748090679; darn=dpdk.org; h=references:in-reply-to:cc:to:from:subject:message-id:date:from:to :cc:subject:date:message-id:reply-to; bh=2mn6yWnklCFfog4JI8C/mJE42VI8f7uCBnKsC03pNy0=; b=QDIaAMBHwNDVaCUCzYRotsXB8Xxyd9m34T9/NxB3rUj/IipN1u/igz4Jgx9DnHsaoT dAkrPEoUiIYPPo5l2TwkmeovfZNcGpyU4D5/duyFQGAVwPZDNeQwauOKPSn6ckwCmgZg KIFSOSZ2XGvT5Q8ev392m8se1FIkq27XcjjRk= X-Google-DKIM-Signature: v=1; a=rsa-sha256; c=relaxed/relaxed; d=1e100.net; s=20230601; t=1747485879; x=1748090679; h=references:in-reply-to:cc:to:from:subject:message-id:date :x-gm-message-state:from:to:cc:subject:date:message-id:reply-to; bh=2mn6yWnklCFfog4JI8C/mJE42VI8f7uCBnKsC03pNy0=; b=U8nhhW3X02Cq9yaXOBak/rjeUiX23Bnq7rPr/PirOUnOJU4/ihe7D0qpR5OBYvniJE +85gndLoY4wm6Q3p4ysGjIurqxZwIoKM47BFhcEvAE1Dj8x8HNLCq5muvZdBZbk2hrg/ 5FgzklbTAzRvGUwhbfTu7RFlXwhjM350RkBHI1d0uoXlpNsNLv+GOsE3DwoZodBhL3po BV5Bqt24ZK6Ng10MJh7aWTi9Zc5mzt0Yy7kaTrXhA2j21KnGmQ2owRptp/HRVpKVPlu+ K1scC63CV50p9gOHQ+hlG96oeLZrv0ZziJ+cNf4n44Jvt7oe/4lPFtOrCry7Eam8Tcz+ fQIg== X-Gm-Message-State: AOJu0YwIltmnr3gr+ejIf5ipKoBtN6elvAKu0L/6eUtDAq0QKczMvixw rFcZs0K1REvgG2oMHL559sFgJK3C7ZDqWm+XYroKGn9wbwrJqB9nPtmtI5u49fQYbkyNeit0CxL Q1LKz+obi/ljgGD/j58rJbvV2S72Mrgbdt967bKD1oGtLKPoFmy60fcAeZ3Nf X-Gm-Gg: ASbGnctTo+SgeGe2w/INDghgE3wjfWnvgM1Gs24huah3VWLcHEYz5z7Tz1kSj9Ggy02 wX741yX3tjYc1qEGS//4kWkQdd7ZFO0t6JFoRQeNk14p5h0W4kC+B1t6SWmjJX67HC3E6vqecO9 0AJuboKdLSb07lgx72GyfR1Eg8ApIK9heHl5KYeb8+Vd/cjCmOCcunhjDwlpDXHtlsVHS9h/E2p QdqW306LC6UARYFBesPb7xTrKRC0wZ2Cko5wH/oxbN12qtv40Jv8tcTycWt/AMwm20DqOm5ZRR1 /ydlPXcwbRsRfLkfC3CCw8ae6JouxAQ3grD9 X-Google-Smtp-Source: AGHT+IEj1KQZ7et3TyYoY0WWS5FNgkGnnW0w55OxY/+O+sACrlqJnLX1uYUOj3kEGMehKK9a2KguuWZ5ZRNl X-Received: by 2002:a17:902:ea0c:b0:224:de2:7fd6 with SMTP id d9443c01a7336-231de36bc66mr86155985ad.25.1747485879280; Sat, 17 May 2025 05:44:39 -0700 (PDT) Received: from postal.iol.unh.edu (postal.iol.unh.edu. [2606:4100:3880:1234::84]) by smtp-relay.gmail.com with ESMTPS id d9443c01a7336-231ea685169sm1380205ad.28.2025.05.17.05.44.39 (version=TLS1_2 cipher=ECDHE-ECDSA-AES128-GCM-SHA256 bits=128/128); Sat, 17 May 2025 05:44:39 -0700 (PDT) X-Relaying-Domain: iol.unh.edu Date: Sat, 17 May 2025 05:44:39 -0700 (PDT) Message-ID: <682884b7.170a0220.165f38.8fb0SMTPIN_ADDED_MISSING@mx.google.com> Received: from [172.17.0.2] (unknown [172.18.0.76]) by postal.iol.unh.edu (Postfix) with ESMTP id 51A326052471; Sat, 17 May 2025 08:44:38 -0400 (EDT) Subject: |SUCCESS| pw153492-153497 [PATCH] [RFC,v2,6/6] dts: add performance From: dpdklab@iol.unh.edu To: Test Report Cc: dpdk-test-reports@iol.unh.edu In-Reply-To: <20250516201834.626206-7-npratte@iol.unh.edu> References: <20250516201834.626206-7-npratte@iol.unh.edu> Content-Type: text/plain X-BeenThere: test-report@dpdk.org X-Mailman-Version: 2.1.29 Precedence: list List-Id: automatic DPDK test reports List-Unsubscribe: , List-Archive: List-Post: List-Help: List-Subscribe: , Errors-To: test-report-bounces@dpdk.org Test-Label: iol-unit-arm64-testing Test-Status: SUCCESS http://dpdk.org/patch/153497 _Testing PASS_ Submitter: Nicholas Pratte Date: Friday, May 16 2025 20:18:34 DPDK git baseline: Repo:dpdk Branch: master CommitID:1aef42bc97a31906486c9d66b792208948af06f3 153492-153497 --> testing pass Upstream job id: Generic-Unit-Test-DPDK#338796 Test environment and result as below: +-----------------------------+--------------+---------------------------+----------------+------------------------------+ | Environment | lpm_autotest | cryptodev_sw_zuc_autotest | dpdk_unit_test | cryptodev_sw_snow3g_autotest | +=============================+==============+===========================+================+==============================+ | Ubuntu 20.04 ARM SVE | PASS | SKIPPED | SKIPPED | SKIPPED | +-----------------------------+--------------+---------------------------+----------------+------------------------------+ | Debian 12 (arm) | SKIPPED | PASS | PASS | PASS | +-----------------------------+--------------+---------------------------+----------------+------------------------------+ | CentOS Stream 9 (ARM) | SKIPPED | SKIPPED | PASS | SKIPPED | +-----------------------------+--------------+---------------------------+----------------+------------------------------+ | CentOS Stream 10 (ARM) | SKIPPED | SKIPPED | PASS | SKIPPED | +-----------------------------+--------------+---------------------------+----------------+------------------------------+ | Fedora 40 (ARM) | SKIPPED | SKIPPED | PASS | SKIPPED | +-----------------------------+--------------+---------------------------+----------------+------------------------------+ | Fedora 40 (ARM Clang) | SKIPPED | SKIPPED | PASS | SKIPPED | +-----------------------------+--------------+---------------------------+----------------+------------------------------+ | Fedora 41 (ARM) | SKIPPED | SKIPPED | PASS | SKIPPED | +-----------------------------+--------------+---------------------------+----------------+------------------------------+ | Fedora 41 (ARM Clang) | SKIPPED | SKIPPED | PASS | SKIPPED | +-----------------------------+--------------+---------------------------+----------------+------------------------------+ | RHEL9 (ARM) | SKIPPED | SKIPPED | PASS | SKIPPED | +-----------------------------+--------------+---------------------------+----------------+------------------------------+ | Ubuntu 22.04 (ARM) | SKIPPED | SKIPPED | PASS | SKIPPED | +-----------------------------+--------------+---------------------------+----------------+------------------------------+ | Ubuntu 20.04 (ARM) | SKIPPED | SKIPPED | PASS | SKIPPED | +-----------------------------+--------------+---------------------------+----------------+------------------------------+ | Ubuntu 24.04 (ARM) | SKIPPED | SKIPPED | PASS | SKIPPED | +-----------------------------+--------------+---------------------------+----------------+------------------------------+ | 32-bit Ubuntu 22.04.4 (ARM) | SKIPPED | SKIPPED | PASS | SKIPPED | +-----------------------------+--------------+---------------------------+----------------+------------------------------+ Ubuntu 20.04 ARM SVE Kernel: Depends on container host Compiler: gcc (Ubuntu 10.5.0-1ubuntu1~20.04) 10.5.0 Debian 12 (arm) Kernel: Depends on container host Compiler: gcc (Debian 12.2.0-14) 12.2.0 CentOS Stream 9 (ARM) Kernel: Depends on container host Compiler: gcc 11.5.0 20240719 (Red Hat 11.5.0-2) CentOS Stream 10 (ARM) Kernel: Depends on container host Compiler: gcc 14.2.1 20241104 (Red Hat 14.2.1-6) Fedora 40 (ARM) Kernel: Depends on container host Compiler: gcc 14.2.1 20240912 (Red Hat 14.2.1-3) Fedora 40 (ARM Clang) Kernel: Depends on container host Compiler: clang 18.1.8 (Fedora 18.1.8-1.fc40) Fedora 41 (ARM) Kernel: Depends on container host Compiler: gcc 14.2.1 20240912 (Red Hat 14.2.1-3) Fedora 41 (ARM Clang) Kernel: Depends on container host Compiler: clang 19.1.5 (Fedora 19.1.5-1.fc41) RHEL9 (ARM) Kernel: Depends on container host Compiler: gcc 11.5.0 20240719 (Red Hat 11.5.0-2) Ubuntu 22.04 (ARM) Kernel: Depends on container host Compiler: gcc (Ubuntu 11.4.0-1ubuntu1~22.04) 11.4.0 Ubuntu 20.04 (ARM) Kernel: Depends on container host Compiler: gcc (Ubuntu 9.4.0-1ubuntu1~20.04.2) 9.4.0 Ubuntu 24.04 (ARM) Kernel: Depends on container host Compiler: gcc (Ubuntu 13.3.0-6ubuntu2~24.04) 13.3.0 32-bit Ubuntu 22.04.4 (ARM) Kernel: 5.15.83+ aarch64 Compiler: gcc (Ubuntu 11.4.0-1ubuntu1~22.04) 11.4.0 To view detailed results, visit: https://lab.dpdk.org/results/dashboard/patchsets/33196/ UNH-IOL DPDK Community Lab To manage your email subscriptions, visit: https://lab.dpdk.org/results/dashboard/preferences/subscriptions/