automatic DPDK test reports
 help / color / mirror / Atom feed
From: dpdklab@iol.unh.edu
To: Test Report <test-report@dpdk.org>
Cc: dpdk-test-reports@iol.unh.edu
Subject: |SUCCESS| pw153492-153497 [PATCH] [RFC,v2,6/6] dts: add performance
Date: Sat, 17 May 2025 05:48:22 -0700 (PDT)	[thread overview]
Message-ID: <68288596.170a0220.15a796.d838SMTPIN_ADDED_MISSING@mx.google.com> (raw)
In-Reply-To: <20250516201834.626206-7-npratte@iol.unh.edu>

Test-Label: iol-sample-apps-testing
Test-Status: SUCCESS
http://dpdk.org/patch/153497

_Testing PASS_

Submitter: Nicholas Pratte <npratte@iol.unh.edu>
Date: Friday, May 16 2025 20:18:34 
DPDK git baseline: Repo:dpdk
  Branch: master
  CommitID:1aef42bc97a31906486c9d66b792208948af06f3

153492-153497 --> testing pass

Upstream job id: ACVP-FIPS-testing#9850

Test environment and result as below:

+--------------+----------------------+----------------------+
| Environment  | compressdev_zlib_pmd | dpdk_fips_validation |
+==============+======================+======================+
| Ubuntu 22.04 | PASS                 | SKIPPED              |
+--------------+----------------------+----------------------+
| Ubuntu 20.04 | SKIPPED              | PASS                 |
+--------------+----------------------+----------------------+


Ubuntu 22.04
	Kernel: 5.15.0-100-generic
	Compiler: gcc gcc (Ubuntu 11.4.0-1ubuntu1~22.04) 11.4.0

Ubuntu 20.04
	Kernel: Depends on container host
	Compiler: gcc (Ubuntu 9.4.0-1ubuntu1~20.04.2) 9.4.0

To view detailed results, visit:
https://lab.dpdk.org/results/dashboard/patchsets/33196/

UNH-IOL DPDK Community Lab

To manage your email subscriptions, visit: 
https://lab.dpdk.org/results/dashboard/preferences/subscriptions/

  parent reply	other threads:[~2025-05-17 12:48 UTC|newest]

Thread overview: 21+ messages / expand[flat|nested]  mbox.gz  Atom feed  top
     [not found] <20250516201834.626206-7-npratte@iol.unh.edu>
2025-05-16 20:19 ` |WARNING| pw153497 [RFC v2 6/6] dts: add performance test functions to test suite api checkpatch
2025-05-17 10:33 ` |SUCCESS| pw153492-153497 [PATCH] [RFC,v2,6/6] dts: add performance dpdklab
2025-05-17 10:44 ` dpdklab
2025-05-17 10:48 ` dpdklab
2025-05-17 10:50 ` dpdklab
2025-05-17 10:58 ` dpdklab
2025-05-17 10:59 ` dpdklab
2025-05-17 11:13 ` dpdklab
2025-05-17 11:17 ` dpdklab
2025-05-17 11:22 ` |PENDING| " dpdklab
2025-05-17 11:35 ` |SUCCESS| " dpdklab
2025-05-17 11:39 ` |PENDING| " dpdklab
2025-05-17 11:47 ` |SUCCESS| " dpdklab
2025-05-17 12:31 ` dpdklab
2025-05-17 12:31 ` dpdklab
2025-05-17 12:31 ` dpdklab
2025-05-17 12:40 ` dpdklab
2025-05-17 12:44 ` dpdklab
2025-05-17 12:48 ` dpdklab [this message]
2025-05-17 12:56 ` dpdklab
2025-05-17 15:11 ` dpdklab

Reply instructions:

You may reply publicly to this message via plain-text email
using any one of the following methods:

* Save the following mbox file, import it into your mail client,
  and reply-to-all from there: mbox

  Avoid top-posting and favor interleaved quoting:
  https://en.wikipedia.org/wiki/Posting_style#Interleaved_style

* Reply using the --to, --cc, and --in-reply-to
  switches of git-send-email(1):

  git send-email \
    --in-reply-to=68288596.170a0220.15a796.d838SMTPIN_ADDED_MISSING@mx.google.com \
    --to=dpdklab@iol.unh.edu \
    --cc=dpdk-test-reports@iol.unh.edu \
    --cc=test-report@dpdk.org \
    /path/to/YOUR_REPLY

  https://kernel.org/pub/software/scm/git/docs/git-send-email.html

* If your mail client supports setting the In-Reply-To header
  via mailto: links, try the mailto: link
Be sure your reply has a Subject: header at the top and a blank line before the message body.
This is a public inbox, see mirroring instructions
for how to clone and mirror all data and code used for this inbox;
as well as URLs for NNTP newsgroup(s).