From mboxrd@z Thu Jan 1 00:00:00 1970 Return-Path: Received: from mails.dpdk.org (mails.dpdk.org [217.70.189.124]) by inbox.dpdk.org (Postfix) with ESMTP id 1B97246772 for ; Sat, 17 May 2025 14:51:40 +0200 (CEST) Received: from mails.dpdk.org (localhost [127.0.0.1]) by mails.dpdk.org (Postfix) with ESMTP id 07C2140678; Sat, 17 May 2025 14:51:40 +0200 (CEST) Received: from mail-il1-f227.google.com (mail-il1-f227.google.com [209.85.166.227]) by mails.dpdk.org (Postfix) with ESMTP id E72404064F for ; Sat, 17 May 2025 14:51:38 +0200 (CEST) Received: by mail-il1-f227.google.com with SMTP id e9e14a558f8ab-3da6fb115a6so22732525ab.1 for ; Sat, 17 May 2025 05:51:38 -0700 (PDT) DKIM-Signature: v=1; a=rsa-sha256; c=relaxed/relaxed; d=iol.unh.edu; s=unh-iol; t=1747486298; x=1748091098; darn=dpdk.org; h=references:in-reply-to:cc:to:from:subject:message-id:date:from:to :cc:subject:date:message-id:reply-to; bh=7RAXymclnedHAP9Z2AoXeRBWq998XgXZ3Q1na4mQDBQ=; b=b2tsx+ZZOmFoUk7HuRr5E14Qmhngcp5GaCsew9GsIzlEmf5ooPMLYPc1tOGznbV/6C Da+fBat4WkdfcrzEplC7cxCYOPRzxZgEYVmc6hmnXoKlqTmdg3myWCUqarnQrYfKJwp8 lWxCiP5SCGxJaxWqcA9wKLjlvTgnq8BBwXdMM= X-Google-DKIM-Signature: v=1; a=rsa-sha256; c=relaxed/relaxed; d=1e100.net; s=20230601; t=1747486298; x=1748091098; h=references:in-reply-to:cc:to:from:subject:message-id:date :x-gm-message-state:from:to:cc:subject:date:message-id:reply-to; bh=7RAXymclnedHAP9Z2AoXeRBWq998XgXZ3Q1na4mQDBQ=; b=Mq47X+rQiv3GrieW0ygeqpNj+X9+wDrx0nsGsOxKhTVQk6aCpiJm+b9SKXBQUqs1zC 5O8K7EhwboWFd/nHv8UWZTihWEQWtKviLhZwgwyP9J2eKqxd/5oAyeRfQcc7sQLN0GP/ nyZWOXmYf2wv9QNFdbT8YSnkb1V+w37DHDD2LKyoOnLCrBcRNItfkbf5PCo85G6KXSoH 5RMKYeFqvbsCbnjNT1kkqSwfyMhliJNObH7jFlW6D4ft09jOYEHS+S1ABa08CU3jK22t S4FGlEXKS4m92kDE59c6tfrBX2pf3/RVochdmbkncsr2ttj65jF9GqmftiIpfdwbsPih IGEQ== X-Gm-Message-State: AOJu0Ywxn7GFb2XCWcS0hMzR/HAlL6HSRJwx5Pp+03aVAdAd6pa7V3WS oLiLSyPQnRZO0DgEcb9dp08gCEJTMbvlotIB8bg0ANOl+6/Jo7mdUw5eBN3WZ0ujXMSvizrPZlc BLrPrYg2o3xYZJQ+XTW9zq9cmSatEr66Q0vPWy1vSNB7dnDNQOs06UfvizESp X-Gm-Gg: ASbGncv2UQH7A21lXE4frOYnsN3DZH1eV9/xJfWkcZLR++NClZFh/nmaUhwYQbErDdU Xxd28TfAS8SeSYpEkdKhOPkNkyNdLDFd+7BqIH/0Ut1PxQsh5G8qv6TF5CY1Yfj89r2ZqE+P7U/ 5tSD4WPCWdDmVVRciF04PFKmFryr77833hqKhA0VPZ3WlOZBcWVxrsN4Cx6kNZjy/JbbxO3VEg+ S0dTbBLKbCQAtc7kJxY3Ng0fvTCS0TbhaX6emMXeIA3jrP2eQ07iV2L/VTF5NyO1CxokGQwm1F+ fYint43Id8mPCCEiwiFRmiwqW9MJ+cg4O+z3 X-Google-Smtp-Source: AGHT+IEubb8H9AgVqqJJczQPQxZtz4BZRysSvP1J3D1MBRmgR4cTrOVxVb8k9ePMZ8RNsANKoEgn452gZw00 X-Received: by 2002:a05:6e02:1745:b0:3db:7b4c:309b with SMTP id e9e14a558f8ab-3db8429768amr89148125ab.2.1747486298096; Sat, 17 May 2025 05:51:38 -0700 (PDT) Received: from postal.iol.unh.edu (postal.iol.unh.edu. [2606:4100:3880:1234::84]) by smtp-relay.gmail.com with ESMTPS id 8926c6da1cb9f-4fbcc3ae235sm170875173.26.2025.05.17.05.51.37 (version=TLS1_2 cipher=ECDHE-ECDSA-AES128-GCM-SHA256 bits=128/128); Sat, 17 May 2025 05:51:38 -0700 (PDT) X-Relaying-Domain: iol.unh.edu Date: Sat, 17 May 2025 05:51:38 -0700 (PDT) Message-ID: <6828865a.050a0220.112502.a264SMTPIN_ADDED_MISSING@mx.google.com> Received: from [172.17.0.2] (unknown [172.18.0.76]) by postal.iol.unh.edu (Postfix) with ESMTP id 8D81A6052471; Sat, 17 May 2025 08:51:37 -0400 (EDT) Subject: |SUCCESS| pw153499-153500 [PATCH] [v5,2/2] lib/fib: enable fib to be From: dpdklab@iol.unh.edu To: Test Report Cc: dpdk-test-reports@iol.unh.edu In-Reply-To: <1747428335-3736-3-git-send-email-andremue@linux.microsoft.com> References: <1747428335-3736-3-git-send-email-andremue@linux.microsoft.com> Content-Type: text/plain X-BeenThere: test-report@dpdk.org X-Mailman-Version: 2.1.29 Precedence: list List-Id: automatic DPDK test reports List-Unsubscribe: , List-Archive: List-Post: List-Help: List-Subscribe: , Errors-To: test-report-bounces@dpdk.org Test-Label: iol-compile-arm64-testing Test-Status: SUCCESS http://dpdk.org/patch/153500 _Testing PASS_ Submitter: Andre Muezerie Date: Friday, May 16 2025 20:45:35 DPDK git baseline: Repo:dpdk Branch: master CommitID:117e86c4b96ed761e9a7ab766261208fe81bf5ca 153499-153500 --> testing pass Upstream job id: Generic-DPDK-Compile-Meson#389032 Test environment and result as below: +----------------------------------------+--------------------+ | Environment | dpdk_meson_compile | +========================================+====================+ | RHEL9 (ARM) | PASS | +----------------------------------------+--------------------+ | Ubuntu 20.04 ARM GCC Cross Compile | PASS | +----------------------------------------+--------------------+ | Ubuntu 20.04 ARM SVE | PASS | +----------------------------------------+--------------------+ | Debian 12 with MUSDK | PASS | +----------------------------------------+--------------------+ | Fedora 40 (ARM Clang) | PASS | +----------------------------------------+--------------------+ | Fedora 41 (ARM) | PASS | +----------------------------------------+--------------------+ | Fedora 40 (ARM) | PASS | +----------------------------------------+--------------------+ | Ubuntu 22.04 (ARM) | PASS | +----------------------------------------+--------------------+ | Fedora 41 (ARM Clang) | PASS | +----------------------------------------+--------------------+ | Ubuntu 20.04 (ARM) | PASS | +----------------------------------------+--------------------+ | CentOS Stream 9 (ARM) | PASS | +----------------------------------------+--------------------+ | Ubuntu 24.04 (ARM) | PASS | +----------------------------------------+--------------------+ | CentOS Stream 10 (ARM) | PASS | +----------------------------------------+--------------------+ | Debian 12 (arm) | PASS | +----------------------------------------+--------------------+ | Ubuntu 20.04 ARM Clang Cross Compile | PASS | +----------------------------------------+--------------------+ | Ubuntu 20.04 aarch32 GCC Cross Compile | PASS | +----------------------------------------+--------------------+ RHEL9 (ARM) Kernel: Depends on container host Compiler: gcc 11.5.0 20240719 (Red Hat 11.5.0-2) Ubuntu 20.04 ARM GCC Cross Compile Kernel: Depends on container host Compiler: aarch64-linux-gnu-gcc (Ubuntu 9.4.0-1ubuntu1~20.04.2) 9.4.0 Ubuntu 20.04 ARM SVE Kernel: Depends on container host Compiler: gcc (Ubuntu 10.5.0-1ubuntu1~20.04) 10.5.0 Debian 12 with MUSDK Kernel: Depends on container host Compiler: gcc (Debian 12.2.0-14) 12.2.0 Fedora 40 (ARM Clang) Kernel: Depends on container host Compiler: clang 18.1.8 (Fedora 18.1.8-1.fc40) Fedora 41 (ARM) Kernel: Depends on container host Compiler: gcc 14.2.1 20240912 (Red Hat 14.2.1-3) Fedora 40 (ARM) Kernel: Depends on container host Compiler: gcc 14.2.1 20240912 (Red Hat 14.2.1-3) Ubuntu 22.04 (ARM) Kernel: Depends on container host Compiler: gcc (Ubuntu 11.4.0-1ubuntu1~22.04) 11.4.0 Fedora 41 (ARM Clang) Kernel: Depends on container host Compiler: clang 19.1.5 (Fedora 19.1.5-1.fc41) Ubuntu 20.04 (ARM) Kernel: Depends on container host Compiler: gcc (Ubuntu 9.4.0-1ubuntu1~20.04.2) 9.4.0 CentOS Stream 9 (ARM) Kernel: Depends on container host Compiler: gcc 11.5.0 20240719 (Red Hat 11.5.0-2) Ubuntu 24.04 (ARM) Kernel: Depends on container host Compiler: gcc (Ubuntu 13.3.0-6ubuntu2~24.04) 13.3.0 CentOS Stream 10 (ARM) Kernel: Depends on container host Compiler: gcc 14.2.1 20241104 (Red Hat 14.2.1-6) Debian 12 (arm) Kernel: Depends on container host Compiler: gcc (Debian 12.2.0-14) 12.2.0 Ubuntu 20.04 ARM Clang Cross Compile Kernel: Depends on container host Compiler: clang 10.0.0-4ubuntu1 Ubuntu 20.04 aarch32 GCC Cross Compile Kernel: Depends on container host Compiler: gcc 9.4.0 To view detailed results, visit: https://lab.dpdk.org/results/dashboard/patchsets/33198/ UNH-IOL DPDK Community Lab To manage your email subscriptions, visit: https://lab.dpdk.org/results/dashboard/preferences/subscriptions/