* |WARNING| pw153497 [RFC v2 6/6] dts: add performance test functions to test suite api
[not found] <20250516201834.626206-7-npratte@iol.unh.edu>
@ 2025-05-16 20:19 ` checkpatch
2025-05-17 10:33 ` |SUCCESS| pw153492-153497 [PATCH] [RFC,v2,6/6] dts: add performance dpdklab
` (19 subsequent siblings)
20 siblings, 0 replies; 21+ messages in thread
From: checkpatch @ 2025-05-16 20:19 UTC (permalink / raw)
To: test-report; +Cc: Nicholas Pratte
Test-Label: checkpatch
Test-Status: WARNING
http://dpdk.org/patch/153497
_coding style issues_
ERROR:TRAILING_WHITESPACE: trailing whitespace
#194: FILE: dts/tests/TestSuite_single_core_perf.py:19:
+ $
total: 1 errors, 0 warnings, 109 lines checked
^ permalink raw reply [flat|nested] 21+ messages in thread
* |SUCCESS| pw153492-153497 [PATCH] [RFC,v2,6/6] dts: add performance
[not found] <20250516201834.626206-7-npratte@iol.unh.edu>
2025-05-16 20:19 ` |WARNING| pw153497 [RFC v2 6/6] dts: add performance test functions to test suite api checkpatch
@ 2025-05-17 10:33 ` dpdklab
2025-05-17 10:44 ` dpdklab
` (18 subsequent siblings)
20 siblings, 0 replies; 21+ messages in thread
From: dpdklab @ 2025-05-17 10:33 UTC (permalink / raw)
To: Test Report; +Cc: dpdk-test-reports
Test-Label: iol-marvell-Functional
Test-Status: SUCCESS
http://dpdk.org/patch/153497
_Functional Testing PASS_
Submitter: Nicholas Pratte <npratte@iol.unh.edu>
Date: Friday, May 16 2025 20:18:34
DPDK git baseline: Repo:dpdk
Branch: master
CommitID:1aef42bc97a31906486c9d66b792208948af06f3
153492-153497 --> functional testing pass
Upstream job id: Template-DTS-Pipeline#226421
Test environment and result as below:
Ubuntu 20.04.6
Kernel: 5.4.105
Compiler: gcc 9.4
NIC: Marvell CN106XX 50000 Mbps
Target: arm64-native-linuxapp-gcc
Aggregate Results by Test Suite
+----------------+--------+
| Test Suite | Result |
+================+========+
| cmdline | PASS |
+----------------+--------+
| rxtx_callbacks | PASS |
+----------------+--------+
To view detailed results, visit:
https://lab.dpdk.org/results/dashboard/patchsets/33196/
UNH-IOL DPDK Community Lab
To manage your email subscriptions, visit:
https://lab.dpdk.org/results/dashboard/preferences/subscriptions/
^ permalink raw reply [flat|nested] 21+ messages in thread
* |SUCCESS| pw153492-153497 [PATCH] [RFC,v2,6/6] dts: add performance
[not found] <20250516201834.626206-7-npratte@iol.unh.edu>
2025-05-16 20:19 ` |WARNING| pw153497 [RFC v2 6/6] dts: add performance test functions to test suite api checkpatch
2025-05-17 10:33 ` |SUCCESS| pw153492-153497 [PATCH] [RFC,v2,6/6] dts: add performance dpdklab
@ 2025-05-17 10:44 ` dpdklab
2025-05-17 10:48 ` dpdklab
` (17 subsequent siblings)
20 siblings, 0 replies; 21+ messages in thread
From: dpdklab @ 2025-05-17 10:44 UTC (permalink / raw)
To: Test Report; +Cc: dpdk-test-reports
Test-Label: iol-intel-Functional
Test-Status: SUCCESS
http://dpdk.org/patch/153497
_Functional Testing PASS_
Submitter: Nicholas Pratte <npratte@iol.unh.edu>
Date: Friday, May 16 2025 20:18:34
DPDK git baseline: Repo:dpdk
Branch: master
CommitID:1aef42bc97a31906486c9d66b792208948af06f3
153492-153497 --> functional testing pass
Upstream job id: Template-DTS-Pipeline#226417
Test environment and result as below:
Ubuntu 20.04
Kernel: 5.4.0-122-generic
Compiler: gcc 9.4.0
NIC: Intel Corporation Ethernet Converged Network Adapter XL710-QDA2 40000 Mbps
Aggregate Results by Test Suite
+-----------------------------+--------+
| Test Suite | Result |
+=============================+========+
| unit_tests_mbuf | PASS |
+-----------------------------+--------+
| vhost_virtio_user_interrupt | PASS |
+-----------------------------+--------+
| virtio_smoke | PASS |
+-----------------------------+--------+
To view detailed results, visit:
https://lab.dpdk.org/results/dashboard/patchsets/33196/
UNH-IOL DPDK Community Lab
To manage your email subscriptions, visit:
https://lab.dpdk.org/results/dashboard/preferences/subscriptions/
^ permalink raw reply [flat|nested] 21+ messages in thread
* |SUCCESS| pw153492-153497 [PATCH] [RFC,v2,6/6] dts: add performance
[not found] <20250516201834.626206-7-npratte@iol.unh.edu>
` (2 preceding siblings ...)
2025-05-17 10:44 ` dpdklab
@ 2025-05-17 10:48 ` dpdklab
2025-05-17 10:50 ` dpdklab
` (16 subsequent siblings)
20 siblings, 0 replies; 21+ messages in thread
From: dpdklab @ 2025-05-17 10:48 UTC (permalink / raw)
To: Test Report; +Cc: dpdk-test-reports
Test-Label: iol-intel-Functional
Test-Status: SUCCESS
http://dpdk.org/patch/153497
_Functional Testing PASS_
Submitter: Nicholas Pratte <npratte@iol.unh.edu>
Date: Friday, May 16 2025 20:18:34
DPDK git baseline: Repo:dpdk
Branch: master
CommitID:1aef42bc97a31906486c9d66b792208948af06f3
153492-153497 --> functional testing pass
Upstream job id: Template-DTS-Pipeline#226424
Test environment and result as below:
Ubuntu 20.04
Kernel: 5.4.0-122-generic
Compiler: gcc 9.4.0
NIC: Intel Corporation Ethernet Converged Network Adapter XL710-QDA2 40000 Mbps
Aggregate Results by Test Suite
+-----------------------------+--------+
| Test Suite | Result |
+=============================+========+
| unit_tests_mbuf | PASS |
+-----------------------------+--------+
| vhost_virtio_user_interrupt | PASS |
+-----------------------------+--------+
| virtio_smoke | PASS |
+-----------------------------+--------+
Ubuntu 24.04 LTS
Kernel: 6.8.0-55-generic
Compiler: gcc 13.3.0
NIC: Intel Corporation 4xxx Series QAT 0 Mbps
Aggregate Results by Test Suite
+----------------------------+--------+
| Test Suite | Result |
+============================+========+
| crypto_perf_cryptodev_perf | PASS |
+----------------------------+--------+
To view detailed results, visit:
https://lab.dpdk.org/results/dashboard/patchsets/33196/
UNH-IOL DPDK Community Lab
To manage your email subscriptions, visit:
https://lab.dpdk.org/results/dashboard/preferences/subscriptions/
^ permalink raw reply [flat|nested] 21+ messages in thread
* |SUCCESS| pw153492-153497 [PATCH] [RFC,v2,6/6] dts: add performance
[not found] <20250516201834.626206-7-npratte@iol.unh.edu>
` (3 preceding siblings ...)
2025-05-17 10:48 ` dpdklab
@ 2025-05-17 10:50 ` dpdklab
2025-05-17 10:58 ` dpdklab
` (15 subsequent siblings)
20 siblings, 0 replies; 21+ messages in thread
From: dpdklab @ 2025-05-17 10:50 UTC (permalink / raw)
To: Ali Alnubani, Test Report; +Cc: dpdk-test-reports
Test-Label: iol-mellanox-Performance
Test-Status: SUCCESS
http://dpdk.org/patch/153497
_Performance Testing PASS_
Submitter: Nicholas Pratte <npratte@iol.unh.edu>
Date: Friday, May 16 2025 20:18:34
DPDK git baseline: Repo:dpdk
Branch: master
CommitID:1aef42bc97a31906486c9d66b792208948af06f3
153492-153497 --> performance testing pass
Upstream job id: Template-DTS-Pipeline#226410
Test environment and result as below:
Ubuntu 24.04
Kernel: 6.8.0-45-generic
Compiler: gcc 13.2.0
NIC: NVIDIA Mellanox ConnectX-7 100000 Mbps
Fail/Total: 0/6
Detail performance results:
+------------+---------+----------+-------------+------------------------------+
| frame_size | txd/rxd | num_cpus | num_threads | throughput difference from |
| | | | | expected |
+============+=========+==========+=============+==============================+
| 64 | 1024 | 1 | 1 | 1.0% |
+------------+---------+----------+-------------+------------------------------+
| 128 | 1024 | 1 | 1 | 0.0% |
+------------+---------+----------+-------------+------------------------------+
| 256 | 1024 | 1 | 1 | -0.9% |
+------------+---------+----------+-------------+------------------------------+
| 512 | 1024 | 1 | 1 | 0.3% |
+------------+---------+----------+-------------+------------------------------+
| 1024 | 1024 | 1 | 1 | -0.1% |
+------------+---------+----------+-------------+------------------------------+
| 1518 | 1024 | 1 | 1 | -0.0% |
+------------+---------+----------+-------------+------------------------------+
Ubuntu 24.04
Kernel: 6.8.0-45-generic
Compiler: gcc 13.2.0
NIC: Mellanox ConnectX-6 Lx 25000 Mbps
Fail/Total: 0/6
Detail performance results:
+------------+---------+----------+-------------+------------------------------+
| frame_size | txd/rxd | num_cpus | num_threads | throughput difference from |
| | | | | expected |
+============+=========+==========+=============+==============================+
| 64 | 1024 | 1 | 1 | -0.1% |
+------------+---------+----------+-------------+------------------------------+
| 128 | 1024 | 1 | 1 | 0.2% |
+------------+---------+----------+-------------+------------------------------+
| 256 | 1024 | 1 | 1 | 0.2% |
+------------+---------+----------+-------------+------------------------------+
| 512 | 1024 | 1 | 1 | 0.2% |
+------------+---------+----------+-------------+------------------------------+
| 1024 | 1024 | 1 | 1 | 0.0% |
+------------+---------+----------+-------------+------------------------------+
| 1518 | 1024 | 1 | 1 | -0.2% |
+------------+---------+----------+-------------+------------------------------+
To view detailed results, visit:
https://lab.dpdk.org/results/dashboard/patchsets/33196/
UNH-IOL DPDK Community Lab
To manage your email subscriptions, visit:
https://lab.dpdk.org/results/dashboard/preferences/subscriptions/
^ permalink raw reply [flat|nested] 21+ messages in thread
* |SUCCESS| pw153492-153497 [PATCH] [RFC,v2,6/6] dts: add performance
[not found] <20250516201834.626206-7-npratte@iol.unh.edu>
` (4 preceding siblings ...)
2025-05-17 10:50 ` dpdklab
@ 2025-05-17 10:58 ` dpdklab
2025-05-17 10:59 ` dpdklab
` (14 subsequent siblings)
20 siblings, 0 replies; 21+ messages in thread
From: dpdklab @ 2025-05-17 10:58 UTC (permalink / raw)
To: Test Report; +Cc: dpdk-test-reports
Test-Label: iol-broadcom-Performance
Test-Status: SUCCESS
http://dpdk.org/patch/153497
_Performance Testing PASS_
Submitter: Nicholas Pratte <npratte@iol.unh.edu>
Date: Friday, May 16 2025 20:18:34
DPDK git baseline: Repo:dpdk
Branch: master
CommitID:1aef42bc97a31906486c9d66b792208948af06f3
153492-153497 --> performance testing pass
Upstream job id: Template-DTS-Pipeline#226414
Test environment and result as below:
Ubuntu 22.04
Kernel: 5.15.0-100-generic
Compiler: gcc (Ubuntu 11.4.0-1ubuntu1~22.04) 11.4.0
NIC: Broadcom Inc. and subsidiaries BCM57414 NetXtreme-E 10Gb/25Gb RDMA Ethernet Controller 16d7 25 Mbps
Fail/Total: 0/3
Detail performance results:
+------------+---------+----------+-------------+------------------------------+
| frame_size | txd/rxd | num_cpus | num_threads | throughput difference from |
| | | | | expected |
+============+=========+==========+=============+==============================+
| 64 | 128 | 1 | 1 | -0.8% |
+------------+---------+----------+-------------+------------------------------+
| 64 | 512 | 1 | 1 | -0.8% |
+------------+---------+----------+-------------+------------------------------+
| 64 | 2048 | 1 | 1 | 1.4% |
+------------+---------+----------+-------------+------------------------------+
Ubuntu 22.04 ARM
Kernel: 5.15.83+
Compiler: gcc 11.4.0
NIC: Arm Broadcom Inc. brcm_57414 25000 Mbps
Fail/Total: 0/2
Detail performance results:
+------------+---------+----------+-------------+------------------------------+
| frame_size | txd/rxd | num_cpus | num_threads | throughput difference from |
| | | | | expected |
+============+=========+==========+=============+==============================+
| 64 | 512 | 1 | 1 | -0.1% |
+------------+---------+----------+-------------+------------------------------+
| 64 | 2048 | 1 | 1 | 0.6% |
+------------+---------+----------+-------------+------------------------------+
To view detailed results, visit:
https://lab.dpdk.org/results/dashboard/patchsets/33196/
UNH-IOL DPDK Community Lab
To manage your email subscriptions, visit:
https://lab.dpdk.org/results/dashboard/preferences/subscriptions/
^ permalink raw reply [flat|nested] 21+ messages in thread
* |SUCCESS| pw153492-153497 [PATCH] [RFC,v2,6/6] dts: add performance
[not found] <20250516201834.626206-7-npratte@iol.unh.edu>
` (5 preceding siblings ...)
2025-05-17 10:58 ` dpdklab
@ 2025-05-17 10:59 ` dpdklab
2025-05-17 11:13 ` dpdklab
` (13 subsequent siblings)
20 siblings, 0 replies; 21+ messages in thread
From: dpdklab @ 2025-05-17 10:59 UTC (permalink / raw)
To: Test Report; +Cc: dpdk-test-reports
Test-Label: iol-intel-Performance
Test-Status: SUCCESS
http://dpdk.org/patch/153497
_Performance Testing PASS_
Submitter: Nicholas Pratte <npratte@iol.unh.edu>
Date: Friday, May 16 2025 20:18:34
DPDK git baseline: Repo:dpdk
Branch: master
CommitID:1aef42bc97a31906486c9d66b792208948af06f3
153492-153497 --> performance testing pass
Upstream job id: Template-DTS-Pipeline#226413
Test environment and result as below:
Ubuntu 22.04
Kernel: 5.15.0-131-generic
Compiler: gcc (Ubuntu 11.4.0-1ubuntu1~22.04) 11.4.0
NIC: Intel Corporation Ethernet Converged Network Adapter 82599ES 10000 Mbps
Fail/Total: 0/6
Detail performance results:
+----------+-------------+---------+------------+------------------------------+
| num_cpus | num_threads | txd/rxd | frame_size | throughput difference from |
| | | | | expected |
+==========+=============+=========+============+==============================+
| 1 | 2 | 128 | 64 | 0.1% |
+----------+-------------+---------+------------+------------------------------+
| 1 | 2 | 512 | 64 | -0.0% |
+----------+-------------+---------+------------+------------------------------+
| 1 | 2 | 2048 | 64 | -0.1% |
+----------+-------------+---------+------------+------------------------------+
| 1 | 1 | 128 | 64 | -0.1% |
+----------+-------------+---------+------------+------------------------------+
| 1 | 1 | 512 | 64 | -0.1% |
+----------+-------------+---------+------------+------------------------------+
| 1 | 1 | 2048 | 64 | -0.2% |
+----------+-------------+---------+------------+------------------------------+
To view detailed results, visit:
https://lab.dpdk.org/results/dashboard/patchsets/33196/
UNH-IOL DPDK Community Lab
To manage your email subscriptions, visit:
https://lab.dpdk.org/results/dashboard/preferences/subscriptions/
^ permalink raw reply [flat|nested] 21+ messages in thread
* |SUCCESS| pw153492-153497 [PATCH] [RFC,v2,6/6] dts: add performance
[not found] <20250516201834.626206-7-npratte@iol.unh.edu>
` (6 preceding siblings ...)
2025-05-17 10:59 ` dpdklab
@ 2025-05-17 11:13 ` dpdklab
2025-05-17 11:17 ` dpdklab
` (12 subsequent siblings)
20 siblings, 0 replies; 21+ messages in thread
From: dpdklab @ 2025-05-17 11:13 UTC (permalink / raw)
To: Test Report; +Cc: dpdk-test-reports
Test-Label: iol-intel-Functional
Test-Status: SUCCESS
http://dpdk.org/patch/153497
_Functional Testing PASS_
Submitter: Nicholas Pratte <npratte@iol.unh.edu>
Date: Friday, May 16 2025 20:18:34
DPDK git baseline: Repo:dpdk
Branch: master
CommitID:1aef42bc97a31906486c9d66b792208948af06f3
153492-153497 --> functional testing pass
Upstream job id: Template-DTS-Pipeline#226420
Test environment and result as below:
Ubuntu 20.04
Kernel: 5.4.0-122-generic
Compiler: gcc 9.4.0
NIC: Intel Corporation Ethernet Converged Network Adapter XL710-QDA2 40000 Mbps
Aggregate Results by Test Suite
+-----------------------------+--------+
| Test Suite | Result |
+=============================+========+
| unit_tests_mbuf | PASS |
+-----------------------------+--------+
| vhost_virtio_user_interrupt | PASS |
+-----------------------------+--------+
| virtio_smoke | PASS |
+-----------------------------+--------+
Ubuntu 24.04 LTS
Kernel: 6.8.0-55-generic
Compiler: gcc 13.3.0
NIC: Intel Corporation 4xxx Series QAT 0 Mbps
Aggregate Results by Test Suite
+----------------------------+--------+
| Test Suite | Result |
+============================+========+
| crypto_perf_cryptodev_perf | PASS |
+----------------------------+--------+
Arm Ampere Altra - Ubuntu 22.04
Kernel: 5.15.83+
Compiler: gcc 11.4
NIC: Intel Corporation QAT 8970 0 Mbps
Aggregate Results by Test Suite
+----------------------------+--------+
| Test Suite | Result |
+============================+========+
| crypto_perf_cryptodev_perf | PASS |
+----------------------------+--------+
To view detailed results, visit:
https://lab.dpdk.org/results/dashboard/patchsets/33196/
UNH-IOL DPDK Community Lab
To manage your email subscriptions, visit:
https://lab.dpdk.org/results/dashboard/preferences/subscriptions/
^ permalink raw reply [flat|nested] 21+ messages in thread
* |SUCCESS| pw153492-153497 [PATCH] [RFC,v2,6/6] dts: add performance
[not found] <20250516201834.626206-7-npratte@iol.unh.edu>
` (7 preceding siblings ...)
2025-05-17 11:13 ` dpdklab
@ 2025-05-17 11:17 ` dpdklab
2025-05-17 11:22 ` |PENDING| " dpdklab
` (11 subsequent siblings)
20 siblings, 0 replies; 21+ messages in thread
From: dpdklab @ 2025-05-17 11:17 UTC (permalink / raw)
To: Test Report; +Cc: dpdk-test-reports
Test-Label: iol-intel-Functional
Test-Status: SUCCESS
http://dpdk.org/patch/153497
_Functional Testing PASS_
Submitter: Nicholas Pratte <npratte@iol.unh.edu>
Date: Friday, May 16 2025 20:18:34
DPDK git baseline: Repo:dpdk
Branch: master
CommitID:1aef42bc97a31906486c9d66b792208948af06f3
153492-153497 --> functional testing pass
Upstream job id: Template-DTS-Pipeline#226418
Test environment and result as below:
Ubuntu 20.04
Kernel: 5.4.0-122-generic
Compiler: gcc 9.4.0
NIC: Intel Corporation Ethernet Converged Network Adapter XL710-QDA2 40000 Mbps
Aggregate Results by Test Suite
+-----------------------------+--------+
| Test Suite | Result |
+=============================+========+
| unit_tests_mbuf | PASS |
+-----------------------------+--------+
| vhost_virtio_user_interrupt | PASS |
+-----------------------------+--------+
| virtio_smoke | PASS |
+-----------------------------+--------+
Ubuntu 22.04
Kernel: 5.15.0-131-generic
Compiler: gcc (Ubuntu 11.4.0-1ubuntu1~22.04) 11.4.0
NIC: Intel Corporation Ethernet Converged Network Adapter 82599ES 10000 Mbps
Aggregate Results by Test Suite
+-----------------------------+--------+
| Test Suite | Result |
+=============================+========+
| unit_tests_mbuf | PASS |
+-----------------------------+--------+
| vhost_virtio_user_interrupt | PASS |
+-----------------------------+--------+
| virtio_smoke | PASS |
+-----------------------------+--------+
Ubuntu 24.04 LTS
Kernel: 6.8.0-55-generic
Compiler: gcc 13.3.0
NIC: Intel Corporation 4xxx Series QAT 0 Mbps
Aggregate Results by Test Suite
+----------------------------+--------+
| Test Suite | Result |
+============================+========+
| crypto_perf_cryptodev_perf | PASS |
+----------------------------+--------+
Arm Ampere Altra - Ubuntu 22.04
Kernel: 5.15.83+
Compiler: gcc 11.4
NIC: Intel Corporation QAT 8970 0 Mbps
Aggregate Results by Test Suite
+----------------------------+--------+
| Test Suite | Result |
+============================+========+
| crypto_perf_cryptodev_perf | PASS |
+----------------------------+--------+
To view detailed results, visit:
https://lab.dpdk.org/results/dashboard/patchsets/33196/
UNH-IOL DPDK Community Lab
To manage your email subscriptions, visit:
https://lab.dpdk.org/results/dashboard/preferences/subscriptions/
^ permalink raw reply [flat|nested] 21+ messages in thread
* |PENDING| pw153492-153497 [PATCH] [RFC,v2,6/6] dts: add performance
[not found] <20250516201834.626206-7-npratte@iol.unh.edu>
` (8 preceding siblings ...)
2025-05-17 11:17 ` dpdklab
@ 2025-05-17 11:22 ` dpdklab
2025-05-17 11:35 ` |SUCCESS| " dpdklab
` (10 subsequent siblings)
20 siblings, 0 replies; 21+ messages in thread
From: dpdklab @ 2025-05-17 11:22 UTC (permalink / raw)
To: Test Report; +Cc: dpdk-test-reports
Test-Label: iol-abi-testing
Test-Status: PENDING
http://dpdk.org/patch/153497
_Testing pending_
Submitter: Nicholas Pratte <npratte@iol.unh.edu>
Date: Friday, May 16 2025 20:18:34
DPDK git baseline: Repo:dpdk
Branch: master
CommitID:1aef42bc97a31906486c9d66b792208948af06f3
153492-153497 --> testing pending
Upstream job id: Generic-DPDK-Compile-ABI#126801
Test environment and result as below:
+-------------------+----------+
| Environment | abi_test |
+===================+==========+
| Fedora 40 (Clang) | PEND |
+-------------------+----------+
| CentOS Stream 10 | PEND |
+-------------------+----------+
| Debian 12 | PASS |
+-------------------+----------+
| CentOS Stream 9 | PEND |
+-------------------+----------+
| Fedora 41 (Clang) | PEND |
+-------------------+----------+
| openSUSE Leap 15 | PEND |
+-------------------+----------+
| Ubuntu 22.04 | PEND |
+-------------------+----------+
| RHEL9 | PEND |
+-------------------+----------+
Fedora 40 (Clang)
Kernel: Depends on container host
Compiler: clang 18.1.8 (Fedora 18.1.8-1.fc40)
CentOS Stream 10
Kernel: Depends on container host
Compiler: gcc 14.2.1 20241104 (Red Hat 14.2.1-6)
Debian 12
Kernel: Depends on container host
Compiler: gcc (Debian 12.2.0-14) 12.2.0
CentOS Stream 9
Kernel: Depends on container host
Compiler: gcc 11.5.0 20240719 (Red Hat 11.5.0-2)
Fedora 41 (Clang)
Kernel: Depends on container host
Compiler: clang 19.1.5 (Fedora 19.1.5-1.fc41)
openSUSE Leap 15
Kernel: Depends on container host
Compiler: gcc (SUSE Linux) 7.5.0
Ubuntu 22.04
Kernel: Depends on container host
Compiler: gcc (Ubuntu 11.4.0-1ubuntu1~22.04) 11.4.0
RHEL9
Kernel: Depends on container host
Compiler: gcc 11.5.0 20240719 (Red Hat 11.5.0-2)
To view detailed results, visit:
https://lab.dpdk.org/results/dashboard/patchsets/33196/
UNH-IOL DPDK Community Lab
To manage your email subscriptions, visit:
https://lab.dpdk.org/results/dashboard/preferences/subscriptions/
^ permalink raw reply [flat|nested] 21+ messages in thread
* |SUCCESS| pw153492-153497 [PATCH] [RFC,v2,6/6] dts: add performance
[not found] <20250516201834.626206-7-npratte@iol.unh.edu>
` (9 preceding siblings ...)
2025-05-17 11:22 ` |PENDING| " dpdklab
@ 2025-05-17 11:35 ` dpdklab
2025-05-17 11:39 ` |PENDING| " dpdklab
` (9 subsequent siblings)
20 siblings, 0 replies; 21+ messages in thread
From: dpdklab @ 2025-05-17 11:35 UTC (permalink / raw)
To: Test Report; +Cc: dpdk-test-reports
Test-Label: iol-sample-apps-testing
Test-Status: SUCCESS
http://dpdk.org/patch/153497
_Testing PASS_
Submitter: Nicholas Pratte <npratte@iol.unh.edu>
Date: Friday, May 16 2025 20:18:34
DPDK git baseline: Repo:dpdk
Branch: master
CommitID:1aef42bc97a31906486c9d66b792208948af06f3
153492-153497 --> testing pass
Upstream job id: Template-DTS-Pipeline#226422
Test environment and result as below:
+--------------+----------------------+
| Environment | compressdev_zlib_pmd |
+==============+======================+
| Ubuntu 22.04 | PASS |
+--------------+----------------------+
Ubuntu 22.04
Kernel: 5.15.0-100-generic
Compiler: gcc gcc (Ubuntu 11.4.0-1ubuntu1~22.04) 11.4.0
To view detailed results, visit:
https://lab.dpdk.org/results/dashboard/patchsets/33196/
UNH-IOL DPDK Community Lab
To manage your email subscriptions, visit:
https://lab.dpdk.org/results/dashboard/preferences/subscriptions/
^ permalink raw reply [flat|nested] 21+ messages in thread
* |PENDING| pw153492-153497 [PATCH] [RFC,v2,6/6] dts: add performance
[not found] <20250516201834.626206-7-npratte@iol.unh.edu>
` (10 preceding siblings ...)
2025-05-17 11:35 ` |SUCCESS| " dpdklab
@ 2025-05-17 11:39 ` dpdklab
2025-05-17 11:47 ` |SUCCESS| " dpdklab
` (8 subsequent siblings)
20 siblings, 0 replies; 21+ messages in thread
From: dpdklab @ 2025-05-17 11:39 UTC (permalink / raw)
To: Test Report; +Cc: dpdk-test-reports
Test-Label: iol-unit-amd64-testing
Test-Status: PENDING
http://dpdk.org/patch/153497
_Testing pending_
Submitter: Nicholas Pratte <npratte@iol.unh.edu>
Date: Friday, May 16 2025 20:18:34
DPDK git baseline: Repo:dpdk
Branch: master
CommitID:1aef42bc97a31906486c9d66b792208948af06f3
153492-153497 --> testing pending
Upstream job id: Generic-Unit-Test-DPDK#338774
Test environment and result as below:
+-------------------+----------------+
| Environment | dpdk_unit_test |
+===================+================+
| CentOS Stream 10 | PEND |
+-------------------+----------------+
| CentOS Stream 9 | PASS |
+-------------------+----------------+
| Fedora 40 (Clang) | PEND |
+-------------------+----------------+
| Debian 12 | PEND |
+-------------------+----------------+
| Fedora 41 | PEND |
+-------------------+----------------+
| RHEL8 | PEND |
+-------------------+----------------+
| Fedora 40 | PEND |
+-------------------+----------------+
| Fedora 41 (Clang) | PEND |
+-------------------+----------------+
| Ubuntu 20.04 | PEND |
+-------------------+----------------+
| Ubuntu 24.04 | PEND |
+-------------------+----------------+
| RHEL9 | PEND |
+-------------------+----------------+
| Ubuntu 22.04 | PEND |
+-------------------+----------------+
CentOS Stream 10
Kernel: Depends on container host
Compiler: gcc 14.2.1 20241104 (Red Hat 14.2.1-6)
CentOS Stream 9
Kernel: Depends on container host
Compiler: gcc 11.5.0 20240719 (Red Hat 11.5.0-2)
Fedora 40 (Clang)
Kernel: Depends on container host
Compiler: clang 18.1.8 (Fedora 18.1.8-1.fc40)
Debian 12
Kernel: Depends on container host
Compiler: gcc (Debian 12.2.0-14) 12.2.0
Fedora 41
Kernel: Depends on container host
Compiler: gcc 14.2.1 20240912 (Red Hat 14.2.1-3)
RHEL8
Kernel: Depends on container host
Compiler: gcc 8.5.0 20210514 (Red Hat 8.5.0-22)
Fedora 40
Kernel: Depends on container host
Compiler: gcc 14.2.1 20240912 (Red Hat 14.2.1-3)
Fedora 41 (Clang)
Kernel: Depends on container host
Compiler: clang 19.1.5 (Fedora 19.1.5-1.fc41)
Ubuntu 20.04
Kernel: Depends on container host
Compiler: gcc (Ubuntu 9.4.0-1ubuntu1~20.04.2) 9.4.0
Ubuntu 24.04
Kernel: Depends on container host
Compiler: gcc (Ubuntu 13.3.0-6ubuntu2~24.04) 13.3.0
RHEL9
Kernel: Depends on container host
Compiler: gcc 11.5.0 20240719 (Red Hat 11.5.0-2)
Ubuntu 22.04
Kernel: Depends on container host
Compiler: gcc (Ubuntu 11.4.0-1ubuntu1~22.04) 11.4.0
To view detailed results, visit:
https://lab.dpdk.org/results/dashboard/patchsets/33196/
UNH-IOL DPDK Community Lab
To manage your email subscriptions, visit:
https://lab.dpdk.org/results/dashboard/preferences/subscriptions/
^ permalink raw reply [flat|nested] 21+ messages in thread
* |SUCCESS| pw153492-153497 [PATCH] [RFC,v2,6/6] dts: add performance
[not found] <20250516201834.626206-7-npratte@iol.unh.edu>
` (11 preceding siblings ...)
2025-05-17 11:39 ` |PENDING| " dpdklab
@ 2025-05-17 11:47 ` dpdklab
2025-05-17 12:31 ` dpdklab
` (7 subsequent siblings)
20 siblings, 0 replies; 21+ messages in thread
From: dpdklab @ 2025-05-17 11:47 UTC (permalink / raw)
To: Test Report; +Cc: dpdk-test-reports
Test-Label: iol-intel-Performance
Test-Status: SUCCESS
http://dpdk.org/patch/153497
_Performance Testing PASS_
Submitter: Nicholas Pratte <npratte@iol.unh.edu>
Date: Friday, May 16 2025 20:18:34
DPDK git baseline: Repo:dpdk
Branch: master
CommitID:1aef42bc97a31906486c9d66b792208948af06f3
153492-153497 --> performance testing pass
Upstream job id: Template-DTS-Pipeline#226412
Test environment and result as below:
Ubuntu 22.04
Kernel: 5.15.0-131-generic
Compiler: gcc (Ubuntu 11.4.0-1ubuntu1~22.04) 11.4.0
NIC: Intel Corporation Ethernet Converged Network Adapter 82599ES 10000 Mbps
Fail/Total: 0/6
Detail performance results:
+----------+-------------+---------+------------+------------------------------+
| num_cpus | num_threads | txd/rxd | frame_size | throughput difference from |
| | | | | expected |
+==========+=============+=========+============+==============================+
| 1 | 2 | 128 | 64 | 0.1% |
+----------+-------------+---------+------------+------------------------------+
| 1 | 2 | 512 | 64 | -0.0% |
+----------+-------------+---------+------------+------------------------------+
| 1 | 2 | 2048 | 64 | -0.1% |
+----------+-------------+---------+------------+------------------------------+
| 1 | 1 | 128 | 64 | -0.1% |
+----------+-------------+---------+------------+------------------------------+
| 1 | 1 | 512 | 64 | -0.1% |
+----------+-------------+---------+------------+------------------------------+
| 1 | 1 | 2048 | 64 | -0.2% |
+----------+-------------+---------+------------+------------------------------+
22.04
Kernel: 5.15.0-94-generic
Compiler: gcc 11.4.0
NIC: Intel E810 100000 Mbps
Fail/Total: 0/2
Detail performance results:
+------------+---------+----------+-------------+------------------------------+
| frame_size | txd/rxd | num_cpus | num_threads | throughput difference from |
| | | | | expected |
+============+=========+==========+=============+==============================+
| 64 | 512 | 1 | 1 | 8.6% |
+------------+---------+----------+-------------+------------------------------+
| 64 | 2048 | 1 | 1 | 9.3% |
+------------+---------+----------+-------------+------------------------------+
Ubuntu 24.04
Kernel: 6.8.0-52-generic
Compiler: gcc 13.3.0
NIC: Intel E810 (Arm Grace Server) 100000 Mbps
Fail/Total: 0/2
Detail performance results:
+------------+---------+----------+-------------+------------------------------+
| frame_size | txd/rxd | num_cpus | num_threads | throughput difference from |
| | | | | expected |
+============+=========+==========+=============+==============================+
| 64 | 512 | 1 | 1 | 1.5% |
+------------+---------+----------+-------------+------------------------------+
| 64 | 2048 | 1 | 1 | 0.4% |
+------------+---------+----------+-------------+------------------------------+
Ubuntu 20.04
Kernel: 5.4.0-122-generic
Compiler: gcc 9.4.0
NIC: Intel Corporation Ethernet Converged Network Adapter XL710-QDA2 40000 Mbps
Fail/Total: 0/4
Detail performance results:
+----------+-------------+---------+------------+------------------------------+
| num_cpus | num_threads | txd/rxd | frame_size | throughput difference from |
| | | | | expected |
+==========+=============+=========+============+==============================+
| 1 | 2 | 512 | 64 | -0.7% |
+----------+-------------+---------+------------+------------------------------+
| 1 | 2 | 2048 | 64 | -0.6% |
+----------+-------------+---------+------------+------------------------------+
| 1 | 1 | 512 | 64 | 0.1% |
+----------+-------------+---------+------------+------------------------------+
| 1 | 1 | 2048 | 64 | -1.7% |
+----------+-------------+---------+------------+------------------------------+
To view detailed results, visit:
https://lab.dpdk.org/results/dashboard/patchsets/33196/
UNH-IOL DPDK Community Lab
To manage your email subscriptions, visit:
https://lab.dpdk.org/results/dashboard/preferences/subscriptions/
^ permalink raw reply [flat|nested] 21+ messages in thread
* |SUCCESS| pw153492-153497 [PATCH] [RFC,v2,6/6] dts: add performance
[not found] <20250516201834.626206-7-npratte@iol.unh.edu>
` (12 preceding siblings ...)
2025-05-17 11:47 ` |SUCCESS| " dpdklab
@ 2025-05-17 12:31 ` dpdklab
2025-05-17 12:31 ` dpdklab
` (6 subsequent siblings)
20 siblings, 0 replies; 21+ messages in thread
From: dpdklab @ 2025-05-17 12:31 UTC (permalink / raw)
To: Test Report; +Cc: dpdk-test-reports
Test-Label: iol-abi-testing
Test-Status: SUCCESS
http://dpdk.org/patch/153497
_Testing PASS_
Submitter: Nicholas Pratte <npratte@iol.unh.edu>
Date: Friday, May 16 2025 20:18:34
DPDK git baseline: Repo:dpdk
Branch: master
CommitID:1aef42bc97a31906486c9d66b792208948af06f3
153492-153497 --> testing pass
Upstream job id: Generic-DPDK-Compile-ABI#126810
Test environment and result as below:
+-------------------+----------+
| Environment | abi_test |
+===================+==========+
| Fedora 40 (Clang) | PASS |
+-------------------+----------+
| CentOS Stream 10 | PASS |
+-------------------+----------+
| Debian 12 | PASS |
+-------------------+----------+
| CentOS Stream 9 | PASS |
+-------------------+----------+
| Fedora 41 (Clang) | PASS |
+-------------------+----------+
| openSUSE Leap 15 | PASS |
+-------------------+----------+
| Ubuntu 22.04 | PASS |
+-------------------+----------+
| RHEL9 | PASS |
+-------------------+----------+
| RHEL8 | PASS |
+-------------------+----------+
| Fedora 41 | PASS |
+-------------------+----------+
| Ubuntu 24.04 | PASS |
+-------------------+----------+
Fedora 40 (Clang)
Kernel: Depends on container host
Compiler: clang 18.1.8 (Fedora 18.1.8-1.fc40)
CentOS Stream 10
Kernel: Depends on container host
Compiler: gcc 14.2.1 20241104 (Red Hat 14.2.1-6)
Debian 12
Kernel: Depends on container host
Compiler: gcc (Debian 12.2.0-14) 12.2.0
CentOS Stream 9
Kernel: Depends on container host
Compiler: gcc 11.5.0 20240719 (Red Hat 11.5.0-2)
Fedora 41 (Clang)
Kernel: Depends on container host
Compiler: clang 19.1.5 (Fedora 19.1.5-1.fc41)
openSUSE Leap 15
Kernel: Depends on container host
Compiler: gcc (SUSE Linux) 7.5.0
Ubuntu 22.04
Kernel: Depends on container host
Compiler: gcc (Ubuntu 11.4.0-1ubuntu1~22.04) 11.4.0
RHEL9
Kernel: Depends on container host
Compiler: gcc 11.5.0 20240719 (Red Hat 11.5.0-2)
RHEL8
Kernel: Depends on container host
Compiler: gcc 8.5.0 20210514 (Red Hat 8.5.0-22)
Fedora 41
Kernel: Depends on container host
Compiler: gcc 14.2.1 20240912 (Red Hat 14.2.1-3)
Ubuntu 24.04
Kernel: Depends on container host
Compiler: gcc (Ubuntu 13.3.0-6ubuntu2~24.04) 13.3.0
To view detailed results, visit:
https://lab.dpdk.org/results/dashboard/patchsets/33196/
UNH-IOL DPDK Community Lab
To manage your email subscriptions, visit:
https://lab.dpdk.org/results/dashboard/preferences/subscriptions/
^ permalink raw reply [flat|nested] 21+ messages in thread
* |SUCCESS| pw153492-153497 [PATCH] [RFC,v2,6/6] dts: add performance
[not found] <20250516201834.626206-7-npratte@iol.unh.edu>
` (13 preceding siblings ...)
2025-05-17 12:31 ` dpdklab
@ 2025-05-17 12:31 ` dpdklab
2025-05-17 12:31 ` dpdklab
` (5 subsequent siblings)
20 siblings, 0 replies; 21+ messages in thread
From: dpdklab @ 2025-05-17 12:31 UTC (permalink / raw)
To: Test Report; +Cc: dpdk-test-reports
Test-Label: iol-abi-testing
Test-Status: SUCCESS
http://dpdk.org/patch/153497
_Testing PASS_
Submitter: Nicholas Pratte <npratte@iol.unh.edu>
Date: Friday, May 16 2025 20:18:34
DPDK git baseline: Repo:dpdk
Branch: master
CommitID:1aef42bc97a31906486c9d66b792208948af06f3
153492-153497 --> testing pass
Upstream job id: Generic-DPDK-Compile-ABI#126805
Test environment and result as below:
+-------------------+----------+
| Environment | abi_test |
+===================+==========+
| Fedora 40 (Clang) | PASS |
+-------------------+----------+
| CentOS Stream 10 | PASS |
+-------------------+----------+
| Debian 12 | PASS |
+-------------------+----------+
| CentOS Stream 9 | PASS |
+-------------------+----------+
| Fedora 41 (Clang) | PASS |
+-------------------+----------+
| openSUSE Leap 15 | PASS |
+-------------------+----------+
| Ubuntu 22.04 | PASS |
+-------------------+----------+
| RHEL9 | PASS |
+-------------------+----------+
| RHEL8 | PASS |
+-------------------+----------+
| Fedora 41 | PASS |
+-------------------+----------+
| Ubuntu 24.04 | PASS |
+-------------------+----------+
Fedora 40 (Clang)
Kernel: Depends on container host
Compiler: clang 18.1.8 (Fedora 18.1.8-1.fc40)
CentOS Stream 10
Kernel: Depends on container host
Compiler: gcc 14.2.1 20241104 (Red Hat 14.2.1-6)
Debian 12
Kernel: Depends on container host
Compiler: gcc (Debian 12.2.0-14) 12.2.0
CentOS Stream 9
Kernel: Depends on container host
Compiler: gcc 11.5.0 20240719 (Red Hat 11.5.0-2)
Fedora 41 (Clang)
Kernel: Depends on container host
Compiler: clang 19.1.5 (Fedora 19.1.5-1.fc41)
openSUSE Leap 15
Kernel: Depends on container host
Compiler: gcc (SUSE Linux) 7.5.0
Ubuntu 22.04
Kernel: Depends on container host
Compiler: gcc (Ubuntu 11.4.0-1ubuntu1~22.04) 11.4.0
RHEL9
Kernel: Depends on container host
Compiler: gcc 11.5.0 20240719 (Red Hat 11.5.0-2)
RHEL8
Kernel: Depends on container host
Compiler: gcc 8.5.0 20210514 (Red Hat 8.5.0-22)
Fedora 41
Kernel: Depends on container host
Compiler: gcc 14.2.1 20240912 (Red Hat 14.2.1-3)
Ubuntu 24.04
Kernel: Depends on container host
Compiler: gcc (Ubuntu 13.3.0-6ubuntu2~24.04) 13.3.0
To view detailed results, visit:
https://lab.dpdk.org/results/dashboard/patchsets/33196/
UNH-IOL DPDK Community Lab
To manage your email subscriptions, visit:
https://lab.dpdk.org/results/dashboard/preferences/subscriptions/
^ permalink raw reply [flat|nested] 21+ messages in thread
* |SUCCESS| pw153492-153497 [PATCH] [RFC,v2,6/6] dts: add performance
[not found] <20250516201834.626206-7-npratte@iol.unh.edu>
` (14 preceding siblings ...)
2025-05-17 12:31 ` dpdklab
@ 2025-05-17 12:31 ` dpdklab
2025-05-17 12:40 ` dpdklab
` (4 subsequent siblings)
20 siblings, 0 replies; 21+ messages in thread
From: dpdklab @ 2025-05-17 12:31 UTC (permalink / raw)
To: Test Report; +Cc: dpdk-test-reports
Test-Label: iol-unit-amd64-testing
Test-Status: SUCCESS
http://dpdk.org/patch/153497
_Testing PASS_
Submitter: Nicholas Pratte <npratte@iol.unh.edu>
Date: Friday, May 16 2025 20:18:34
DPDK git baseline: Repo:dpdk
Branch: master
CommitID:1aef42bc97a31906486c9d66b792208948af06f3
153492-153497 --> testing pass
Upstream job id: Generic-VM-Unit-Test-DPDK#28597
Test environment and result as below:
+---------------------+----------------+
| Environment | dpdk_unit_test |
+=====================+================+
| CentOS Stream 10 | PASS |
+---------------------+----------------+
| CentOS Stream 9 | PASS |
+---------------------+----------------+
| Fedora 40 (Clang) | PASS |
+---------------------+----------------+
| Debian 12 | PASS |
+---------------------+----------------+
| Fedora 41 | PASS |
+---------------------+----------------+
| RHEL8 | PASS |
+---------------------+----------------+
| Fedora 40 | PASS |
+---------------------+----------------+
| Fedora 41 (Clang) | PASS |
+---------------------+----------------+
| Ubuntu 20.04 | PASS |
+---------------------+----------------+
| Ubuntu 24.04 | PASS |
+---------------------+----------------+
| RHEL9 | PASS |
+---------------------+----------------+
| Ubuntu 22.04 | PASS |
+---------------------+----------------+
| Windows Server 2022 | PASS |
+---------------------+----------------+
CentOS Stream 10
Kernel: Depends on container host
Compiler: gcc 14.2.1 20241104 (Red Hat 14.2.1-6)
CentOS Stream 9
Kernel: Depends on container host
Compiler: gcc 11.5.0 20240719 (Red Hat 11.5.0-2)
Fedora 40 (Clang)
Kernel: Depends on container host
Compiler: clang 18.1.8 (Fedora 18.1.8-1.fc40)
Debian 12
Kernel: Depends on container host
Compiler: gcc (Debian 12.2.0-14) 12.2.0
Fedora 41
Kernel: Depends on container host
Compiler: gcc 14.2.1 20240912 (Red Hat 14.2.1-3)
RHEL8
Kernel: Depends on container host
Compiler: gcc 8.5.0 20210514 (Red Hat 8.5.0-22)
Fedora 40
Kernel: Depends on container host
Compiler: gcc 14.2.1 20240912 (Red Hat 14.2.1-3)
Fedora 41 (Clang)
Kernel: Depends on container host
Compiler: clang 19.1.5 (Fedora 19.1.5-1.fc41)
Ubuntu 20.04
Kernel: Depends on container host
Compiler: gcc (Ubuntu 9.4.0-1ubuntu1~20.04.2) 9.4.0
Ubuntu 24.04
Kernel: Depends on container host
Compiler: gcc (Ubuntu 13.3.0-6ubuntu2~24.04) 13.3.0
RHEL9
Kernel: Depends on container host
Compiler: gcc 11.5.0 20240719 (Red Hat 11.5.0-2)
Ubuntu 22.04
Kernel: Depends on container host
Compiler: gcc (Ubuntu 11.4.0-1ubuntu1~22.04) 11.4.0
Windows Server 2022
Kernel: 10.0.20348.2031
Compiler: clang 15.0.7, gcc 14.1.0 (MinGW), and MSVC VS 19.39.33521
To view detailed results, visit:
https://lab.dpdk.org/results/dashboard/patchsets/33196/
UNH-IOL DPDK Community Lab
To manage your email subscriptions, visit:
https://lab.dpdk.org/results/dashboard/preferences/subscriptions/
^ permalink raw reply [flat|nested] 21+ messages in thread
* |SUCCESS| pw153492-153497 [PATCH] [RFC,v2,6/6] dts: add performance
[not found] <20250516201834.626206-7-npratte@iol.unh.edu>
` (15 preceding siblings ...)
2025-05-17 12:31 ` dpdklab
@ 2025-05-17 12:40 ` dpdklab
2025-05-17 12:44 ` dpdklab
` (3 subsequent siblings)
20 siblings, 0 replies; 21+ messages in thread
From: dpdklab @ 2025-05-17 12:40 UTC (permalink / raw)
To: Test Report; +Cc: dpdk-test-reports
Test-Label: iol-unit-amd64-testing
Test-Status: SUCCESS
http://dpdk.org/patch/153497
_Testing PASS_
Submitter: Nicholas Pratte <npratte@iol.unh.edu>
Date: Friday, May 16 2025 20:18:34
DPDK git baseline: Repo:dpdk
Branch: master
CommitID:1aef42bc97a31906486c9d66b792208948af06f3
153492-153497 --> testing pass
Upstream job id: Generic-VM-Unit-Test-DPDK#28598
Test environment and result as below:
+---------------------+----------------+
| Environment | dpdk_unit_test |
+=====================+================+
| CentOS Stream 10 | PASS |
+---------------------+----------------+
| CentOS Stream 9 | PASS |
+---------------------+----------------+
| Fedora 40 (Clang) | PASS |
+---------------------+----------------+
| Debian 12 | PASS |
+---------------------+----------------+
| Fedora 41 | PASS |
+---------------------+----------------+
| RHEL8 | PASS |
+---------------------+----------------+
| Fedora 40 | PASS |
+---------------------+----------------+
| Fedora 41 (Clang) | PASS |
+---------------------+----------------+
| Ubuntu 20.04 | PASS |
+---------------------+----------------+
| Ubuntu 24.04 | PASS |
+---------------------+----------------+
| RHEL9 | PASS |
+---------------------+----------------+
| Ubuntu 22.04 | PASS |
+---------------------+----------------+
| Windows Server 2022 | PASS |
+---------------------+----------------+
CentOS Stream 10
Kernel: Depends on container host
Compiler: gcc 14.2.1 20241104 (Red Hat 14.2.1-6)
CentOS Stream 9
Kernel: Depends on container host
Compiler: gcc 11.5.0 20240719 (Red Hat 11.5.0-2)
Fedora 40 (Clang)
Kernel: Depends on container host
Compiler: clang 18.1.8 (Fedora 18.1.8-1.fc40)
Debian 12
Kernel: Depends on container host
Compiler: gcc (Debian 12.2.0-14) 12.2.0
Fedora 41
Kernel: Depends on container host
Compiler: gcc 14.2.1 20240912 (Red Hat 14.2.1-3)
RHEL8
Kernel: Depends on container host
Compiler: gcc 8.5.0 20210514 (Red Hat 8.5.0-22)
Fedora 40
Kernel: Depends on container host
Compiler: gcc 14.2.1 20240912 (Red Hat 14.2.1-3)
Fedora 41 (Clang)
Kernel: Depends on container host
Compiler: clang 19.1.5 (Fedora 19.1.5-1.fc41)
Ubuntu 20.04
Kernel: Depends on container host
Compiler: gcc (Ubuntu 9.4.0-1ubuntu1~20.04.2) 9.4.0
Ubuntu 24.04
Kernel: Depends on container host
Compiler: gcc (Ubuntu 13.3.0-6ubuntu2~24.04) 13.3.0
RHEL9
Kernel: Depends on container host
Compiler: gcc 11.5.0 20240719 (Red Hat 11.5.0-2)
Ubuntu 22.04
Kernel: Depends on container host
Compiler: gcc (Ubuntu 11.4.0-1ubuntu1~22.04) 11.4.0
Windows Server 2022
Kernel: 10.0.20348.2031
Compiler: clang 15.0.7, gcc 14.1.0 (MinGW), and MSVC VS 19.39.33521
To view detailed results, visit:
https://lab.dpdk.org/results/dashboard/patchsets/33196/
UNH-IOL DPDK Community Lab
To manage your email subscriptions, visit:
https://lab.dpdk.org/results/dashboard/preferences/subscriptions/
^ permalink raw reply [flat|nested] 21+ messages in thread
* |SUCCESS| pw153492-153497 [PATCH] [RFC,v2,6/6] dts: add performance
[not found] <20250516201834.626206-7-npratte@iol.unh.edu>
` (16 preceding siblings ...)
2025-05-17 12:40 ` dpdklab
@ 2025-05-17 12:44 ` dpdklab
2025-05-17 12:48 ` dpdklab
` (2 subsequent siblings)
20 siblings, 0 replies; 21+ messages in thread
From: dpdklab @ 2025-05-17 12:44 UTC (permalink / raw)
To: Test Report; +Cc: dpdk-test-reports
Test-Label: iol-unit-arm64-testing
Test-Status: SUCCESS
http://dpdk.org/patch/153497
_Testing PASS_
Submitter: Nicholas Pratte <npratte@iol.unh.edu>
Date: Friday, May 16 2025 20:18:34
DPDK git baseline: Repo:dpdk
Branch: master
CommitID:1aef42bc97a31906486c9d66b792208948af06f3
153492-153497 --> testing pass
Upstream job id: Generic-Unit-Test-DPDK#338796
Test environment and result as below:
+-----------------------------+--------------+---------------------------+----------------+------------------------------+
| Environment | lpm_autotest | cryptodev_sw_zuc_autotest | dpdk_unit_test | cryptodev_sw_snow3g_autotest |
+=============================+==============+===========================+================+==============================+
| Ubuntu 20.04 ARM SVE | PASS | SKIPPED | SKIPPED | SKIPPED |
+-----------------------------+--------------+---------------------------+----------------+------------------------------+
| Debian 12 (arm) | SKIPPED | PASS | PASS | PASS |
+-----------------------------+--------------+---------------------------+----------------+------------------------------+
| CentOS Stream 9 (ARM) | SKIPPED | SKIPPED | PASS | SKIPPED |
+-----------------------------+--------------+---------------------------+----------------+------------------------------+
| CentOS Stream 10 (ARM) | SKIPPED | SKIPPED | PASS | SKIPPED |
+-----------------------------+--------------+---------------------------+----------------+------------------------------+
| Fedora 40 (ARM) | SKIPPED | SKIPPED | PASS | SKIPPED |
+-----------------------------+--------------+---------------------------+----------------+------------------------------+
| Fedora 40 (ARM Clang) | SKIPPED | SKIPPED | PASS | SKIPPED |
+-----------------------------+--------------+---------------------------+----------------+------------------------------+
| Fedora 41 (ARM) | SKIPPED | SKIPPED | PASS | SKIPPED |
+-----------------------------+--------------+---------------------------+----------------+------------------------------+
| Fedora 41 (ARM Clang) | SKIPPED | SKIPPED | PASS | SKIPPED |
+-----------------------------+--------------+---------------------------+----------------+------------------------------+
| RHEL9 (ARM) | SKIPPED | SKIPPED | PASS | SKIPPED |
+-----------------------------+--------------+---------------------------+----------------+------------------------------+
| Ubuntu 22.04 (ARM) | SKIPPED | SKIPPED | PASS | SKIPPED |
+-----------------------------+--------------+---------------------------+----------------+------------------------------+
| Ubuntu 20.04 (ARM) | SKIPPED | SKIPPED | PASS | SKIPPED |
+-----------------------------+--------------+---------------------------+----------------+------------------------------+
| Ubuntu 24.04 (ARM) | SKIPPED | SKIPPED | PASS | SKIPPED |
+-----------------------------+--------------+---------------------------+----------------+------------------------------+
| 32-bit Ubuntu 22.04.4 (ARM) | SKIPPED | SKIPPED | PASS | SKIPPED |
+-----------------------------+--------------+---------------------------+----------------+------------------------------+
Ubuntu 20.04 ARM SVE
Kernel: Depends on container host
Compiler: gcc (Ubuntu 10.5.0-1ubuntu1~20.04) 10.5.0
Debian 12 (arm)
Kernel: Depends on container host
Compiler: gcc (Debian 12.2.0-14) 12.2.0
CentOS Stream 9 (ARM)
Kernel: Depends on container host
Compiler: gcc 11.5.0 20240719 (Red Hat 11.5.0-2)
CentOS Stream 10 (ARM)
Kernel: Depends on container host
Compiler: gcc 14.2.1 20241104 (Red Hat 14.2.1-6)
Fedora 40 (ARM)
Kernel: Depends on container host
Compiler: gcc 14.2.1 20240912 (Red Hat 14.2.1-3)
Fedora 40 (ARM Clang)
Kernel: Depends on container host
Compiler: clang 18.1.8 (Fedora 18.1.8-1.fc40)
Fedora 41 (ARM)
Kernel: Depends on container host
Compiler: gcc 14.2.1 20240912 (Red Hat 14.2.1-3)
Fedora 41 (ARM Clang)
Kernel: Depends on container host
Compiler: clang 19.1.5 (Fedora 19.1.5-1.fc41)
RHEL9 (ARM)
Kernel: Depends on container host
Compiler: gcc 11.5.0 20240719 (Red Hat 11.5.0-2)
Ubuntu 22.04 (ARM)
Kernel: Depends on container host
Compiler: gcc (Ubuntu 11.4.0-1ubuntu1~22.04) 11.4.0
Ubuntu 20.04 (ARM)
Kernel: Depends on container host
Compiler: gcc (Ubuntu 9.4.0-1ubuntu1~20.04.2) 9.4.0
Ubuntu 24.04 (ARM)
Kernel: Depends on container host
Compiler: gcc (Ubuntu 13.3.0-6ubuntu2~24.04) 13.3.0
32-bit Ubuntu 22.04.4 (ARM)
Kernel: 5.15.83+ aarch64
Compiler: gcc (Ubuntu 11.4.0-1ubuntu1~22.04) 11.4.0
To view detailed results, visit:
https://lab.dpdk.org/results/dashboard/patchsets/33196/
UNH-IOL DPDK Community Lab
To manage your email subscriptions, visit:
https://lab.dpdk.org/results/dashboard/preferences/subscriptions/
^ permalink raw reply [flat|nested] 21+ messages in thread
* |SUCCESS| pw153492-153497 [PATCH] [RFC,v2,6/6] dts: add performance
[not found] <20250516201834.626206-7-npratte@iol.unh.edu>
` (17 preceding siblings ...)
2025-05-17 12:44 ` dpdklab
@ 2025-05-17 12:48 ` dpdklab
2025-05-17 12:56 ` dpdklab
2025-05-17 15:11 ` dpdklab
20 siblings, 0 replies; 21+ messages in thread
From: dpdklab @ 2025-05-17 12:48 UTC (permalink / raw)
To: Test Report; +Cc: dpdk-test-reports
Test-Label: iol-sample-apps-testing
Test-Status: SUCCESS
http://dpdk.org/patch/153497
_Testing PASS_
Submitter: Nicholas Pratte <npratte@iol.unh.edu>
Date: Friday, May 16 2025 20:18:34
DPDK git baseline: Repo:dpdk
Branch: master
CommitID:1aef42bc97a31906486c9d66b792208948af06f3
153492-153497 --> testing pass
Upstream job id: ACVP-FIPS-testing#9850
Test environment and result as below:
+--------------+----------------------+----------------------+
| Environment | compressdev_zlib_pmd | dpdk_fips_validation |
+==============+======================+======================+
| Ubuntu 22.04 | PASS | SKIPPED |
+--------------+----------------------+----------------------+
| Ubuntu 20.04 | SKIPPED | PASS |
+--------------+----------------------+----------------------+
Ubuntu 22.04
Kernel: 5.15.0-100-generic
Compiler: gcc gcc (Ubuntu 11.4.0-1ubuntu1~22.04) 11.4.0
Ubuntu 20.04
Kernel: Depends on container host
Compiler: gcc (Ubuntu 9.4.0-1ubuntu1~20.04.2) 9.4.0
To view detailed results, visit:
https://lab.dpdk.org/results/dashboard/patchsets/33196/
UNH-IOL DPDK Community Lab
To manage your email subscriptions, visit:
https://lab.dpdk.org/results/dashboard/preferences/subscriptions/
^ permalink raw reply [flat|nested] 21+ messages in thread
* |SUCCESS| pw153492-153497 [PATCH] [RFC,v2,6/6] dts: add performance
[not found] <20250516201834.626206-7-npratte@iol.unh.edu>
` (18 preceding siblings ...)
2025-05-17 12:48 ` dpdklab
@ 2025-05-17 12:56 ` dpdklab
2025-05-17 15:11 ` dpdklab
20 siblings, 0 replies; 21+ messages in thread
From: dpdklab @ 2025-05-17 12:56 UTC (permalink / raw)
To: Test Report; +Cc: dpdk-test-reports
Test-Label: iol-compile-amd64-testing
Test-Status: SUCCESS
http://dpdk.org/patch/153497
_Testing PASS_
Submitter: Nicholas Pratte <npratte@iol.unh.edu>
Date: Friday, May 16 2025 20:18:34
DPDK git baseline: Repo:dpdk
Branch: master
CommitID:1aef42bc97a31906486c9d66b792208948af06f3
153492-153497 --> testing pass
Upstream job id: Generic-DPDK-Compile-Meson#389078
Test environment and result as below:
+-----------------------------------+--------------------+-------------------+------------------+-------------------+-------------------------+----------------------+
| Environment | dpdk_meson_compile | dpdk_compile_spdk | dpdk_compile_ovs | dpdk_msvc_compile | dpdk_llvm_clang_compile | dpdk_mingw64_compile |
+===================================+====================+===================+==================+===================+=========================+======================+
| CentOS Stream 9 | PASS | PASS | SKIPPED | SKIPPED | SKIPPED | SKIPPED |
+-----------------------------------+--------------------+-------------------+------------------+-------------------+-------------------------+----------------------+
| CentOS Stream 10 | PASS | SKIPPED | SKIPPED | SKIPPED | SKIPPED | SKIPPED |
+-----------------------------------+--------------------+-------------------+------------------+-------------------+-------------------------+----------------------+
| Debian 12 | PASS | PASS | SKIPPED | SKIPPED | SKIPPED | SKIPPED |
+-----------------------------------+--------------------+-------------------+------------------+-------------------+-------------------------+----------------------+
| Fedora 40 (Clang) | PASS | PASS | SKIPPED | SKIPPED | SKIPPED | SKIPPED |
+-----------------------------------+--------------------+-------------------+------------------+-------------------+-------------------------+----------------------+
| Fedora 41 (Clang) | PASS | PASS | PASS | SKIPPED | SKIPPED | SKIPPED |
+-----------------------------------+--------------------+-------------------+------------------+-------------------+-------------------------+----------------------+
| Fedora 41 | PASS | PASS | PASS | SKIPPED | SKIPPED | SKIPPED |
+-----------------------------------+--------------------+-------------------+------------------+-------------------+-------------------------+----------------------+
| openSUSE Leap 15 | PASS | SKIPPED | SKIPPED | SKIPPED | SKIPPED | SKIPPED |
+-----------------------------------+--------------------+-------------------+------------------+-------------------+-------------------------+----------------------+
| RHEL8 | PASS | SKIPPED | SKIPPED | SKIPPED | SKIPPED | SKIPPED |
+-----------------------------------+--------------------+-------------------+------------------+-------------------+-------------------------+----------------------+
| RHEL9 | PASS | SKIPPED | SKIPPED | SKIPPED | SKIPPED | SKIPPED |
+-----------------------------------+--------------------+-------------------+------------------+-------------------+-------------------------+----------------------+
| Ubuntu 20.04 | PASS | SKIPPED | SKIPPED | SKIPPED | SKIPPED | SKIPPED |
+-----------------------------------+--------------------+-------------------+------------------+-------------------+-------------------------+----------------------+
| Ubuntu 22.04 | PASS | PASS | SKIPPED | SKIPPED | SKIPPED | SKIPPED |
+-----------------------------------+--------------------+-------------------+------------------+-------------------+-------------------------+----------------------+
| Ubuntu 24.04 | PASS | PASS | PASS | SKIPPED | SKIPPED | SKIPPED |
+-----------------------------------+--------------------+-------------------+------------------+-------------------+-------------------------+----------------------+
| Ubuntu 24.04 32 Bit Cross Compile | PASS | SKIPPED | SKIPPED | SKIPPED | SKIPPED | SKIPPED |
+-----------------------------------+--------------------+-------------------+------------------+-------------------+-------------------------+----------------------+
| Alpine | PASS | SKIPPED | SKIPPED | SKIPPED | SKIPPED | SKIPPED |
+-----------------------------------+--------------------+-------------------+------------------+-------------------+-------------------------+----------------------+
| FreeBSD 13.5 | PASS | SKIPPED | SKIPPED | SKIPPED | SKIPPED | SKIPPED |
+-----------------------------------+--------------------+-------------------+------------------+-------------------+-------------------------+----------------------+
| FreeBSD 14.2 | PASS | SKIPPED | SKIPPED | SKIPPED | SKIPPED | SKIPPED |
+-----------------------------------+--------------------+-------------------+------------------+-------------------+-------------------------+----------------------+
| Fedora 40 | PASS | PASS | SKIPPED | SKIPPED | SKIPPED | SKIPPED |
+-----------------------------------+--------------------+-------------------+------------------+-------------------+-------------------------+----------------------+
| Windows Server 2022 | SKIPPED | SKIPPED | SKIPPED | PASS | PASS | PASS |
+-----------------------------------+--------------------+-------------------+------------------+-------------------+-------------------------+----------------------+
CentOS Stream 9
Kernel: Depends on container host
Compiler: gcc 11.5.0 20240719 (Red Hat 11.5.0-2)
CentOS Stream 10
Kernel: Depends on container host
Compiler: gcc 14.2.1 20241104 (Red Hat 14.2.1-6)
Debian 12
Kernel: Depends on container host
Compiler: gcc (Debian 12.2.0-14) 12.2.0
Fedora 40 (Clang)
Kernel: Depends on container host
Compiler: clang 18.1.8 (Fedora 18.1.8-1.fc40)
Fedora 41 (Clang)
Kernel: Depends on container host
Compiler: clang 19.1.5 (Fedora 19.1.5-1.fc41)
Fedora 41
Kernel: Depends on container host
Compiler: gcc 14.2.1 20240912 (Red Hat 14.2.1-3)
openSUSE Leap 15
Kernel: Depends on container host
Compiler: gcc (SUSE Linux) 7.5.0
RHEL8
Kernel: Depends on container host
Compiler: gcc 8.5.0 20210514 (Red Hat 8.5.0-22)
RHEL9
Kernel: Depends on container host
Compiler: gcc 11.5.0 20240719 (Red Hat 11.5.0-2)
Ubuntu 20.04
Kernel: Depends on container host
Compiler: gcc (Ubuntu 9.4.0-1ubuntu1~20.04.2) 9.4.0
Ubuntu 22.04
Kernel: Depends on container host
Compiler: gcc (Ubuntu 11.4.0-1ubuntu1~22.04) 11.4.0
Ubuntu 24.04
Kernel: Depends on container host
Compiler: gcc (Ubuntu 13.3.0-6ubuntu2~24.04) 13.3.0
Ubuntu 24.04 32 Bit Cross Compile
Kernel: Depends on container host
Compiler: gcc (Ubuntu 13.3.0-6ubuntu2~24.04) 13.3.0
Alpine
Kernel: Depends on container host
Compiler: gcc (Alpine 14.2.0) 14.2.0
FreeBSD 13.5
Kernel: 13.5-RELEASE
Compiler: clang 19.1.7
FreeBSD 14.2
Kernel: 14.2-RELEASE
Compiler: clang 18.1.6
Fedora 40
Kernel: Depends on container host
Compiler: gcc 14.2.1 20240912 (Red Hat 14.2.1-3)
Windows Server 2022
Kernel: 10.0.20348.2031
Compiler: clang 15.0.7, gcc 14.1.0 (MinGW), and MSVC VS 19.39.33521
To view detailed results, visit:
https://lab.dpdk.org/results/dashboard/patchsets/33196/
UNH-IOL DPDK Community Lab
To manage your email subscriptions, visit:
https://lab.dpdk.org/results/dashboard/preferences/subscriptions/
^ permalink raw reply [flat|nested] 21+ messages in thread
* |SUCCESS| pw153492-153497 [PATCH] [RFC,v2,6/6] dts: add performance
[not found] <20250516201834.626206-7-npratte@iol.unh.edu>
` (19 preceding siblings ...)
2025-05-17 12:56 ` dpdklab
@ 2025-05-17 15:11 ` dpdklab
20 siblings, 0 replies; 21+ messages in thread
From: dpdklab @ 2025-05-17 15:11 UTC (permalink / raw)
To: Test Report; +Cc: dpdk-test-reports
Test-Label: iol-compile-arm64-testing
Test-Status: SUCCESS
http://dpdk.org/patch/153497
_Testing PASS_
Submitter: Nicholas Pratte <npratte@iol.unh.edu>
Date: Friday, May 16 2025 20:18:34
DPDK git baseline: Repo:dpdk
Branch: master
CommitID:1aef42bc97a31906486c9d66b792208948af06f3
153492-153497 --> testing pass
Upstream job id: Generic-DPDK-Compile-Meson#389096
Test environment and result as below:
+----------------------------------------+--------------------+
| Environment | dpdk_meson_compile |
+========================================+====================+
| RHEL9 (ARM) | PASS |
+----------------------------------------+--------------------+
| Ubuntu 20.04 ARM GCC Cross Compile | PASS |
+----------------------------------------+--------------------+
| Debian 12 with MUSDK | PASS |
+----------------------------------------+--------------------+
| Fedora 40 (ARM) | PASS |
+----------------------------------------+--------------------+
| Ubuntu 20.04 ARM SVE | PASS |
+----------------------------------------+--------------------+
| Fedora 40 (ARM Clang) | PASS |
+----------------------------------------+--------------------+
| Ubuntu 20.04 (ARM) | PASS |
+----------------------------------------+--------------------+
| Fedora 41 (ARM Clang) | PASS |
+----------------------------------------+--------------------+
| Fedora 41 (ARM) | PASS |
+----------------------------------------+--------------------+
| Ubuntu 22.04 (ARM) | PASS |
+----------------------------------------+--------------------+
| Ubuntu 24.04 (ARM) | PASS |
+----------------------------------------+--------------------+
| CentOS Stream 9 (ARM) | PASS |
+----------------------------------------+--------------------+
| Debian 12 (arm) | PASS |
+----------------------------------------+--------------------+
| Ubuntu 20.04 aarch32 GCC Cross Compile | PASS |
+----------------------------------------+--------------------+
| CentOS Stream 10 (ARM) | PASS |
+----------------------------------------+--------------------+
| Ubuntu 20.04 ARM Clang Cross Compile | PASS |
+----------------------------------------+--------------------+
RHEL9 (ARM)
Kernel: Depends on container host
Compiler: gcc 11.5.0 20240719 (Red Hat 11.5.0-2)
Ubuntu 20.04 ARM GCC Cross Compile
Kernel: Depends on container host
Compiler: aarch64-linux-gnu-gcc (Ubuntu 9.4.0-1ubuntu1~20.04.2) 9.4.0
Debian 12 with MUSDK
Kernel: Depends on container host
Compiler: gcc (Debian 12.2.0-14) 12.2.0
Fedora 40 (ARM)
Kernel: Depends on container host
Compiler: gcc 14.2.1 20240912 (Red Hat 14.2.1-3)
Ubuntu 20.04 ARM SVE
Kernel: Depends on container host
Compiler: gcc (Ubuntu 10.5.0-1ubuntu1~20.04) 10.5.0
Fedora 40 (ARM Clang)
Kernel: Depends on container host
Compiler: clang 18.1.8 (Fedora 18.1.8-1.fc40)
Ubuntu 20.04 (ARM)
Kernel: Depends on container host
Compiler: gcc (Ubuntu 9.4.0-1ubuntu1~20.04.2) 9.4.0
Fedora 41 (ARM Clang)
Kernel: Depends on container host
Compiler: clang 19.1.5 (Fedora 19.1.5-1.fc41)
Fedora 41 (ARM)
Kernel: Depends on container host
Compiler: gcc 14.2.1 20240912 (Red Hat 14.2.1-3)
Ubuntu 22.04 (ARM)
Kernel: Depends on container host
Compiler: gcc (Ubuntu 11.4.0-1ubuntu1~22.04) 11.4.0
Ubuntu 24.04 (ARM)
Kernel: Depends on container host
Compiler: gcc (Ubuntu 13.3.0-6ubuntu2~24.04) 13.3.0
CentOS Stream 9 (ARM)
Kernel: Depends on container host
Compiler: gcc 11.5.0 20240719 (Red Hat 11.5.0-2)
Debian 12 (arm)
Kernel: Depends on container host
Compiler: gcc (Debian 12.2.0-14) 12.2.0
Ubuntu 20.04 aarch32 GCC Cross Compile
Kernel: Depends on container host
Compiler: gcc 9.4.0
CentOS Stream 10 (ARM)
Kernel: Depends on container host
Compiler: gcc 14.2.1 20241104 (Red Hat 14.2.1-6)
Ubuntu 20.04 ARM Clang Cross Compile
Kernel: Depends on container host
Compiler: clang 10.0.0-4ubuntu1
To view detailed results, visit:
https://lab.dpdk.org/results/dashboard/patchsets/33196/
UNH-IOL DPDK Community Lab
To manage your email subscriptions, visit:
https://lab.dpdk.org/results/dashboard/preferences/subscriptions/
^ permalink raw reply [flat|nested] 21+ messages in thread
end of thread, other threads:[~2025-05-17 15:11 UTC | newest]
Thread overview: 21+ messages (download: mbox.gz / follow: Atom feed)
-- links below jump to the message on this page --
[not found] <20250516201834.626206-7-npratte@iol.unh.edu>
2025-05-16 20:19 ` |WARNING| pw153497 [RFC v2 6/6] dts: add performance test functions to test suite api checkpatch
2025-05-17 10:33 ` |SUCCESS| pw153492-153497 [PATCH] [RFC,v2,6/6] dts: add performance dpdklab
2025-05-17 10:44 ` dpdklab
2025-05-17 10:48 ` dpdklab
2025-05-17 10:50 ` dpdklab
2025-05-17 10:58 ` dpdklab
2025-05-17 10:59 ` dpdklab
2025-05-17 11:13 ` dpdklab
2025-05-17 11:17 ` dpdklab
2025-05-17 11:22 ` |PENDING| " dpdklab
2025-05-17 11:35 ` |SUCCESS| " dpdklab
2025-05-17 11:39 ` |PENDING| " dpdklab
2025-05-17 11:47 ` |SUCCESS| " dpdklab
2025-05-17 12:31 ` dpdklab
2025-05-17 12:31 ` dpdklab
2025-05-17 12:31 ` dpdklab
2025-05-17 12:40 ` dpdklab
2025-05-17 12:44 ` dpdklab
2025-05-17 12:48 ` dpdklab
2025-05-17 12:56 ` dpdklab
2025-05-17 15:11 ` dpdklab
This is a public inbox, see mirroring instructions
for how to clone and mirror all data and code used for this inbox;
as well as URLs for NNTP newsgroup(s).