From mboxrd@z Thu Jan 1 00:00:00 1970 Return-Path: Received: from mails.dpdk.org (mails.dpdk.org [217.70.189.124]) by inbox.dpdk.org (Postfix) with ESMTP id 9479046772 for ; Sat, 17 May 2025 14:56:27 +0200 (CEST) Received: from mails.dpdk.org (localhost [127.0.0.1]) by mails.dpdk.org (Postfix) with ESMTP id 6F5F64067A; Sat, 17 May 2025 14:56:27 +0200 (CEST) Received: from mail-pl1-f228.google.com (mail-pl1-f228.google.com [209.85.214.228]) by mails.dpdk.org (Postfix) with ESMTP id 50A5840678 for ; Sat, 17 May 2025 14:56:26 +0200 (CEST) Received: by mail-pl1-f228.google.com with SMTP id d9443c01a7336-231c86bffc1so28205255ad.0 for ; Sat, 17 May 2025 05:56:26 -0700 (PDT) DKIM-Signature: v=1; a=rsa-sha256; c=relaxed/relaxed; d=iol.unh.edu; s=unh-iol; t=1747486585; x=1748091385; darn=dpdk.org; h=references:in-reply-to:cc:to:from:subject:message-id:date:from:to :cc:subject:date:message-id:reply-to; bh=J6wYHaKdiAXLb4QBu6C0lugo95u4ShfMhUT1y3PAlU8=; b=ZZSK2VhJHrZRviiID/xdN2yJU/I+pRVdqur7GdNG8Nzc8fEWbcl9DSFru6DKeqIW/l SGoHZlc19NU/sUHRTxCXEAN7A4ROYg/rh5gotpz3xPsiGlCeTogB23JwHA2daFXS8MS8 IUa4GNQmY27uTV+9WvEUGt3yGVEToWTaaPqII= X-Google-DKIM-Signature: v=1; a=rsa-sha256; c=relaxed/relaxed; d=1e100.net; s=20230601; t=1747486585; x=1748091385; h=references:in-reply-to:cc:to:from:subject:message-id:date :x-gm-message-state:from:to:cc:subject:date:message-id:reply-to; bh=J6wYHaKdiAXLb4QBu6C0lugo95u4ShfMhUT1y3PAlU8=; b=FVENRALVpcJWjb3YPr1Mod0xfWtuxhKVAi8YxSYmXPDzIgaYeS68LQlI1niqbIM3Il prxb4DBbqTxcvHxGmV/GSyOM1kpj1bho0C4fbfuzeX3oZGCQDLPMTTXujGijpoxJPirA 72gGHrwEJCV9P5flot1JGQQwJ2nf5RPXhnMVeZV1dWVlrYNtmlSRtaCiI+qYtHi+iHMF H9gv+cbx5kdJLLqdmm3SsetXdiZ2wf2+LAgzuNrtCDmHf6kWv2+K+kVA5e+Q4HBExilG Tx6zu33/fqtcIwFFWgWst0/MosvsJd+gUl5yHexcX7taarZ/nWGfncbDxGXtioR9PTcM Dc4g== X-Gm-Message-State: AOJu0Yx7HMGiPdmv8MSBewwwvS3T+pv3TiYRQbbcSFad8OvhFRqzGAs1 JL+dE85ciqWp+u+K9DSYlTAf7jdoRBAAWVQWXn0Bdy/IUzEa+3xtewDTLDEY0GPoWZoIfTgNRHO 0vKBkVmG7wgCPmsbnLynZ2Te1bcBJ75pxm5q3VV+AbCH9J9MN+wKOQhOnHHEr X-Gm-Gg: ASbGnctAFCv/UzN31L+CXCt9QzF2kuH54lHeRwW4jNfGlBS+xTqPwK8MzyyKHSlDNVj baN+Ge9p1YknObvLFBRYq5+rmRAG2peMlBiWv22cewhZlEU/APoxafRvhCLxkpkATykJ4oJtnyI EaeEd2VZBv++nmKqwZW7GHAdwDNgNQTqOWWYQnp3pV/7Iyw31El6Scp1KxaBsMDIt6dIZrKazuT /GHHmiHRKIE1gg76+ZaT9nFhWNDV/SidV0NbPMFgIfeWQFbTaTBKEaBp1mWTCACUgG1W7yGVDnX AZKZ/0iNrHR28jiy/EJ/KAnGzONuRFC7q5oP X-Google-Smtp-Source: AGHT+IFhOWX82NkK5JIyXtT9PzZ/gLIFe8Q1cwuwlhvEl39eG/puOs4A6CRHgRjBQYmvFT01yR3E6vcfEtJ+ X-Received: by 2002:a17:902:f551:b0:21f:71b4:d2aa with SMTP id d9443c01a7336-231de351542mr90344015ad.5.1747486585239; Sat, 17 May 2025 05:56:25 -0700 (PDT) Received: from postal.iol.unh.edu (postal.iol.unh.edu. [2606:4100:3880:1234::84]) by smtp-relay.gmail.com with ESMTPS id d9443c01a7336-231d4e98118sm2041365ad.95.2025.05.17.05.56.25 (version=TLS1_2 cipher=ECDHE-ECDSA-AES128-GCM-SHA256 bits=128/128); Sat, 17 May 2025 05:56:25 -0700 (PDT) X-Relaying-Domain: iol.unh.edu Date: Sat, 17 May 2025 05:56:25 -0700 (PDT) Message-ID: <68288779.170a0220.13d99e.c762SMTPIN_ADDED_MISSING@mx.google.com> Received: from [172.17.0.2] (unknown [172.18.0.76]) by postal.iol.unh.edu (Postfix) with ESMTP id 592B36052471; Sat, 17 May 2025 08:56:24 -0400 (EDT) Subject: |SUCCESS| pw153492-153497 [PATCH] [RFC,v2,6/6] dts: add performance From: dpdklab@iol.unh.edu To: Test Report Cc: dpdk-test-reports@iol.unh.edu In-Reply-To: <20250516201834.626206-7-npratte@iol.unh.edu> References: <20250516201834.626206-7-npratte@iol.unh.edu> Content-Type: text/plain X-BeenThere: test-report@dpdk.org X-Mailman-Version: 2.1.29 Precedence: list List-Id: automatic DPDK test reports List-Unsubscribe: , List-Archive: List-Post: List-Help: List-Subscribe: , Errors-To: test-report-bounces@dpdk.org Test-Label: iol-compile-amd64-testing Test-Status: SUCCESS http://dpdk.org/patch/153497 _Testing PASS_ Submitter: Nicholas Pratte Date: Friday, May 16 2025 20:18:34 DPDK git baseline: Repo:dpdk Branch: master CommitID:1aef42bc97a31906486c9d66b792208948af06f3 153492-153497 --> testing pass Upstream job id: Generic-DPDK-Compile-Meson#389078 Test environment and result as below: +-----------------------------------+--------------------+-------------------+------------------+-------------------+-------------------------+----------------------+ | Environment | dpdk_meson_compile | dpdk_compile_spdk | dpdk_compile_ovs | dpdk_msvc_compile | dpdk_llvm_clang_compile | dpdk_mingw64_compile | +===================================+====================+===================+==================+===================+=========================+======================+ | CentOS Stream 9 | PASS | PASS | SKIPPED | SKIPPED | SKIPPED | SKIPPED | +-----------------------------------+--------------------+-------------------+------------------+-------------------+-------------------------+----------------------+ | CentOS Stream 10 | PASS | SKIPPED | SKIPPED | SKIPPED | SKIPPED | SKIPPED | +-----------------------------------+--------------------+-------------------+------------------+-------------------+-------------------------+----------------------+ | Debian 12 | PASS | PASS | SKIPPED | SKIPPED | SKIPPED | SKIPPED | +-----------------------------------+--------------------+-------------------+------------------+-------------------+-------------------------+----------------------+ | Fedora 40 (Clang) | PASS | PASS | SKIPPED | SKIPPED | SKIPPED | SKIPPED | +-----------------------------------+--------------------+-------------------+------------------+-------------------+-------------------------+----------------------+ | Fedora 41 (Clang) | PASS | PASS | PASS | SKIPPED | SKIPPED | SKIPPED | +-----------------------------------+--------------------+-------------------+------------------+-------------------+-------------------------+----------------------+ | Fedora 41 | PASS | PASS | PASS | SKIPPED | SKIPPED | SKIPPED | +-----------------------------------+--------------------+-------------------+------------------+-------------------+-------------------------+----------------------+ | openSUSE Leap 15 | PASS | SKIPPED | SKIPPED | SKIPPED | SKIPPED | SKIPPED | +-----------------------------------+--------------------+-------------------+------------------+-------------------+-------------------------+----------------------+ | RHEL8 | PASS | SKIPPED | SKIPPED | SKIPPED | SKIPPED | SKIPPED | +-----------------------------------+--------------------+-------------------+------------------+-------------------+-------------------------+----------------------+ | RHEL9 | PASS | SKIPPED | SKIPPED | SKIPPED | SKIPPED | SKIPPED | +-----------------------------------+--------------------+-------------------+------------------+-------------------+-------------------------+----------------------+ | Ubuntu 20.04 | PASS | SKIPPED | SKIPPED | SKIPPED | SKIPPED | SKIPPED | +-----------------------------------+--------------------+-------------------+------------------+-------------------+-------------------------+----------------------+ | Ubuntu 22.04 | PASS | PASS | SKIPPED | SKIPPED | SKIPPED | SKIPPED | +-----------------------------------+--------------------+-------------------+------------------+-------------------+-------------------------+----------------------+ | Ubuntu 24.04 | PASS | PASS | PASS | SKIPPED | SKIPPED | SKIPPED | +-----------------------------------+--------------------+-------------------+------------------+-------------------+-------------------------+----------------------+ | Ubuntu 24.04 32 Bit Cross Compile | PASS | SKIPPED | SKIPPED | SKIPPED | SKIPPED | SKIPPED | +-----------------------------------+--------------------+-------------------+------------------+-------------------+-------------------------+----------------------+ | Alpine | PASS | SKIPPED | SKIPPED | SKIPPED | SKIPPED | SKIPPED | +-----------------------------------+--------------------+-------------------+------------------+-------------------+-------------------------+----------------------+ | FreeBSD 13.5 | PASS | SKIPPED | SKIPPED | SKIPPED | SKIPPED | SKIPPED | +-----------------------------------+--------------------+-------------------+------------------+-------------------+-------------------------+----------------------+ | FreeBSD 14.2 | PASS | SKIPPED | SKIPPED | SKIPPED | SKIPPED | SKIPPED | +-----------------------------------+--------------------+-------------------+------------------+-------------------+-------------------------+----------------------+ | Fedora 40 | PASS | PASS | SKIPPED | SKIPPED | SKIPPED | SKIPPED | +-----------------------------------+--------------------+-------------------+------------------+-------------------+-------------------------+----------------------+ | Windows Server 2022 | SKIPPED | SKIPPED | SKIPPED | PASS | PASS | PASS | +-----------------------------------+--------------------+-------------------+------------------+-------------------+-------------------------+----------------------+ CentOS Stream 9 Kernel: Depends on container host Compiler: gcc 11.5.0 20240719 (Red Hat 11.5.0-2) CentOS Stream 10 Kernel: Depends on container host Compiler: gcc 14.2.1 20241104 (Red Hat 14.2.1-6) Debian 12 Kernel: Depends on container host Compiler: gcc (Debian 12.2.0-14) 12.2.0 Fedora 40 (Clang) Kernel: Depends on container host Compiler: clang 18.1.8 (Fedora 18.1.8-1.fc40) Fedora 41 (Clang) Kernel: Depends on container host Compiler: clang 19.1.5 (Fedora 19.1.5-1.fc41) Fedora 41 Kernel: Depends on container host Compiler: gcc 14.2.1 20240912 (Red Hat 14.2.1-3) openSUSE Leap 15 Kernel: Depends on container host Compiler: gcc (SUSE Linux) 7.5.0 RHEL8 Kernel: Depends on container host Compiler: gcc 8.5.0 20210514 (Red Hat 8.5.0-22) RHEL9 Kernel: Depends on container host Compiler: gcc 11.5.0 20240719 (Red Hat 11.5.0-2) Ubuntu 20.04 Kernel: Depends on container host Compiler: gcc (Ubuntu 9.4.0-1ubuntu1~20.04.2) 9.4.0 Ubuntu 22.04 Kernel: Depends on container host Compiler: gcc (Ubuntu 11.4.0-1ubuntu1~22.04) 11.4.0 Ubuntu 24.04 Kernel: Depends on container host Compiler: gcc (Ubuntu 13.3.0-6ubuntu2~24.04) 13.3.0 Ubuntu 24.04 32 Bit Cross Compile Kernel: Depends on container host Compiler: gcc (Ubuntu 13.3.0-6ubuntu2~24.04) 13.3.0 Alpine Kernel: Depends on container host Compiler: gcc (Alpine 14.2.0) 14.2.0 FreeBSD 13.5 Kernel: 13.5-RELEASE Compiler: clang 19.1.7 FreeBSD 14.2 Kernel: 14.2-RELEASE Compiler: clang 18.1.6 Fedora 40 Kernel: Depends on container host Compiler: gcc 14.2.1 20240912 (Red Hat 14.2.1-3) Windows Server 2022 Kernel: 10.0.20348.2031 Compiler: clang 15.0.7, gcc 14.1.0 (MinGW), and MSVC VS 19.39.33521 To view detailed results, visit: https://lab.dpdk.org/results/dashboard/patchsets/33196/ UNH-IOL DPDK Community Lab To manage your email subscriptions, visit: https://lab.dpdk.org/results/dashboard/preferences/subscriptions/