From mboxrd@z Thu Jan 1 00:00:00 1970 Return-Path: Received: from mails.dpdk.org (mails.dpdk.org [217.70.189.124]) by inbox.dpdk.org (Postfix) with ESMTP id 72AEC46772 for ; Sat, 17 May 2025 15:56:39 +0200 (CEST) Received: from mails.dpdk.org (localhost [127.0.0.1]) by mails.dpdk.org (Postfix) with ESMTP id 3C6234067B; Sat, 17 May 2025 15:56:39 +0200 (CEST) Received: from mail-yb1-f227.google.com (mail-yb1-f227.google.com [209.85.219.227]) by mails.dpdk.org (Postfix) with ESMTP id 2DAAB4067A for ; Sat, 17 May 2025 15:56:38 +0200 (CEST) Received: by mail-yb1-f227.google.com with SMTP id 3f1490d57ef6-e7b94e38892so31046276.1 for ; Sat, 17 May 2025 06:56:38 -0700 (PDT) DKIM-Signature: v=1; a=rsa-sha256; c=relaxed/relaxed; d=iol.unh.edu; s=unh-iol; t=1747490197; x=1748094997; darn=dpdk.org; h=references:in-reply-to:cc:to:from:subject:message-id:date:from:to :cc:subject:date:message-id:reply-to; bh=UaDOlXA3jDE749KsuUgvCn9SEJ6604DoLEvNxfWzQVE=; b=fJvYEpygNaqWTnYBXs6pU+2Cl2My7MZ6z9acR8devvlSrLHwRHUsV4qGpPm+aO3qGk hjzrzVMaloIeKu4HxwZOCYNTHxfRATol4zL0DA67/Nz6KPf+5KLxOHmEx1nTmBjyKPbx 604whtcjyDluuy8oKnS2HVlu+U7wrDvoegnMo= X-Google-DKIM-Signature: v=1; a=rsa-sha256; c=relaxed/relaxed; d=1e100.net; s=20230601; t=1747490197; x=1748094997; h=references:in-reply-to:cc:to:from:subject:message-id:date :x-gm-message-state:from:to:cc:subject:date:message-id:reply-to; bh=UaDOlXA3jDE749KsuUgvCn9SEJ6604DoLEvNxfWzQVE=; b=NNKyG0Aqg3SMk9Rq6FYU3Iv+fs2IBAWwByGwpJTroZYvA+OVl0+bbqEcchn5KIBa5h rahCByDt+e/25FAm/fiNdM4KIqvyYSGYpx5uwcSxrRycyB0J3BOJi7mGigfozf8Js9Ia 21ku6MNkiBUGipm1C1TR4BGqd1se8LxDs+yb6NVr2JRjBSuds7TjAJPZde7C2PWAE4OD o8HIAuO2/30EROZ3j9lgiOQUovGTYbxjGrPiuZdy4gcBh0u9k3jTCVeSKv/wrwGiJ2mF /1wqlKP9YJUHcdFEP0VI3IYRPa52obVFkb8zuZ1E4OzARQBnj47iupBQuA1HsOIv7Xah jjow== X-Gm-Message-State: AOJu0YzBuNtempn3jHHKVn4UL1p70pIenogaj5JbOMseljU5IGj40AYB hOXedckT+Zk7obw4C53VY6rh1kkXl7FbIRK5MwxtqhDSTdBTys2nY2wNnieFAmVw5JMzRO2uwGa nMulPjy+P8u4BjTNu4PC5x6akBL0PxzrLfrUvJLHJqmaf2GvDDwE2tdqEII4p X-Gm-Gg: ASbGncuJtKwsf1FqumUZyfxd1rkE2cyZaROnx+YftBOpKL84M2zN5DiQ90+x1uFKK5i OhsPRT2Cae35iKgWCMAnG+7W1NJoj6hRs0QgMNeAEEp5sXZl5ZtJZc9EtTedUskI1nWeyLUNtLs y/P/kRhgSPPxW7ZOTpQqcdFbIk7j/r0iMLMnApUF++0TWeknm5jOuj5wA1gRs/jlf9mE8chaMMa /pMaaqL1UO6Y6n4nO4yx4RC6q2OG0iSwQfSQg32hSSrm4UVXgxYPrhvA+Cijo4i7KVrJ2iaDLeC MTpZJnhEnGct0kglSuS00oLseKPnp/gdpHx7 X-Google-Smtp-Source: AGHT+IGoHNDNSfZgyMvTSG/IC9Y6oTcYvw6yqoOoXJLTmN3EvQEMfNObWpE7Hu2tVgB3Kz1wBAbNQzQOVoVs X-Received: by 2002:a05:6902:1404:b0:e7b:2ff5:6bb2 with SMTP id 3f1490d57ef6-e7b6a42e099mr9835801276.44.1747490197334; Sat, 17 May 2025 06:56:37 -0700 (PDT) Received: from postal.iol.unh.edu (postal.iol.unh.edu. [2606:4100:3880:1234::84]) by smtp-relay.gmail.com with ESMTPS id 3f1490d57ef6-e7b6ae058c8sm68937276.24.2025.05.17.06.56.37 (version=TLS1_2 cipher=ECDHE-ECDSA-AES128-GCM-SHA256 bits=128/128); Sat, 17 May 2025 06:56:37 -0700 (PDT) X-Relaying-Domain: iol.unh.edu Date: Sat, 17 May 2025 06:56:37 -0700 (PDT) Message-ID: <68289595.050a0220.10d02a.3824SMTPIN_ADDED_MISSING@mx.google.com> Received: from [172.17.0.2] (unknown [172.18.0.76]) by postal.iol.unh.edu (Postfix) with ESMTP id A8B166052471; Sat, 17 May 2025 09:56:36 -0400 (EDT) Subject: |SUCCESS| pw153498 [PATCH] doc: elaborate on per test suite configur From: dpdklab@iol.unh.edu To: Test Report Cc: dpdk-test-reports@iol.unh.edu In-Reply-To: <20250516202600.632070-2-npratte@iol.unh.edu> References: <20250516202600.632070-2-npratte@iol.unh.edu> Content-Type: text/plain X-BeenThere: test-report@dpdk.org X-Mailman-Version: 2.1.29 Precedence: list List-Id: automatic DPDK test reports List-Unsubscribe: , List-Archive: List-Post: List-Help: List-Subscribe: , Errors-To: test-report-bounces@dpdk.org Test-Label: iol-compile-arm64-testing Test-Status: SUCCESS http://dpdk.org/patch/153498 _Testing PASS_ Submitter: Nicholas Pratte Date: Friday, May 16 2025 20:26:01 DPDK git baseline: Repo:dpdk Branch: master CommitID:1aef42bc97a31906486c9d66b792208948af06f3 153498 --> testing pass Upstream job id: Generic-DPDK-Compile-Meson#389063 Test environment and result as below: +----------------------------------------+--------------------+ | Environment | dpdk_meson_compile | +========================================+====================+ | RHEL9 (ARM) | PASS | +----------------------------------------+--------------------+ | Ubuntu 20.04 ARM SVE | PASS | +----------------------------------------+--------------------+ | Ubuntu 20.04 ARM GCC Cross Compile | PASS | +----------------------------------------+--------------------+ | Fedora 40 (ARM) | PASS | +----------------------------------------+--------------------+ | Debian 12 with MUSDK | PASS | +----------------------------------------+--------------------+ | Fedora 40 (ARM Clang) | PASS | +----------------------------------------+--------------------+ | Fedora 41 (ARM) | PASS | +----------------------------------------+--------------------+ | Fedora 41 (ARM Clang) | PASS | +----------------------------------------+--------------------+ | Ubuntu 20.04 (ARM) | PASS | +----------------------------------------+--------------------+ | Ubuntu 22.04 (ARM) | PASS | +----------------------------------------+--------------------+ | Ubuntu 24.04 (ARM) | PASS | +----------------------------------------+--------------------+ | CentOS Stream 9 (ARM) | PASS | +----------------------------------------+--------------------+ | Debian 12 (arm) | PASS | +----------------------------------------+--------------------+ | CentOS Stream 10 (ARM) | PASS | +----------------------------------------+--------------------+ | Ubuntu 20.04 aarch32 GCC Cross Compile | PASS | +----------------------------------------+--------------------+ | Ubuntu 20.04 ARM Clang Cross Compile | PASS | +----------------------------------------+--------------------+ RHEL9 (ARM) Kernel: Depends on container host Compiler: gcc 11.5.0 20240719 (Red Hat 11.5.0-2) Ubuntu 20.04 ARM SVE Kernel: Depends on container host Compiler: gcc (Ubuntu 10.5.0-1ubuntu1~20.04) 10.5.0 Ubuntu 20.04 ARM GCC Cross Compile Kernel: Depends on container host Compiler: aarch64-linux-gnu-gcc (Ubuntu 9.4.0-1ubuntu1~20.04.2) 9.4.0 Fedora 40 (ARM) Kernel: Depends on container host Compiler: gcc 14.2.1 20240912 (Red Hat 14.2.1-3) Debian 12 with MUSDK Kernel: Depends on container host Compiler: gcc (Debian 12.2.0-14) 12.2.0 Fedora 40 (ARM Clang) Kernel: Depends on container host Compiler: clang 18.1.8 (Fedora 18.1.8-1.fc40) Fedora 41 (ARM) Kernel: Depends on container host Compiler: gcc 14.2.1 20240912 (Red Hat 14.2.1-3) Fedora 41 (ARM Clang) Kernel: Depends on container host Compiler: clang 19.1.5 (Fedora 19.1.5-1.fc41) Ubuntu 20.04 (ARM) Kernel: Depends on container host Compiler: gcc (Ubuntu 9.4.0-1ubuntu1~20.04.2) 9.4.0 Ubuntu 22.04 (ARM) Kernel: Depends on container host Compiler: gcc (Ubuntu 11.4.0-1ubuntu1~22.04) 11.4.0 Ubuntu 24.04 (ARM) Kernel: Depends on container host Compiler: gcc (Ubuntu 13.3.0-6ubuntu2~24.04) 13.3.0 CentOS Stream 9 (ARM) Kernel: Depends on container host Compiler: gcc 11.5.0 20240719 (Red Hat 11.5.0-2) Debian 12 (arm) Kernel: Depends on container host Compiler: gcc (Debian 12.2.0-14) 12.2.0 CentOS Stream 10 (ARM) Kernel: Depends on container host Compiler: gcc 14.2.1 20241104 (Red Hat 14.2.1-6) Ubuntu 20.04 aarch32 GCC Cross Compile Kernel: Depends on container host Compiler: gcc 9.4.0 Ubuntu 20.04 ARM Clang Cross Compile Kernel: Depends on container host Compiler: clang 10.0.0-4ubuntu1 To view detailed results, visit: https://lab.dpdk.org/results/dashboard/patchsets/33197/ UNH-IOL DPDK Community Lab To manage your email subscriptions, visit: https://lab.dpdk.org/results/dashboard/preferences/subscriptions/