From mboxrd@z Thu Jan 1 00:00:00 1970 Return-Path: Received: from mails.dpdk.org (mails.dpdk.org [217.70.189.124]) by inbox.dpdk.org (Postfix) with ESMTP id 42EC946773 for ; Sat, 17 May 2025 17:11:45 +0200 (CEST) Received: from mails.dpdk.org (localhost [127.0.0.1]) by mails.dpdk.org (Postfix) with ESMTP id 1A2354067D; Sat, 17 May 2025 17:11:45 +0200 (CEST) Received: from mail-oi1-f227.google.com (mail-oi1-f227.google.com [209.85.167.227]) by mails.dpdk.org (Postfix) with ESMTP id C301E4067B for ; Sat, 17 May 2025 17:11:43 +0200 (CEST) Received: by mail-oi1-f227.google.com with SMTP id 5614622812f47-3f8ae3ed8f4so2180813b6e.3 for ; Sat, 17 May 2025 08:11:43 -0700 (PDT) DKIM-Signature: v=1; a=rsa-sha256; c=relaxed/relaxed; d=iol.unh.edu; s=unh-iol; t=1747494703; x=1748099503; darn=dpdk.org; h=references:in-reply-to:cc:to:from:subject:message-id:date:from:to :cc:subject:date:message-id:reply-to; bh=PokSJcdgzdmcxbyxoxkkbwfx21fd6RKuJH92Qj2axM0=; b=O4H6/KCSt5QDiHPdmMmaXzE6eFePQ3w+2/VT0gS9VaW2OVhWutPRmgOf+cXkJ7JEwS fMIMv7xV8ES1YVhYYnHMeiPdPYYDDhJ7ZB1HeVyw9y7teSdzT87V9IpwRxvcIDM2ePzd EK1xhLvuDrY9shtfhlSgD57ZOQJz1gwioE6Ow= X-Google-DKIM-Signature: v=1; a=rsa-sha256; c=relaxed/relaxed; d=1e100.net; s=20230601; t=1747494703; x=1748099503; h=references:in-reply-to:cc:to:from:subject:message-id:date :x-gm-message-state:from:to:cc:subject:date:message-id:reply-to; bh=PokSJcdgzdmcxbyxoxkkbwfx21fd6RKuJH92Qj2axM0=; b=NnycgLL1e0QtuQlmxxWBLp1BvNpnKFcC1aQEPsolMjrdkycvXyyhKc2XPWf+TuqWLF ghtievD0TyfnbpDuCDp+ZhmCH0dzN6ss2tHu7/jvGklXU7trvPXVa2gfNhQEv+V2FcJw /oQv0MjUGE2wDzAplqXiZOnMm5ufcrM9dZJjAY5bdBQbFS1jYkKt0cL2wNNjmOAh133N dsvHQ/aJZEgxsrF6PekDQhRV2nUzPLWNvps0HUgk85gc0iBOIpmz6vU6IPeusSemw6VM WlwRWfGyCUTuz4VEflPWDBGfAxv+1qY9U9iAeM3erzgujqq0WD0aHz5NZb46NXKXirxz zjMw== X-Gm-Message-State: AOJu0Yw3MBUPmb4RGI+LcKkw9FopLqxCb7EqeXNtfg0bNZDX/yKX/qPC 7S0Zuvr8g6IZi//ZJBnEKoM8nD/2bB/SKo/bC3P8iqnbc0SL+fpo9mtYvtlbO9RT7WmTWiHAEso 6luIKrzIVeYD4zWQljGW6Z3bmz9+JO7McddcRdQ0Glkre33pFtz0mZdA+aL+5 X-Gm-Gg: ASbGncuq5i7x8go84BN2b4UP4FHEXgU0kDLtqBPMfFZY+bMiRPM5S107AdLFBlkD/x5 2v/9VaA1Liy/z59T357z1145GnMaRTiO5X+7ImD4oB/T7yqSUBnbrP2pkqB4fqDzjEZtM/WRQ6+ D0ZvdjSPBXKUh+w/9fO5J+cVxcGT8/XMBIQn8PRD6ue0iMJjlxclYLCeovVIBIiTTHV2msesql5 LIO7wQ8UTbrIy7GpmRzbeOnZnpmbmJ1lRnozCtorpNQA5tEjgnusMlwGfpWMksmtMXBZITcARMi N57jQBfFjJpqpcADEYRQsCPLujhKZWOyVqso X-Google-Smtp-Source: AGHT+IEInp9ykKe566oEz6aL3o/WBz5pkjKUfDhSxtBczXU4cnht83OFLSjhVaUJOu02U343nKbkrR1TPTpA X-Received: by 2002:a05:6808:6a8d:b0:403:56f4:8780 with SMTP id 5614622812f47-404d86a6249mr5074333b6e.9.1747494702812; Sat, 17 May 2025 08:11:42 -0700 (PDT) Received: from postal.iol.unh.edu (postal.iol.unh.edu. [2606:4100:3880:1234::84]) by smtp-relay.gmail.com with ESMTPS id 586e51a60fabf-2e3c0bc035csm220965fac.26.2025.05.17.08.11.42 (version=TLS1_2 cipher=ECDHE-ECDSA-AES128-GCM-SHA256 bits=128/128); Sat, 17 May 2025 08:11:42 -0700 (PDT) X-Relaying-Domain: iol.unh.edu Date: Sat, 17 May 2025 08:11:42 -0700 (PDT) Message-ID: <6828a72e.050a0220.aeab6.c3c2SMTPIN_ADDED_MISSING@mx.google.com> Received: from [172.17.0.2] (unknown [172.18.0.76]) by postal.iol.unh.edu (Postfix) with ESMTP id 3F13D6052471; Sat, 17 May 2025 11:11:42 -0400 (EDT) Subject: |SUCCESS| pw153492-153497 [PATCH] [RFC,v2,6/6] dts: add performance From: dpdklab@iol.unh.edu To: Test Report Cc: dpdk-test-reports@iol.unh.edu In-Reply-To: <20250516201834.626206-7-npratte@iol.unh.edu> References: <20250516201834.626206-7-npratte@iol.unh.edu> Content-Type: text/plain X-BeenThere: test-report@dpdk.org X-Mailman-Version: 2.1.29 Precedence: list List-Id: automatic DPDK test reports List-Unsubscribe: , List-Archive: List-Post: List-Help: List-Subscribe: , Errors-To: test-report-bounces@dpdk.org Test-Label: iol-compile-arm64-testing Test-Status: SUCCESS http://dpdk.org/patch/153497 _Testing PASS_ Submitter: Nicholas Pratte Date: Friday, May 16 2025 20:18:34 DPDK git baseline: Repo:dpdk Branch: master CommitID:1aef42bc97a31906486c9d66b792208948af06f3 153492-153497 --> testing pass Upstream job id: Generic-DPDK-Compile-Meson#389096 Test environment and result as below: +----------------------------------------+--------------------+ | Environment | dpdk_meson_compile | +========================================+====================+ | RHEL9 (ARM) | PASS | +----------------------------------------+--------------------+ | Ubuntu 20.04 ARM GCC Cross Compile | PASS | +----------------------------------------+--------------------+ | Debian 12 with MUSDK | PASS | +----------------------------------------+--------------------+ | Fedora 40 (ARM) | PASS | +----------------------------------------+--------------------+ | Ubuntu 20.04 ARM SVE | PASS | +----------------------------------------+--------------------+ | Fedora 40 (ARM Clang) | PASS | +----------------------------------------+--------------------+ | Ubuntu 20.04 (ARM) | PASS | +----------------------------------------+--------------------+ | Fedora 41 (ARM Clang) | PASS | +----------------------------------------+--------------------+ | Fedora 41 (ARM) | PASS | +----------------------------------------+--------------------+ | Ubuntu 22.04 (ARM) | PASS | +----------------------------------------+--------------------+ | Ubuntu 24.04 (ARM) | PASS | +----------------------------------------+--------------------+ | CentOS Stream 9 (ARM) | PASS | +----------------------------------------+--------------------+ | Debian 12 (arm) | PASS | +----------------------------------------+--------------------+ | Ubuntu 20.04 aarch32 GCC Cross Compile | PASS | +----------------------------------------+--------------------+ | CentOS Stream 10 (ARM) | PASS | +----------------------------------------+--------------------+ | Ubuntu 20.04 ARM Clang Cross Compile | PASS | +----------------------------------------+--------------------+ RHEL9 (ARM) Kernel: Depends on container host Compiler: gcc 11.5.0 20240719 (Red Hat 11.5.0-2) Ubuntu 20.04 ARM GCC Cross Compile Kernel: Depends on container host Compiler: aarch64-linux-gnu-gcc (Ubuntu 9.4.0-1ubuntu1~20.04.2) 9.4.0 Debian 12 with MUSDK Kernel: Depends on container host Compiler: gcc (Debian 12.2.0-14) 12.2.0 Fedora 40 (ARM) Kernel: Depends on container host Compiler: gcc 14.2.1 20240912 (Red Hat 14.2.1-3) Ubuntu 20.04 ARM SVE Kernel: Depends on container host Compiler: gcc (Ubuntu 10.5.0-1ubuntu1~20.04) 10.5.0 Fedora 40 (ARM Clang) Kernel: Depends on container host Compiler: clang 18.1.8 (Fedora 18.1.8-1.fc40) Ubuntu 20.04 (ARM) Kernel: Depends on container host Compiler: gcc (Ubuntu 9.4.0-1ubuntu1~20.04.2) 9.4.0 Fedora 41 (ARM Clang) Kernel: Depends on container host Compiler: clang 19.1.5 (Fedora 19.1.5-1.fc41) Fedora 41 (ARM) Kernel: Depends on container host Compiler: gcc 14.2.1 20240912 (Red Hat 14.2.1-3) Ubuntu 22.04 (ARM) Kernel: Depends on container host Compiler: gcc (Ubuntu 11.4.0-1ubuntu1~22.04) 11.4.0 Ubuntu 24.04 (ARM) Kernel: Depends on container host Compiler: gcc (Ubuntu 13.3.0-6ubuntu2~24.04) 13.3.0 CentOS Stream 9 (ARM) Kernel: Depends on container host Compiler: gcc 11.5.0 20240719 (Red Hat 11.5.0-2) Debian 12 (arm) Kernel: Depends on container host Compiler: gcc (Debian 12.2.0-14) 12.2.0 Ubuntu 20.04 aarch32 GCC Cross Compile Kernel: Depends on container host Compiler: gcc 9.4.0 CentOS Stream 10 (ARM) Kernel: Depends on container host Compiler: gcc 14.2.1 20241104 (Red Hat 14.2.1-6) Ubuntu 20.04 ARM Clang Cross Compile Kernel: Depends on container host Compiler: clang 10.0.0-4ubuntu1 To view detailed results, visit: https://lab.dpdk.org/results/dashboard/patchsets/33196/ UNH-IOL DPDK Community Lab To manage your email subscriptions, visit: https://lab.dpdk.org/results/dashboard/preferences/subscriptions/