From mboxrd@z Thu Jan 1 00:00:00 1970 Return-Path: Received: from mails.dpdk.org (mails.dpdk.org [217.70.189.124]) by inbox.dpdk.org (Postfix) with ESMTP id 3AF9346776 for ; Sat, 17 May 2025 19:47:31 +0200 (CEST) Received: from mails.dpdk.org (localhost [127.0.0.1]) by mails.dpdk.org (Postfix) with ESMTP id 21CF940689; Sat, 17 May 2025 19:47:31 +0200 (CEST) Received: from mail-qt1-f228.google.com (mail-qt1-f228.google.com [209.85.160.228]) by mails.dpdk.org (Postfix) with ESMTP id 2A3A34067D for ; Sat, 17 May 2025 19:47:30 +0200 (CEST) Received: by mail-qt1-f228.google.com with SMTP id d75a77b69052e-4769aef457bso40224681cf.2 for ; Sat, 17 May 2025 10:47:30 -0700 (PDT) DKIM-Signature: v=1; a=rsa-sha256; c=relaxed/relaxed; d=iol.unh.edu; s=unh-iol; t=1747504049; x=1748108849; darn=dpdk.org; h=references:in-reply-to:cc:to:from:subject:message-id:date:from:to :cc:subject:date:message-id:reply-to; bh=yvoDOZa0JI/vM94BNdFM67KvB/IbDvVodYvktNr+viw=; b=IBJ7yI14/zqevJYdRj0ZSnJkcBpJIBEkyRfLvHikwVlqsAl5neLzwr9Ykh+LpPeJW7 +JKuHXQX8yd9CNYi1XtvIH2CNg8EISal+mSHYdoS4/l+74Y4qF+rPGg1NZP7dXUNtx4m cENS33FTP7L31l+AnGYNHY9Unyj1KB32ghH/s= X-Google-DKIM-Signature: v=1; a=rsa-sha256; c=relaxed/relaxed; d=1e100.net; s=20230601; t=1747504049; x=1748108849; h=references:in-reply-to:cc:to:from:subject:message-id:date :x-gm-message-state:from:to:cc:subject:date:message-id:reply-to; bh=yvoDOZa0JI/vM94BNdFM67KvB/IbDvVodYvktNr+viw=; b=UfP1CyUtGFUmA6PqXb2COwrX0NW7Gr6xHYOxobjXMju7EFRgdqbm5C8yHIpkEvK8Ly 4u4KriiFDXkQSMvug7IFuGsD9iP4a7Ll4IdQGoCmqR1d5GkaxDikLAvUZJhU89Z8giP8 ekCYbj0G482AhygAKrMnhNl0a138Ic5TljEL0cXj8TAPyYhBOGylG6ehn+wAYC4Py0Mk KksA2WqmPqYbnjtD4dRd1l+BMXJrr16GW0/APGnNvOX/Vc6UtOFGTbamenx5htsPZLil wLfmcyR2Rt5vUX6Ri2ijrQUIhyUodPpinF0DemKWw9tNw33m2UZ3cD4X6s510P8nPyjs 2sGA== X-Gm-Message-State: AOJu0YzUPusa3/THtU0Vps2A6IC3IXMe+WtQvBkAiSRj1yvoURXGtIf2 dHQVlyQLILW35hPamL/gacMGQVuMcCA8JRFdU+jTBdeU4EXzQ4cOTnTyvhK4ag7+nonQ/5DQSlp WtF+3kPZ9ehtJWqZa3Rm4+2dfQTmRK4uAFPMnjNlYUAkVNqF0QqLarD+jM7q0 X-Gm-Gg: ASbGncvWCvb9j67Jint+SDJEPE5N6iYO0SkOA3Tznoq/vy017XCl2DzRajM1zTcMgwy TVgVMzl8mK02/Xy1OJkJGJ0XPqVsFapKaULwrw4kIALDtHrpT+Kp17DMG+Jql/eXhyjK2DFfc4Z DVvgtOB2ll1NfYCN07fdMxRSaJfw2mOa/kr6vJAs169fpQ7/oxAnTe4es/Qb9fjvfsdy2LckLE2 djvVmtMtkvBzKteK5zr49aGSU+9ZUWrOsVpvysSwO+fQ7zjZbzbJIeUvGbGfVzNL0Fj93aM5XjY HJT+wDJSurM+nLXH2Vbbo9fK/Vvk6SQ15t8a X-Google-Smtp-Source: AGHT+IF9dsynhgdZLrBXgxGzxVMekB78O2Xz4MU6pE9zHvDcZNrMsGycTtg62McEhLGLz4tRtNTg6fzHHuWg X-Received: by 2002:a05:622a:598f:b0:476:850a:5b34 with SMTP id d75a77b69052e-494ae3e6282mr124694891cf.30.1747504049350; Sat, 17 May 2025 10:47:29 -0700 (PDT) Received: from postal.iol.unh.edu (postal.iol.unh.edu. [2606:4100:3880:1234::84]) by smtp-relay.gmail.com with ESMTPS id d75a77b69052e-494ae4e1cc2sm1977611cf.16.2025.05.17.10.47.29 (version=TLS1_2 cipher=ECDHE-ECDSA-AES128-GCM-SHA256 bits=128/128); Sat, 17 May 2025 10:47:29 -0700 (PDT) X-Relaying-Domain: iol.unh.edu Date: Sat, 17 May 2025 10:47:29 -0700 (PDT) Message-ID: <6828cbb1.050a0220.36c76e.d7cfSMTPIN_ADDED_MISSING@mx.google.com> Received: from [172.17.0.4] (unknown [172.18.0.74]) by postal.iol.unh.edu (Postfix) with ESMTP id D37A76052471; Sat, 17 May 2025 13:47:28 -0400 (EDT) Subject: |SUCCESS| pw153503 [PATCH] [v4] eal/linux: skip vfio for non-privile From: dpdklab@iol.unh.edu To: Test Report Cc: dpdk-test-reports@iol.unh.edu In-Reply-To: <20250517083201.400-1-mosesyyoung@gmail.com> References: <20250517083201.400-1-mosesyyoung@gmail.com> Content-Type: text/plain X-BeenThere: test-report@dpdk.org X-Mailman-Version: 2.1.29 Precedence: list List-Id: automatic DPDK test reports List-Unsubscribe: , List-Archive: List-Post: List-Help: List-Subscribe: , Errors-To: test-report-bounces@dpdk.org Test-Label: iol-unit-amd64-testing Test-Status: SUCCESS http://dpdk.org/patch/153503 _Testing PASS_ Submitter: Yang Ming Date: Saturday, May 17 2025 08:32:01 DPDK git baseline: Repo:dpdk Branch: master CommitID:117e86c4b96ed761e9a7ab766261208fe81bf5ca 153503 --> testing pass Upstream job id: Generic-Unit-Test-DPDK#338840 Test environment and result as below: +---------------------+----------------+ | Environment | dpdk_unit_test | +=====================+================+ | CentOS Stream 9 | PASS | +---------------------+----------------+ | Fedora 40 (Clang) | PASS | +---------------------+----------------+ | CentOS Stream 10 | PASS | +---------------------+----------------+ | Debian 12 | PASS | +---------------------+----------------+ | Fedora 40 | PASS | +---------------------+----------------+ | Fedora 41 (Clang) | PASS | +---------------------+----------------+ | Fedora 41 | PASS | +---------------------+----------------+ | RHEL8 | PASS | +---------------------+----------------+ | Ubuntu 22.04 | PASS | +---------------------+----------------+ | RHEL9 | PASS | +---------------------+----------------+ | Ubuntu 24.04 | PASS | +---------------------+----------------+ | Ubuntu 20.04 | PASS | +---------------------+----------------+ | Windows Server 2022 | PASS | +---------------------+----------------+ CentOS Stream 9 Kernel: Depends on container host Compiler: gcc 11.5.0 20240719 (Red Hat 11.5.0-2) Fedora 40 (Clang) Kernel: Depends on container host Compiler: clang 18.1.8 (Fedora 18.1.8-1.fc40) CentOS Stream 10 Kernel: Depends on container host Compiler: gcc 14.2.1 20241104 (Red Hat 14.2.1-6) Debian 12 Kernel: Depends on container host Compiler: gcc (Debian 12.2.0-14) 12.2.0 Fedora 40 Kernel: Depends on container host Compiler: gcc 14.2.1 20240912 (Red Hat 14.2.1-3) Fedora 41 (Clang) Kernel: Depends on container host Compiler: clang 19.1.5 (Fedora 19.1.5-1.fc41) Fedora 41 Kernel: Depends on container host Compiler: gcc 14.2.1 20240912 (Red Hat 14.2.1-3) RHEL8 Kernel: Depends on container host Compiler: gcc 8.5.0 20210514 (Red Hat 8.5.0-22) Ubuntu 22.04 Kernel: Depends on container host Compiler: gcc (Ubuntu 11.4.0-1ubuntu1~22.04) 11.4.0 RHEL9 Kernel: Depends on container host Compiler: gcc 11.5.0 20240719 (Red Hat 11.5.0-2) Ubuntu 24.04 Kernel: Depends on container host Compiler: gcc (Ubuntu 13.3.0-6ubuntu2~24.04) 13.3.0 Ubuntu 20.04 Kernel: Depends on container host Compiler: gcc (Ubuntu 9.4.0-1ubuntu1~20.04.2) 9.4.0 Windows Server 2022 Kernel: 10.0.20348.2031 Compiler: clang 15.0.7, gcc 14.1.0 (MinGW), and MSVC VS 19.39.33521 To view detailed results, visit: https://lab.dpdk.org/results/dashboard/patchsets/33201/ UNH-IOL DPDK Community Lab To manage your email subscriptions, visit: https://lab.dpdk.org/results/dashboard/preferences/subscriptions/