From mboxrd@z Thu Jan 1 00:00:00 1970 Return-Path: Received: from mails.dpdk.org (mails.dpdk.org [217.70.189.124]) by inbox.dpdk.org (Postfix) with ESMTP id 5761F46771 for ; Sat, 17 May 2025 19:49:08 +0200 (CEST) Received: from mails.dpdk.org (localhost [127.0.0.1]) by mails.dpdk.org (Postfix) with ESMTP id 52EFA40689; Sat, 17 May 2025 19:49:08 +0200 (CEST) Received: from mail-pl1-f226.google.com (mail-pl1-f226.google.com [209.85.214.226]) by mails.dpdk.org (Postfix) with ESMTP id D51A04067D for ; Sat, 17 May 2025 19:49:06 +0200 (CEST) Received: by mail-pl1-f226.google.com with SMTP id d9443c01a7336-22fac0694aaso22548835ad.1 for ; Sat, 17 May 2025 10:49:06 -0700 (PDT) DKIM-Signature: v=1; a=rsa-sha256; c=relaxed/relaxed; d=iol.unh.edu; s=unh-iol; t=1747504146; x=1748108946; darn=dpdk.org; h=references:in-reply-to:cc:to:from:subject:message-id:date:from:to :cc:subject:date:message-id:reply-to; bh=9SJqxKT1VhM4BJKX3cGZ6Kobf9u8FR1RtAjNlh09Jrg=; b=C+c+wej2+KCtNe3A3IvC4lnnlBt392KeNqYR0FZXNS8mvt7LVFvYC0U/jHbFXBTvGK tu48DbIzpFp3HfcWTXqdRgFON3MwjpkGF4dLcTOv0MiYhj6AGqjCqutV2M9PYL6Aij6o yjzjNlPpUuHgcMSubQ8Ae2YRXLOnw7PnE9xmU= X-Google-DKIM-Signature: v=1; a=rsa-sha256; c=relaxed/relaxed; d=1e100.net; s=20230601; t=1747504146; x=1748108946; h=references:in-reply-to:cc:to:from:subject:message-id:date :x-gm-message-state:from:to:cc:subject:date:message-id:reply-to; bh=9SJqxKT1VhM4BJKX3cGZ6Kobf9u8FR1RtAjNlh09Jrg=; b=OjQ2MVDJFXZ4J48pn7GYVmQPygFBp56WhnGF3ksJ6DnATAfeaDZnPKfL2hYtHgQJQP glUz/av6dz2isgaEpX0EFaAw3lb2tbDlMkgFWdpYHZ6gYCo1Qu/Pf2pzg04luN+qInZE lrBoa6g5nV7c5MNLvcm4uFGk5ycPvBa9XhBskKbC/VURfNajPfx/NIOXzTd1VvAERP5L L/P41Z47xCQkNgurhYJpFPzPa8wOTVAAUfZJH4MNv2SZGkwNQA3UmbcSbSKk77Uxc2qo exFEmUMw0xunBazCNLF4+jq/zxNksp9RfWbEM1XUvqTsZNUaPgR701xFW7e2dRN6itW8 IdSw== X-Gm-Message-State: AOJu0YxV6ZecHphtYlOzPetbzNG8s6g64Wxn+NwbhYrFHDguwt5JdFGX 0GXhSBM7JHBRQwRK/7E63wJtRaV2ZIDwQuayGskac3IuE+ov4B8zq0I0uGbF6TBbdqeptWgkC/i L0PYCVfdt+ZcHj4cBLr04KN8hiTXYr0PAdI5vUxEMBsmSp/aTv2egRSJwwEBv X-Gm-Gg: ASbGncvmu2WGDuLijtNu4vb8PgfRCjseQenrYwsU70L/GAiMikkGpN3WTtWXkRKCqtd qmSBcAcn2i63Th+3kahBKJ7bNV8Fm5yw15b/byszIwIOyIV/gMpmc9sbuSegvwoYi19lhfjcrF2 yvF947efWtrAwRhHpByh1XKpRSX5AWP7krT8yLXUm2h9g4+MtJgaPOq5oG6JCuBpD8fjUzhBOZu G1wKqorx6/O4DXlJLKgIcfD4OR2TLkvRyD9RUG0P7VovHk4R2NtOAP5lrXYXoD6pwUnElmj6exA vRIGvTtvyr+mrmrEeo6hhWkzgT4/l2BwuulV X-Google-Smtp-Source: AGHT+IE7ErPLvsdUkON97C/RIloXDh2RMK/T4rcwlMyqvsEdX4hY1zxbKnna2ICfqOWy6HlGokh4qVKEOBAO X-Received: by 2002:a17:903:17c4:b0:22e:62f0:885f with SMTP id d9443c01a7336-231de3ada37mr102935235ad.40.1747504145829; Sat, 17 May 2025 10:49:05 -0700 (PDT) Received: from postal.iol.unh.edu (postal.iol.unh.edu. [2606:4100:3880:1234::84]) by smtp-relay.gmail.com with ESMTPS id d9443c01a7336-231e3703b7csm1833695ad.104.2025.05.17.10.49.05 (version=TLS1_2 cipher=ECDHE-ECDSA-AES128-GCM-SHA256 bits=128/128); Sat, 17 May 2025 10:49:05 -0700 (PDT) X-Relaying-Domain: iol.unh.edu Date: Sat, 17 May 2025 10:49:05 -0700 (PDT) Message-ID: <6828cc11.170a0220.5a53e.9aacSMTPIN_ADDED_MISSING@mx.google.com> Received: from [172.17.0.4] (unknown [172.18.0.74]) by postal.iol.unh.edu (Postfix) with ESMTP id E482F6052471; Sat, 17 May 2025 13:49:04 -0400 (EDT) Subject: |SUCCESS| pw153503 [PATCH] [v4] eal/linux: skip vfio for non-privile From: dpdklab@iol.unh.edu To: Test Report Cc: dpdk-test-reports@iol.unh.edu In-Reply-To: <20250517083201.400-1-mosesyyoung@gmail.com> References: <20250517083201.400-1-mosesyyoung@gmail.com> Content-Type: text/plain X-BeenThere: test-report@dpdk.org X-Mailman-Version: 2.1.29 Precedence: list List-Id: automatic DPDK test reports List-Unsubscribe: , List-Archive: List-Post: List-Help: List-Subscribe: , Errors-To: test-report-bounces@dpdk.org Test-Label: iol-abi-testing Test-Status: SUCCESS http://dpdk.org/patch/153503 _Testing PASS_ Submitter: Yang Ming Date: Saturday, May 17 2025 08:32:01 DPDK git baseline: Repo:dpdk Branch: master CommitID:117e86c4b96ed761e9a7ab766261208fe81bf5ca 153503 --> testing pass Upstream job id: Generic-DPDK-Compile-ABI#126827 Test environment and result as below: +-------------------+----------+ | Environment | abi_test | +===================+==========+ | Fedora 40 (Clang) | PASS | +-------------------+----------+ | CentOS Stream 9 | PASS | +-------------------+----------+ | openSUSE Leap 15 | PASS | +-------------------+----------+ | CentOS Stream 10 | PASS | +-------------------+----------+ | Debian 12 | PASS | +-------------------+----------+ | Fedora 41 (Clang) | PASS | +-------------------+----------+ | Fedora 40 | PASS | +-------------------+----------+ | Fedora 41 | PASS | +-------------------+----------+ | RHEL9 | PASS | +-------------------+----------+ | Ubuntu 24.04 | PASS | +-------------------+----------+ | RHEL8 | PASS | +-------------------+----------+ | Ubuntu 22.04 | PASS | +-------------------+----------+ Fedora 40 (Clang) Kernel: Depends on container host Compiler: clang 18.1.8 (Fedora 18.1.8-1.fc40) CentOS Stream 9 Kernel: Depends on container host Compiler: gcc 11.5.0 20240719 (Red Hat 11.5.0-2) openSUSE Leap 15 Kernel: Depends on container host Compiler: gcc (SUSE Linux) 7.5.0 CentOS Stream 10 Kernel: Depends on container host Compiler: gcc 14.2.1 20241104 (Red Hat 14.2.1-6) Debian 12 Kernel: Depends on container host Compiler: gcc (Debian 12.2.0-14) 12.2.0 Fedora 41 (Clang) Kernel: Depends on container host Compiler: clang 19.1.5 (Fedora 19.1.5-1.fc41) Fedora 40 Kernel: Depends on container host Compiler: gcc 14.2.1 20240912 (Red Hat 14.2.1-3) Fedora 41 Kernel: Depends on container host Compiler: gcc 14.2.1 20240912 (Red Hat 14.2.1-3) RHEL9 Kernel: Depends on container host Compiler: gcc 11.5.0 20240719 (Red Hat 11.5.0-2) Ubuntu 24.04 Kernel: Depends on container host Compiler: gcc (Ubuntu 13.3.0-6ubuntu2~24.04) 13.3.0 RHEL8 Kernel: Depends on container host Compiler: gcc 8.5.0 20210514 (Red Hat 8.5.0-22) Ubuntu 22.04 Kernel: Depends on container host Compiler: gcc (Ubuntu 11.4.0-1ubuntu1~22.04) 11.4.0 To view detailed results, visit: https://lab.dpdk.org/results/dashboard/patchsets/33201/ UNH-IOL DPDK Community Lab To manage your email subscriptions, visit: https://lab.dpdk.org/results/dashboard/preferences/subscriptions/