From mboxrd@z Thu Jan 1 00:00:00 1970 Return-Path: Received: from mails.dpdk.org (mails.dpdk.org [217.70.189.124]) by inbox.dpdk.org (Postfix) with ESMTP id CF97F46771 for ; Sat, 17 May 2025 22:08:54 +0200 (CEST) Received: from mails.dpdk.org (localhost [127.0.0.1]) by mails.dpdk.org (Postfix) with ESMTP id B13614068E; Sat, 17 May 2025 22:08:54 +0200 (CEST) Received: from mail-pl1-f228.google.com (mail-pl1-f228.google.com [209.85.214.228]) by mails.dpdk.org (Postfix) with ESMTP id 8E32240689 for ; Sat, 17 May 2025 22:08:53 +0200 (CEST) Received: by mail-pl1-f228.google.com with SMTP id d9443c01a7336-231e8553248so13088665ad.1 for ; Sat, 17 May 2025 13:08:53 -0700 (PDT) DKIM-Signature: v=1; a=rsa-sha256; c=relaxed/relaxed; d=iol.unh.edu; s=unh-iol; t=1747512532; x=1748117332; darn=dpdk.org; h=references:in-reply-to:cc:to:from:subject:message-id:date:from:to :cc:subject:date:message-id:reply-to; bh=Q2WnGMdlWX15kVEq0iPFPAaJBNDCxSw/iR6LElora24=; b=fJzsqk042mGWoY8MndPEGMiZwJco1lAJc6sU+1f5PwZvGkF7MORz7Gy7/hYDCo63Az gIQOL3XrGZ4Yc1XUpJKReFGe7vaI01eY4a2M89VkjzH+Ys6W/DrHznBBAWP4Cv//zFhk DsVDU28JvuyRCh6jV7pxQRoTE8WOJrHhfVenM= X-Google-DKIM-Signature: v=1; a=rsa-sha256; c=relaxed/relaxed; d=1e100.net; s=20230601; t=1747512532; x=1748117332; h=references:in-reply-to:cc:to:from:subject:message-id:date :x-gm-message-state:from:to:cc:subject:date:message-id:reply-to; bh=Q2WnGMdlWX15kVEq0iPFPAaJBNDCxSw/iR6LElora24=; b=uEsPBlSnoE8MKwgaSv92TyU7tps5+9x6yD2X1LfXCrXqRGExdypa1EWPbz+teiQJ1y nWDIveomp/ui2AAIeHAi6PvBQ7JSZJmDmSsRzJ0/DZD8olFc2dVFXT9zpSG8+Gp+ba+Q PolUX1h/q4vIP+BxByiJvCZOzsZ/V07lHGLPoL3TC1JkBPr0GMspghmrZfuXtFhHRAFS N022jSE17t8j4chyl+DB96WpUNrQAeu6QGQudV7V/jCGr6eReduNURQNmpJrQ7JfEFzx xRKbp53hAxyHpL5d6aXb9zsM73KC3f5u1qslDpOwFVt6y65DwknIKqSw/ujqDp0gnne7 BRcg== X-Gm-Message-State: AOJu0YymehKoc/jXMalhkHJTUi/u1bRQxEHRZn2Uf2O8QIiZeiGsxDIi J5omsrYTr+AfQkJXwfc2IKKDS5hmKTtjNyNbzGd9kE1lVmPrUK+YJFjiCgGor9V0EhwRK8r9Nde Pj8xAFQP/1z/PY1pv4EpPMpPKx3lHTUL8/6mAS4Fvc9bN X-Gm-Gg: ASbGncszjrwlWsr4vJAxDtX4isLIIx8B1Libhl6iCY++GZtgfo1Bccys2fDaRS0lX6E cyALKZPhrwmQMOGX00nXZISB2+AA9yzWNbbgRX/7o52EYKgm1ClR6+gqB5qIeR8xgBWfVDyjMwC dVC5YR5ZW1sn5bFb1s0RJWSLnnH8br05bjtkzEXVx2sbugNIxYc85iZop0DXL/pCj2zUEO1qBSE dTfAnpN15Yo3vxr9CASPSRH22i/o5+EusAj6dSW2YxPvFuSfLCx7ZEr00U+j5/nvG+l+2GDY5On bOuAil3J5o5kdUw7Bpovo4j1/UdyUIy4aLUnJ/CSo3vCIDtXFzm1zq8TrEY= X-Google-Smtp-Source: AGHT+IElpnciGvDyjkBmQNczK/XTcErQ7ik7g6SBAlJw2GtKtKAIlUNaSt2DjMnpI6+ycR9GRQ7QPg1+7mkQ X-Received: by 2002:a17:902:ea12:b0:22e:7f20:52c6 with SMTP id d9443c01a7336-231de317d0dmr98682535ad.23.1747512532624; Sat, 17 May 2025 13:08:52 -0700 (PDT) Received: from postal.iol.unh.edu (postal.iol.unh.edu. [132.177.123.84]) by smtp-relay.gmail.com with ESMTPS id d9443c01a7336-231d4e97386sm2419605ad.71.2025.05.17.13.08.52 (version=TLS1_2 cipher=ECDHE-ECDSA-AES128-GCM-SHA256 bits=128/128); Sat, 17 May 2025 13:08:52 -0700 (PDT) X-Relaying-Domain: iol.unh.edu Date: Sat, 17 May 2025 13:08:52 -0700 (PDT) Message-ID: <6828ecd4.170a0220.b6a19.db51SMTPIN_ADDED_MISSING@mx.google.com> Received: from [172.17.0.2] (unknown [172.18.0.76]) by postal.iol.unh.edu (Postfix) with ESMTP id 16CDD6052471; Sat, 17 May 2025 16:08:52 -0400 (EDT) Subject: |SUCCESS| pw153503 [PATCH] [v4] eal/linux: skip vfio for non-privile From: dpdklab@iol.unh.edu To: Test Report Cc: dpdk-test-reports@iol.unh.edu In-Reply-To: <20250517083201.400-1-mosesyyoung@gmail.com> References: <20250517083201.400-1-mosesyyoung@gmail.com> Content-Type: text/plain X-BeenThere: test-report@dpdk.org X-Mailman-Version: 2.1.29 Precedence: list List-Id: automatic DPDK test reports List-Unsubscribe: , List-Archive: List-Post: List-Help: List-Subscribe: , Errors-To: test-report-bounces@dpdk.org Test-Label: iol-compile-arm64-testing Test-Status: SUCCESS http://dpdk.org/patch/153503 _Testing PASS_ Submitter: Yang Ming Date: Saturday, May 17 2025 08:32:01 DPDK git baseline: Repo:dpdk Branch: master CommitID:117e86c4b96ed761e9a7ab766261208fe81bf5ca 153503 --> testing pass Upstream job id: Generic-DPDK-Compile-Meson#389143 Test environment and result as below: +----------------------------------------+--------------------+ | Environment | dpdk_meson_compile | +========================================+====================+ | RHEL9 (ARM) | PASS | +----------------------------------------+--------------------+ | Ubuntu 20.04 ARM SVE | PASS | +----------------------------------------+--------------------+ | Debian 12 with MUSDK | PASS | +----------------------------------------+--------------------+ | Ubuntu 20.04 ARM GCC Cross Compile | PASS | +----------------------------------------+--------------------+ | Fedora 40 (ARM) | PASS | +----------------------------------------+--------------------+ | Fedora 40 (ARM Clang) | PASS | +----------------------------------------+--------------------+ | Fedora 41 (ARM) | PASS | +----------------------------------------+--------------------+ | Fedora 41 (ARM Clang) | PASS | +----------------------------------------+--------------------+ | Ubuntu 22.04 (ARM) | PASS | +----------------------------------------+--------------------+ | Ubuntu 24.04 (ARM) | PASS | +----------------------------------------+--------------------+ | CentOS Stream 9 (ARM) | PASS | +----------------------------------------+--------------------+ | CentOS Stream 10 (ARM) | PASS | +----------------------------------------+--------------------+ | Ubuntu 20.04 aarch32 GCC Cross Compile | PASS | +----------------------------------------+--------------------+ | Debian 12 (arm) | PASS | +----------------------------------------+--------------------+ | Ubuntu 20.04 ARM Clang Cross Compile | PASS | +----------------------------------------+--------------------+ RHEL9 (ARM) Kernel: Depends on container host Compiler: gcc 11.5.0 20240719 (Red Hat 11.5.0-2) Ubuntu 20.04 ARM SVE Kernel: Depends on container host Compiler: gcc (Ubuntu 10.5.0-1ubuntu1~20.04) 10.5.0 Debian 12 with MUSDK Kernel: Depends on container host Compiler: gcc (Debian 12.2.0-14) 12.2.0 Ubuntu 20.04 ARM GCC Cross Compile Kernel: Depends on container host Compiler: aarch64-linux-gnu-gcc (Ubuntu 9.4.0-1ubuntu1~20.04.2) 9.4.0 Fedora 40 (ARM) Kernel: Depends on container host Compiler: gcc 14.2.1 20240912 (Red Hat 14.2.1-3) Fedora 40 (ARM Clang) Kernel: Depends on container host Compiler: clang 18.1.8 (Fedora 18.1.8-1.fc40) Fedora 41 (ARM) Kernel: Depends on container host Compiler: gcc 14.2.1 20240912 (Red Hat 14.2.1-3) Fedora 41 (ARM Clang) Kernel: Depends on container host Compiler: clang 19.1.5 (Fedora 19.1.5-1.fc41) Ubuntu 22.04 (ARM) Kernel: Depends on container host Compiler: gcc (Ubuntu 11.4.0-1ubuntu1~22.04) 11.4.0 Ubuntu 24.04 (ARM) Kernel: Depends on container host Compiler: gcc (Ubuntu 13.3.0-6ubuntu2~24.04) 13.3.0 CentOS Stream 9 (ARM) Kernel: Depends on container host Compiler: gcc 11.5.0 20240719 (Red Hat 11.5.0-2) CentOS Stream 10 (ARM) Kernel: Depends on container host Compiler: gcc 14.2.1 20241104 (Red Hat 14.2.1-6) Ubuntu 20.04 aarch32 GCC Cross Compile Kernel: Depends on container host Compiler: gcc 9.4.0 Debian 12 (arm) Kernel: Depends on container host Compiler: gcc (Debian 12.2.0-14) 12.2.0 Ubuntu 20.04 ARM Clang Cross Compile Kernel: Depends on container host Compiler: clang 10.0.0-4ubuntu1 To view detailed results, visit: https://lab.dpdk.org/results/dashboard/patchsets/33201/ UNH-IOL DPDK Community Lab To manage your email subscriptions, visit: https://lab.dpdk.org/results/dashboard/preferences/subscriptions/