From mboxrd@z Thu Jan 1 00:00:00 1970 Return-Path: Received: from mails.dpdk.org (mails.dpdk.org [217.70.189.124]) by inbox.dpdk.org (Postfix) with ESMTP id 874EA46778 for ; Sat, 17 May 2025 22:15:53 +0200 (CEST) Received: from mails.dpdk.org (localhost [127.0.0.1]) by mails.dpdk.org (Postfix) with ESMTP id 5835A4068E; Sat, 17 May 2025 22:15:53 +0200 (CEST) Received: from mail-pf1-f227.google.com (mail-pf1-f227.google.com [209.85.210.227]) by mails.dpdk.org (Postfix) with ESMTP id 5C83240689 for ; Sat, 17 May 2025 22:15:52 +0200 (CEST) Received: by mail-pf1-f227.google.com with SMTP id d2e1a72fcca58-73712952e1cso3121291b3a.1 for ; Sat, 17 May 2025 13:15:52 -0700 (PDT) DKIM-Signature: v=1; a=rsa-sha256; c=relaxed/relaxed; d=iol.unh.edu; s=unh-iol; t=1747512951; x=1748117751; darn=dpdk.org; h=references:in-reply-to:cc:to:from:subject:message-id:date:from:to :cc:subject:date:message-id:reply-to; bh=xvMRdbh3z1/oF64hFzfPpwcuocV1IirOYzG8EeHVnrM=; b=Bm2WHvwOg9HjoKADrBCZ8gSanw5vlVwVEWEkwr+vMPua9gLk1wnxQrLuyYJBo3GAxn 7qmqL1ic+87I4IP9K6V5HxFHlNlB4O+HfYSJmbDIXiTk2LeDuVp5/k7Uyffp/LW5ek+x QYX+utpCNEmDO6inu7L4tjSUZkzee+FXX25fQ= X-Google-DKIM-Signature: v=1; a=rsa-sha256; c=relaxed/relaxed; d=1e100.net; s=20230601; t=1747512951; x=1748117751; h=references:in-reply-to:cc:to:from:subject:message-id:date :x-gm-message-state:from:to:cc:subject:date:message-id:reply-to; bh=xvMRdbh3z1/oF64hFzfPpwcuocV1IirOYzG8EeHVnrM=; b=P5OK3VeLkiygaOLjmA5HWXwxqmekhnYzcNAGLf2v6GbIEUo5qsiVpi6lBL526oowgq 1afxQN/I8QnJOxUI0KRqi7ZYtEvh/lmdb+EMXwzxR8GAATOkvAASbCIwvaXs4U1S272N eKpVVmzpUM3Pzq7kUTBSqzmxeQwIOT6cybdaMuvVPxHs38nHTeRIlCLtAzZ1Cx91VJ+5 NNlFaelOEWzVLpOXLlnAJALK17S9Xyy6EaK7UADnlT4CPwuvjC3ZkkcVy1LjQvnaZmab 2B+ngD5vJY89+3GZwgSWsgu1/Npcy0X5hYQr50cRW6tSBrmN91aDob2NvTrsBdjLziq+ k16Q== X-Gm-Message-State: AOJu0Yz8qHAOSQ8/HHAhdEmCSQJH1S36HujhpCHlL0HTo42yOWTQ1Q5x bV4a4lyyo48N13I+/7HL0drN/2BO7Rqz1RosmI0ABRYlCrAkZiR7qIvG+1uLojHVwu0TH38TMnW 5ZNMHOOdKieFosu1HfYzN6Rr9MBJgfiOdwkggixMbzoNLGRGm0KkhPQRwLHWu X-Gm-Gg: ASbGncsMmeQaA/JL3znxsGYJAqtEXq5+Oe1ah1PevHqDlHqrsO/sCUTD59s89kqZfy6 AncOM/xP7VHOzIKiyOvZZZv8zszFjwQmOUo2Sz+pERO9W2ilzTAU48TIVUF77r06lqYIKqHV31I Onm0bFRlbZgW8IGR0+6pjz/l/4xBUpf7acjLKzD2+A10S2+2haD2pTxEpeeLyqY77yrtLhcE4sJ Ey3j36GMt8eewztIaH1zjnJNr+5Q1qNKC4y4tpLnPky67/zXFqjN2c+YRRVR0/YHzFbJDk0gl3V blrdfo5KZTTUdeYZHg5bN3WkmsZAsPkR44sq X-Google-Smtp-Source: AGHT+IEfRkML0+VQN/+gaDLBJf/IicxDciyurR3EtHrqAY32EtmxJrajsF1CdW3wK5gTtq+t/q5MiT1RO6dX X-Received: by 2002:a05:6a21:4606:b0:1f5:9016:3594 with SMTP id adf61e73a8af0-2170cc65e25mr10909841637.18.1747512951396; Sat, 17 May 2025 13:15:51 -0700 (PDT) Received: from postal.iol.unh.edu (postal.iol.unh.edu. [2606:4100:3880:1234::84]) by smtp-relay.gmail.com with ESMTPS id d2e1a72fcca58-742a976952bsm256705b3a.11.2025.05.17.13.15.51 (version=TLS1_2 cipher=ECDHE-ECDSA-AES128-GCM-SHA256 bits=128/128); Sat, 17 May 2025 13:15:51 -0700 (PDT) X-Relaying-Domain: iol.unh.edu Date: Sat, 17 May 2025 13:15:51 -0700 (PDT) Message-ID: <6828ee77.050a0220.2c09a1.e988SMTPIN_ADDED_MISSING@mx.google.com> Received: from [172.17.0.2] (unknown [172.18.0.76]) by postal.iol.unh.edu (Postfix) with ESMTP id 4711B6052471; Sat, 17 May 2025 16:15:50 -0400 (EDT) Subject: |SUCCESS| pw153504-153506 [PATCH] [RFC,v4,3/3] ethdev: introduce the From: dpdklab@iol.unh.edu To: Test Report Cc: dpdk-test-reports@iol.unh.edu In-Reply-To: <20250517151736.2565461-4-wathsala.vithanage@arm.com> References: <20250517151736.2565461-4-wathsala.vithanage@arm.com> Content-Type: text/plain X-BeenThere: test-report@dpdk.org X-Mailman-Version: 2.1.29 Precedence: list List-Id: automatic DPDK test reports List-Unsubscribe: , List-Archive: List-Post: List-Help: List-Subscribe: , Errors-To: test-report-bounces@dpdk.org Test-Label: iol-unit-arm64-testing Test-Status: SUCCESS http://dpdk.org/patch/153506 _Testing PASS_ Submitter: Wathsala Vithanage Date: Saturday, May 17 2025 15:17:35 DPDK git baseline: Repo:dpdk Branch: master CommitID:ff05ee3e3f8fb4ce958a2ce6461e8141aea959c6 153504-153506 --> testing pass Upstream job id: Generic-Unit-Test-DPDK#338818 Test environment and result as below: +-----------------------------+--------------+------------------------------+---------------------------+----------------+ | Environment | lpm_autotest | cryptodev_sw_snow3g_autotest | cryptodev_sw_zuc_autotest | dpdk_unit_test | +=============================+==============+==============================+===========================+================+ | Ubuntu 20.04 ARM SVE | PASS | SKIPPED | SKIPPED | SKIPPED | +-----------------------------+--------------+------------------------------+---------------------------+----------------+ | Debian 12 (arm) | SKIPPED | PASS | PASS | PASS | +-----------------------------+--------------+------------------------------+---------------------------+----------------+ | Ubuntu 22.04 (ARM) | SKIPPED | SKIPPED | SKIPPED | PASS | +-----------------------------+--------------+------------------------------+---------------------------+----------------+ | CentOS Stream 9 (ARM) | SKIPPED | SKIPPED | SKIPPED | PASS | +-----------------------------+--------------+------------------------------+---------------------------+----------------+ | Fedora 40 (ARM Clang) | SKIPPED | SKIPPED | SKIPPED | PASS | +-----------------------------+--------------+------------------------------+---------------------------+----------------+ | Fedora 40 (ARM) | SKIPPED | SKIPPED | SKIPPED | PASS | +-----------------------------+--------------+------------------------------+---------------------------+----------------+ | CentOS Stream 10 (ARM) | SKIPPED | SKIPPED | SKIPPED | PASS | +-----------------------------+--------------+------------------------------+---------------------------+----------------+ | Ubuntu 24.04 (ARM) | SKIPPED | SKIPPED | SKIPPED | PASS | +-----------------------------+--------------+------------------------------+---------------------------+----------------+ | Fedora 41 (ARM Clang) | SKIPPED | SKIPPED | SKIPPED | PASS | +-----------------------------+--------------+------------------------------+---------------------------+----------------+ | Fedora 41 (ARM) | SKIPPED | SKIPPED | SKIPPED | PASS | +-----------------------------+--------------+------------------------------+---------------------------+----------------+ | RHEL9 (ARM) | SKIPPED | SKIPPED | SKIPPED | PASS | +-----------------------------+--------------+------------------------------+---------------------------+----------------+ | Ubuntu 20.04 (ARM) | SKIPPED | SKIPPED | SKIPPED | PASS | +-----------------------------+--------------+------------------------------+---------------------------+----------------+ | 32-bit Ubuntu 22.04.4 (ARM) | SKIPPED | SKIPPED | SKIPPED | PASS | +-----------------------------+--------------+------------------------------+---------------------------+----------------+ Ubuntu 20.04 ARM SVE Kernel: Depends on container host Compiler: gcc (Ubuntu 10.5.0-1ubuntu1~20.04) 10.5.0 Debian 12 (arm) Kernel: Depends on container host Compiler: gcc (Debian 12.2.0-14) 12.2.0 Ubuntu 22.04 (ARM) Kernel: Depends on container host Compiler: gcc (Ubuntu 11.4.0-1ubuntu1~22.04) 11.4.0 CentOS Stream 9 (ARM) Kernel: Depends on container host Compiler: gcc 11.5.0 20240719 (Red Hat 11.5.0-2) Fedora 40 (ARM Clang) Kernel: Depends on container host Compiler: clang 18.1.8 (Fedora 18.1.8-1.fc40) Fedora 40 (ARM) Kernel: Depends on container host Compiler: gcc 14.2.1 20240912 (Red Hat 14.2.1-3) CentOS Stream 10 (ARM) Kernel: Depends on container host Compiler: gcc 14.2.1 20241104 (Red Hat 14.2.1-6) Ubuntu 24.04 (ARM) Kernel: Depends on container host Compiler: gcc (Ubuntu 13.3.0-6ubuntu2~24.04) 13.3.0 Fedora 41 (ARM Clang) Kernel: Depends on container host Compiler: clang 19.1.5 (Fedora 19.1.5-1.fc41) Fedora 41 (ARM) Kernel: Depends on container host Compiler: gcc 14.2.1 20240912 (Red Hat 14.2.1-3) RHEL9 (ARM) Kernel: Depends on container host Compiler: gcc 11.5.0 20240719 (Red Hat 11.5.0-2) Ubuntu 20.04 (ARM) Kernel: Depends on container host Compiler: gcc (Ubuntu 9.4.0-1ubuntu1~20.04.2) 9.4.0 32-bit Ubuntu 22.04.4 (ARM) Kernel: 5.15.83+ aarch64 Compiler: gcc (Ubuntu 11.4.0-1ubuntu1~22.04) 11.4.0 To view detailed results, visit: https://lab.dpdk.org/results/dashboard/patchsets/33202/ UNH-IOL DPDK Community Lab To manage your email subscriptions, visit: https://lab.dpdk.org/results/dashboard/preferences/subscriptions/