From mboxrd@z Thu Jan 1 00:00:00 1970 Return-Path: Received: from mails.dpdk.org (mails.dpdk.org [217.70.189.124]) by inbox.dpdk.org (Postfix) with ESMTP id ED94746778 for ; Sat, 17 May 2025 22:33:47 +0200 (CEST) Received: from mails.dpdk.org (localhost [127.0.0.1]) by mails.dpdk.org (Postfix) with ESMTP id CAE7C4068E; Sat, 17 May 2025 22:33:47 +0200 (CEST) Received: from mail-pl1-f227.google.com (mail-pl1-f227.google.com [209.85.214.227]) by mails.dpdk.org (Postfix) with ESMTP id AA65440689 for ; Sat, 17 May 2025 22:33:46 +0200 (CEST) Received: by mail-pl1-f227.google.com with SMTP id d9443c01a7336-231e21d3b63so22094745ad.3 for ; Sat, 17 May 2025 13:33:46 -0700 (PDT) DKIM-Signature: v=1; a=rsa-sha256; c=relaxed/relaxed; d=iol.unh.edu; s=unh-iol; t=1747514025; x=1748118825; darn=dpdk.org; h=references:in-reply-to:cc:to:from:subject:message-id:date:from:to :cc:subject:date:message-id:reply-to; bh=3W/nz7T8QsfaXg2bVZJuDzGyTbW5ztb4Osm1tiHPyDQ=; b=bfnuM6H0JfSYjDSDVwuNZ/ni/HnBrJTE5mR7OarvKg+se+7OI2SuiNoAlVMZ6CZF6m LP8vJ/m3LCRi09g7+OcWfVVMiwI7kaqr47w1fFJcG41pdn5Ksy4VFoWP3/6kcMhw737b sa3FLv/IfCT24/8xg91+pH9x2XUMO23n8zMuk= X-Google-DKIM-Signature: v=1; a=rsa-sha256; c=relaxed/relaxed; d=1e100.net; s=20230601; t=1747514025; x=1748118825; h=references:in-reply-to:cc:to:from:subject:message-id:date :x-gm-message-state:from:to:cc:subject:date:message-id:reply-to; bh=3W/nz7T8QsfaXg2bVZJuDzGyTbW5ztb4Osm1tiHPyDQ=; b=vie1yhsTbcXm1DQjZoSpbcdKmxn3sT0o5V8oWqVQTBxPNqCnSX6ulu0JK1TuynE3qk /WPnNnkXFVTI3SRpHPUQouof5jMOXc98YsZKgRT2Irbgj/mskRwQV3JxJ1KeBybxilgR 9b3fsSg3S/BxTO2uqPtJCmAUGn8BHzp+76sGoSkj0lfWf1BONpeTYsKtM46rxRQfOo1C WrKyO7WuyvFYgYJNBjrSibTlBQFDaLT7noI3nfnaOE6mKUtZafPHjtxG5/Qw/y12UBhM EEVrAD5zl40JYUW1m40TiGUUL8/FuCa4zaBRoDO2ohg/3saEn1O7CnJqsSVCTrRj5E7/ HbVA== X-Gm-Message-State: AOJu0YxgK4LGpZhywMvvRKRUKgU1PH92F7fuMJpFBszl9h16zx0V4PsQ QIzAQVWArafROz9qx5mX0xzxE6KoceIdFrsVOzxHggfiILfnL+MW3xayw+wRo7aU5DOFV/4bror PgisWLe3UCn8ARbMUvHRRPGISaJo5x4dgeyh4huCwi9FV X-Gm-Gg: ASbGncuQHlkXtSRp4hvhjosC6WGgPux/ExwAR0Xr42PSSXZEH5B0ciIXnOl+MJDmB/m +qIKUbLR+MCw2hGYi6LY9I2IrQnjC113qk8MvlZlQn3c2B2cpDij2sm6hFnN4AyamqHQ+2FrXUV kTRD4hjE3UBFcPDpXcRiG8IyzEii3kybiBQv61n1mrwXrZM9fHb4he1nKO8Kx8BxqMZFB15zsj7 TSqPVyGc3OzoXQP+TvisPZPli3GLb1ryMqDwrvTMTwnsR4JtwQFSwtEpSLXWa+BNrg6YyB60QHd gFtF7YPmvrH1Ze3jBS/TmooPqVk7BHw6ogyYZB/WP8h2R9qYMVAmHi+dIeU= X-Google-Smtp-Source: AGHT+IE1QFIFCwI+y++s+wj8Owp992Pc3Z2otVdcByKb6yLGI2sbeiEuyWjHA/q6v/VhnX9KBF/FBocU5uLr X-Received: by 2002:a17:902:d543:b0:231:b7e1:c977 with SMTP id d9443c01a7336-231de3763abmr105935995ad.29.1747514025626; Sat, 17 May 2025 13:33:45 -0700 (PDT) Received: from postal.iol.unh.edu (postal.iol.unh.edu. [132.177.123.84]) by smtp-relay.gmail.com with ESMTPS id d9443c01a7336-23211e7602fsm514445ad.127.2025.05.17.13.33.45 (version=TLS1_2 cipher=ECDHE-ECDSA-AES128-GCM-SHA256 bits=128/128); Sat, 17 May 2025 13:33:45 -0700 (PDT) X-Relaying-Domain: iol.unh.edu Date: Sat, 17 May 2025 13:33:45 -0700 (PDT) Message-ID: <6828f2a9.170a0220.5ff3b.28bdSMTPIN_ADDED_MISSING@mx.google.com> Received: from [172.17.0.2] (unknown [172.18.0.76]) by postal.iol.unh.edu (Postfix) with ESMTP id C692C6052471; Sat, 17 May 2025 16:33:44 -0400 (EDT) Subject: |SUCCESS| pw153503 [PATCH] [v4] eal/linux: skip vfio for non-privile From: dpdklab@iol.unh.edu To: Test Report Cc: dpdk-test-reports@iol.unh.edu In-Reply-To: <20250517083201.400-1-mosesyyoung@gmail.com> References: <20250517083201.400-1-mosesyyoung@gmail.com> Content-Type: text/plain X-BeenThere: test-report@dpdk.org X-Mailman-Version: 2.1.29 Precedence: list List-Id: automatic DPDK test reports List-Unsubscribe: , List-Archive: List-Post: List-Help: List-Subscribe: , Errors-To: test-report-bounces@dpdk.org Test-Label: iol-unit-arm64-testing Test-Status: SUCCESS http://dpdk.org/patch/153503 _Testing PASS_ Submitter: Yang Ming Date: Saturday, May 17 2025 08:32:01 DPDK git baseline: Repo:dpdk Branch: master CommitID:117e86c4b96ed761e9a7ab766261208fe81bf5ca 153503 --> testing pass Upstream job id: Generic-Unit-Test-DPDK#338841 Test environment and result as below: +-----------------------------+----------------+--------------+---------------------------+------------------------------+ | Environment | dpdk_unit_test | lpm_autotest | cryptodev_sw_zuc_autotest | cryptodev_sw_snow3g_autotest | +=============================+================+==============+===========================+==============================+ | Fedora 41 (ARM) | PASS | SKIPPED | SKIPPED | SKIPPED | +-----------------------------+----------------+--------------+---------------------------+------------------------------+ | Fedora 40 (ARM Clang) | PASS | SKIPPED | SKIPPED | SKIPPED | +-----------------------------+----------------+--------------+---------------------------+------------------------------+ | CentOS Stream 10 (ARM) | PASS | SKIPPED | SKIPPED | SKIPPED | +-----------------------------+----------------+--------------+---------------------------+------------------------------+ | CentOS Stream 9 (ARM) | PASS | SKIPPED | SKIPPED | SKIPPED | +-----------------------------+----------------+--------------+---------------------------+------------------------------+ | Debian 12 (arm) | PASS | SKIPPED | PASS | PASS | +-----------------------------+----------------+--------------+---------------------------+------------------------------+ | Fedora 40 (ARM) | PASS | SKIPPED | SKIPPED | SKIPPED | +-----------------------------+----------------+--------------+---------------------------+------------------------------+ | Fedora 41 (ARM Clang) | PASS | SKIPPED | SKIPPED | SKIPPED | +-----------------------------+----------------+--------------+---------------------------+------------------------------+ | Ubuntu 22.04 (ARM) | PASS | SKIPPED | SKIPPED | SKIPPED | +-----------------------------+----------------+--------------+---------------------------+------------------------------+ | Ubuntu 24.04 (ARM) | PASS | SKIPPED | SKIPPED | SKIPPED | +-----------------------------+----------------+--------------+---------------------------+------------------------------+ | RHEL9 (ARM) | PASS | SKIPPED | SKIPPED | SKIPPED | +-----------------------------+----------------+--------------+---------------------------+------------------------------+ | Ubuntu 20.04 (ARM) | PASS | SKIPPED | SKIPPED | SKIPPED | +-----------------------------+----------------+--------------+---------------------------+------------------------------+ | 32-bit Ubuntu 22.04.4 (ARM) | PASS | SKIPPED | SKIPPED | SKIPPED | +-----------------------------+----------------+--------------+---------------------------+------------------------------+ | Ubuntu 20.04 ARM SVE | SKIPPED | PASS | SKIPPED | SKIPPED | +-----------------------------+----------------+--------------+---------------------------+------------------------------+ Fedora 41 (ARM) Kernel: Depends on container host Compiler: gcc 14.2.1 20240912 (Red Hat 14.2.1-3) Fedora 40 (ARM Clang) Kernel: Depends on container host Compiler: clang 18.1.8 (Fedora 18.1.8-1.fc40) CentOS Stream 10 (ARM) Kernel: Depends on container host Compiler: gcc 14.2.1 20241104 (Red Hat 14.2.1-6) CentOS Stream 9 (ARM) Kernel: Depends on container host Compiler: gcc 11.5.0 20240719 (Red Hat 11.5.0-2) Debian 12 (arm) Kernel: Depends on container host Compiler: gcc (Debian 12.2.0-14) 12.2.0 Fedora 40 (ARM) Kernel: Depends on container host Compiler: gcc 14.2.1 20240912 (Red Hat 14.2.1-3) Fedora 41 (ARM Clang) Kernel: Depends on container host Compiler: clang 19.1.5 (Fedora 19.1.5-1.fc41) Ubuntu 22.04 (ARM) Kernel: Depends on container host Compiler: gcc (Ubuntu 11.4.0-1ubuntu1~22.04) 11.4.0 Ubuntu 24.04 (ARM) Kernel: Depends on container host Compiler: gcc (Ubuntu 13.3.0-6ubuntu2~24.04) 13.3.0 RHEL9 (ARM) Kernel: Depends on container host Compiler: gcc 11.5.0 20240719 (Red Hat 11.5.0-2) Ubuntu 20.04 (ARM) Kernel: Depends on container host Compiler: gcc (Ubuntu 9.4.0-1ubuntu1~20.04.2) 9.4.0 32-bit Ubuntu 22.04.4 (ARM) Kernel: 5.15.83+ aarch64 Compiler: gcc (Ubuntu 11.4.0-1ubuntu1~22.04) 11.4.0 Ubuntu 20.04 ARM SVE Kernel: Depends on container host Compiler: gcc (Ubuntu 10.5.0-1ubuntu1~20.04) 10.5.0 To view detailed results, visit: https://lab.dpdk.org/results/dashboard/patchsets/33201/ UNH-IOL DPDK Community Lab To manage your email subscriptions, visit: https://lab.dpdk.org/results/dashboard/preferences/subscriptions/