From mboxrd@z Thu Jan 1 00:00:00 1970 Return-Path: Received: from mails.dpdk.org (mails.dpdk.org [217.70.189.124]) by inbox.dpdk.org (Postfix) with ESMTP id 7F9F346778 for ; Sat, 17 May 2025 23:45:29 +0200 (CEST) Received: from mails.dpdk.org (localhost [127.0.0.1]) by mails.dpdk.org (Postfix) with ESMTP id 59F064068E; Sat, 17 May 2025 23:45:29 +0200 (CEST) Received: from mail-pj1-f100.google.com (mail-pj1-f100.google.com [209.85.216.100]) by mails.dpdk.org (Postfix) with ESMTP id 22EFA40608 for ; Sat, 17 May 2025 23:45:28 +0200 (CEST) Received: by mail-pj1-f100.google.com with SMTP id 98e67ed59e1d1-30ed99132abso116591a91.3 for ; Sat, 17 May 2025 14:45:28 -0700 (PDT) DKIM-Signature: v=1; a=rsa-sha256; c=relaxed/relaxed; d=iol.unh.edu; s=unh-iol; t=1747518327; x=1748123127; darn=dpdk.org; h=references:in-reply-to:cc:to:from:subject:message-id:date:from:to :cc:subject:date:message-id:reply-to; bh=2X9iJigpBWV6kZ/758bM7IbrGmA68Q/3cALrO1//K4c=; b=UGXtA+WDO5L7ZOYHEcVB0gYt7ppG4n7k5N2ih4Xx5dFL4ff0wt4J3eXQpXxSCx5rN/ A5aRn5FkFRInqGDeBS1KXnK8r7nUGbjHYK51PVsnH5aZyfRvlpCA0uq8AjZTKHFcP/d7 OjDZrdAqNYJxLFBv7X5aud23nF3q7ik2Mz+fw= X-Google-DKIM-Signature: v=1; a=rsa-sha256; c=relaxed/relaxed; d=1e100.net; s=20230601; t=1747518327; x=1748123127; h=references:in-reply-to:cc:to:from:subject:message-id:date :x-gm-message-state:from:to:cc:subject:date:message-id:reply-to; bh=2X9iJigpBWV6kZ/758bM7IbrGmA68Q/3cALrO1//K4c=; b=cai1eMgEYa7PvQ6qjD7iZ3yUM4ixmwK2nzFcZzw2T9OPGPE1L67NSI24u2buRcImV5 ZniROCU01oOraua1kXXOa8frktV+AWRtFVIX6KDuvKf6IL9dmyPwf41Dy7x+ODwZTsfN HVtQCYLo6rfGzsARzsee+M/Ckx/uJ1UIPHTe0zkRxZCJu0uoC6XBuTGHh3sfy39YM0Dx Iwe/DO4dlf+HKkJqTay8Ifspydi0p4SICy3LZBT815A50DZbuzJnm//X9XZXi7VF71Kv X8AEiQJZDwMQoXD3Z4TXAFvYkK6j1zBmb4AX75UNAc4S/PiU1kFXuxxKItODt8SsWCos vz/g== X-Gm-Message-State: AOJu0YwcPgOV885YZgAGpGFV8rMD6YxelfMIYmkLU3Kogxjvk+VvHM32 ydibzOW1rxu992h9ogH11+ZQpahzqNEPtSsD8k5Q1+sReXlyfd8bRQln85jWP6Ju1JkN4N2uYEI N+wDshqmCyRyum4HHhR3S+E+NJxCjXtMEUf6Pe12FYHhQ X-Gm-Gg: ASbGnctEBOFLZDWryGTuF3cHAq5GXLcRasHjoytO9V4gAOH4kORo3jdiEBM6EgUvGlx o83pyVczmy822yNxxXwF86wi0E3FO6v8yujxu/CM52DwVUMaKeMfTQny1EFgc51PAbIdTE5EEZK MCQRxesZ94qursyy8cQs0L66xD+q5LnccBFv8yNckdsY1h9IcZmyCiBbtzthb/XTJHfEFuhcYVz LnFi6dbMe92YSrMYp0UOzra4vX4d4/42dGedYfVipRxkmWiDq4CAbrGYqwz15+gCk1xgxYzGUMg W5GffdLTxbpAUUSx+HLfEyDVkrpPZMDWBnQZ/CJc6uoMcLLMH+SngUERq4I= X-Google-Smtp-Source: AGHT+IGihXAEW2LChFuI/3z6Ia8AS8EihxJSOeVzzzktjsdCWa53vLgVS7aHC8v2aE+aRPdIMufXofTMbQME X-Received: by 2002:a17:90b:3c45:b0:30a:4c29:4c9c with SMTP id 98e67ed59e1d1-30e7d4eeecdmr11680368a91.6.1747518326946; Sat, 17 May 2025 14:45:26 -0700 (PDT) Received: from postal.iol.unh.edu (postal.iol.unh.edu. [132.177.123.84]) by smtp-relay.gmail.com with ESMTPS id 98e67ed59e1d1-30e7d57ef40sm269055a91.11.2025.05.17.14.45.26 (version=TLS1_2 cipher=ECDHE-ECDSA-AES128-GCM-SHA256 bits=128/128); Sat, 17 May 2025 14:45:26 -0700 (PDT) X-Relaying-Domain: iol.unh.edu Date: Sat, 17 May 2025 14:45:26 -0700 (PDT) Message-ID: <68290376.170a0220.12273b.dec1SMTPIN_ADDED_MISSING@mx.google.com> Received: from [172.17.0.2] (unknown [172.18.0.76]) by postal.iol.unh.edu (Postfix) with ESMTP id 0A2E96052471; Sat, 17 May 2025 17:45:26 -0400 (EDT) Subject: |SUCCESS| pw153504-153506 [PATCH] [RFC,v4,3/3] ethdev: introduce the From: dpdklab@iol.unh.edu To: Test Report Cc: dpdk-test-reports@iol.unh.edu In-Reply-To: <20250517151736.2565461-4-wathsala.vithanage@arm.com> References: <20250517151736.2565461-4-wathsala.vithanage@arm.com> Content-Type: text/plain X-BeenThere: test-report@dpdk.org X-Mailman-Version: 2.1.29 Precedence: list List-Id: automatic DPDK test reports List-Unsubscribe: , List-Archive: List-Post: List-Help: List-Subscribe: , Errors-To: test-report-bounces@dpdk.org Test-Label: iol-compile-arm64-testing Test-Status: SUCCESS http://dpdk.org/patch/153506 _Testing PASS_ Submitter: Wathsala Vithanage Date: Saturday, May 17 2025 15:17:35 DPDK git baseline: Repo:dpdk Branch: master CommitID:ff05ee3e3f8fb4ce958a2ce6461e8141aea959c6 153504-153506 --> testing pass Upstream job id: Generic-DPDK-Compile-Meson#389116 Test environment and result as below: +----------------------------------------+--------------------+ | Environment | dpdk_meson_compile | +========================================+====================+ | Ubuntu 20.04 ARM SVE | PASS | +----------------------------------------+--------------------+ | Debian 12 with MUSDK | PASS | +----------------------------------------+--------------------+ | Fedora 40 (ARM) | PASS | +----------------------------------------+--------------------+ | Ubuntu 20.04 ARM GCC Cross Compile | PASS | +----------------------------------------+--------------------+ | RHEL9 (ARM) | PASS | +----------------------------------------+--------------------+ | Ubuntu 20.04 aarch32 GCC Cross Compile | PASS | +----------------------------------------+--------------------+ | Ubuntu 22.04 (ARM) | PASS | +----------------------------------------+--------------------+ | Fedora 40 (ARM Clang) | PASS | +----------------------------------------+--------------------+ | Fedora 41 (ARM Clang) | PASS | +----------------------------------------+--------------------+ | Fedora 41 (ARM) | PASS | +----------------------------------------+--------------------+ | Ubuntu 20.04 (ARM) | PASS | +----------------------------------------+--------------------+ | CentOS Stream 10 (ARM) | PASS | +----------------------------------------+--------------------+ | Ubuntu 24.04 (ARM) | PASS | +----------------------------------------+--------------------+ | CentOS Stream 9 (ARM) | PASS | +----------------------------------------+--------------------+ | Debian 12 (arm) | PASS | +----------------------------------------+--------------------+ | Ubuntu 20.04 ARM Clang Cross Compile | PASS | +----------------------------------------+--------------------+ Ubuntu 20.04 ARM SVE Kernel: Depends on container host Compiler: gcc (Ubuntu 10.5.0-1ubuntu1~20.04) 10.5.0 Debian 12 with MUSDK Kernel: Depends on container host Compiler: gcc (Debian 12.2.0-14) 12.2.0 Fedora 40 (ARM) Kernel: Depends on container host Compiler: gcc 14.2.1 20240912 (Red Hat 14.2.1-3) Ubuntu 20.04 ARM GCC Cross Compile Kernel: Depends on container host Compiler: aarch64-linux-gnu-gcc (Ubuntu 9.4.0-1ubuntu1~20.04.2) 9.4.0 RHEL9 (ARM) Kernel: Depends on container host Compiler: gcc 11.5.0 20240719 (Red Hat 11.5.0-2) Ubuntu 20.04 aarch32 GCC Cross Compile Kernel: Depends on container host Compiler: gcc 9.4.0 Ubuntu 22.04 (ARM) Kernel: Depends on container host Compiler: gcc (Ubuntu 11.4.0-1ubuntu1~22.04) 11.4.0 Fedora 40 (ARM Clang) Kernel: Depends on container host Compiler: clang 18.1.8 (Fedora 18.1.8-1.fc40) Fedora 41 (ARM Clang) Kernel: Depends on container host Compiler: clang 19.1.5 (Fedora 19.1.5-1.fc41) Fedora 41 (ARM) Kernel: Depends on container host Compiler: gcc 14.2.1 20240912 (Red Hat 14.2.1-3) Ubuntu 20.04 (ARM) Kernel: Depends on container host Compiler: gcc (Ubuntu 9.4.0-1ubuntu1~20.04.2) 9.4.0 CentOS Stream 10 (ARM) Kernel: Depends on container host Compiler: gcc 14.2.1 20241104 (Red Hat 14.2.1-6) Ubuntu 24.04 (ARM) Kernel: Depends on container host Compiler: gcc (Ubuntu 13.3.0-6ubuntu2~24.04) 13.3.0 CentOS Stream 9 (ARM) Kernel: Depends on container host Compiler: gcc 11.5.0 20240719 (Red Hat 11.5.0-2) Debian 12 (arm) Kernel: Depends on container host Compiler: gcc (Debian 12.2.0-14) 12.2.0 Ubuntu 20.04 ARM Clang Cross Compile Kernel: Depends on container host Compiler: clang 10.0.0-4ubuntu1 To view detailed results, visit: https://lab.dpdk.org/results/dashboard/patchsets/33202/ UNH-IOL DPDK Community Lab To manage your email subscriptions, visit: https://lab.dpdk.org/results/dashboard/preferences/subscriptions/