From mboxrd@z Thu Jan 1 00:00:00 1970 Return-Path: Received: from mails.dpdk.org (mails.dpdk.org [217.70.189.124]) by inbox.dpdk.org (Postfix) with ESMTP id A7A4A46778 for ; Sun, 18 May 2025 03:02:33 +0200 (CEST) Received: from mails.dpdk.org (localhost [127.0.0.1]) by mails.dpdk.org (Postfix) with ESMTP id 9E261402A7; Sun, 18 May 2025 03:02:33 +0200 (CEST) Received: from mail-il1-f226.google.com (mail-il1-f226.google.com [209.85.166.226]) by mails.dpdk.org (Postfix) with ESMTP id BD9D7402A7 for ; Sun, 18 May 2025 03:02:32 +0200 (CEST) Received: by mail-il1-f226.google.com with SMTP id e9e14a558f8ab-3dc6b2a8647so23395ab.2 for ; Sat, 17 May 2025 18:02:32 -0700 (PDT) DKIM-Signature: v=1; a=rsa-sha256; c=relaxed/relaxed; d=iol.unh.edu; s=unh-iol; t=1747530152; x=1748134952; darn=dpdk.org; h=cc:to:from:subject:message-id:date:from:to:cc:subject:date :message-id:reply-to; bh=LE2uwbOaHDXgXS85fCd2CF7rzclyMnlxnpdB02gyfAQ=; b=RmbaVijV4EHW7xW5sORPeMERZgrAcYERLDsrMubXcv0HjAx9kiBnNooJYa0SSVBaIz 3zEAIPuGDbsFPrIpRCPx9KixcVgG9CGEQMqvGQpvn/cMV5VJrx+Ru5gK+R5oU7nbfjXS J4jHhLUQGDm9bUPt6pIIHAB4TVrUDXVmQ6bHk= X-Google-DKIM-Signature: v=1; a=rsa-sha256; c=relaxed/relaxed; d=1e100.net; s=20230601; t=1747530152; x=1748134952; h=cc:to:from:subject:message-id:date:x-gm-message-state:from:to:cc :subject:date:message-id:reply-to; bh=LE2uwbOaHDXgXS85fCd2CF7rzclyMnlxnpdB02gyfAQ=; b=tJDpww+8Mu0IZ4BMaXEkrSGtqklmGFslrSbSK50zRlmYZkVA1vfRWHz8fz1glcR9hp 4d7g897CIQZHl7vxIH9dWhmC/eE+PXHIkyrbMlnLw8vuD5bWy6RroSXZjEVtj3hLgC7t df0GiMXS1M1Dgns6/SuunqSYrcVwEkpRQZtv4MeKt5dAaK/nEApMzvsPcvyi4dfxTYAF cngGPqJkLrd13DWBWnTsgev7H2h+4sAzap56xHJPSXToKbjtZ7IkB6YxGmSHAQdIyQOn SWucnKRjWvDSDK3esu2Ir/0fOEoE7xGHOfuSVBMX1rLBs/ZuE4286vLZ/OelUwL60ITp tz9g== X-Gm-Message-State: AOJu0Yz1lPv1crPzFEULno49dX2NDTXZpIm0CqOeM/iSUV0lWnFYw5Fu MLm1HAMLM2MEi0x64jP0I3KyMOjrtpQdna5TveTpnViBqL/EG/JZsPWgFP6pMiJZFEbQ3eYG4Ne QnHzJ1++FqGitvR5HMdP+N0MaoaHolfgy/xgRvm197UB+ X-Gm-Gg: ASbGncuVgpe+6qodLBD91bUrz50hGiI3VBuB6sWO94IPU29sctiSJ2nv6cR1Ze3D29V /4fDaceF3cJzzXLBT3s0RKJITLCljZHJGm+EVCfQBpas5Teoiz9P7InfsKrKgTenhMMIkYN6ymQ m57IXunfe86s/BTy5PIgnzVELU7GhiW45QZqvBAgQyiFNDXt/j6VSoqTJ0DFF4TzvHSGUVzSkez 4oWCrH5haHhY2Oy5YnXLWlYz/IKslKI3B6ITfygIKdrInqz5lWcNhFhZVpcpzFywj6EiM2VWQeU 8zE9CeA38Z7H3s9VMAzp2rW8HzZElP08uY1+okIyLq5CQu4YGKWkIDKj25k= X-Google-Smtp-Source: AGHT+IFXB41r0+Y8IWmFaBZ+f2FXMSnmkMU4PtSUzm32rQLcvo/dTE4BLqwwYm4bV+mZrdQ3GthzTCQyEKq5 X-Received: by 2002:a05:6e02:351d:b0:3d0:47cf:869c with SMTP id e9e14a558f8ab-3db857b6555mr80777865ab.19.1747530152106; Sat, 17 May 2025 18:02:32 -0700 (PDT) Received: from postal.iol.unh.edu (postal.iol.unh.edu. [132.177.123.84]) by smtp-relay.gmail.com with ESMTPS id 8926c6da1cb9f-4fbcc488c42sm232694173.45.2025.05.17.18.02.32 (version=TLS1_2 cipher=ECDHE-ECDSA-AES128-GCM-SHA256 bits=128/128); Sat, 17 May 2025 18:02:32 -0700 (PDT) X-Relaying-Domain: iol.unh.edu Date: Sat, 17 May 2025 18:02:32 -0700 (PDT) Message-ID: <682931a8.050a0220.160eb6.d121SMTPIN_ADDED_MISSING@mx.google.com> Received: from [172.17.0.3] (unknown [172.18.0.74]) by postal.iol.unh.edu (Postfix) with ESMTP id 952E06052471; Sat, 17 May 2025 21:02:31 -0400 (EDT) Subject: |SUCCESS| [GIT MASTER] 117e86c4b96ed761e9a7ab766261208fe81bf5ca From: dpdklab@iol.unh.edu To: Test Report Cc: dpdk-test-reports@iol.unh.edu Content-Type: text/plain X-BeenThere: test-report@dpdk.org X-Mailman-Version: 2.1.29 Precedence: list List-Id: automatic DPDK test reports List-Unsubscribe: , List-Archive: List-Post: List-Help: List-Subscribe: , Errors-To: test-report-bounces@dpdk.org _Testing PASS_ Branch: dpdk 117e86c4b96ed761e9a7ab766261208fe81bf5ca --> testing pass Upstream job id: Generic-Unit-Test-DPDK#338849 Test environment and result as below: +---------------------+----------------+ | Environment | dpdk_unit_test | +=====================+================+ | Fedora 41 (Clang) | PASS | +---------------------+----------------+ | Fedora 40 (Clang) | PASS | +---------------------+----------------+ | RHEL8 | PASS | +---------------------+----------------+ | CentOS Stream 10 | PASS | +---------------------+----------------+ | Debian 12 | PASS | +---------------------+----------------+ | Fedora 41 | PASS | +---------------------+----------------+ | CentOS Stream 9 | PASS | +---------------------+----------------+ | RHEL9 | PASS | +---------------------+----------------+ | Arch Linux | PASS | +---------------------+----------------+ | Fedora 40 | PASS | +---------------------+----------------+ | Ubuntu 20.04 | PASS | +---------------------+----------------+ | Ubuntu 22.04 | PASS | +---------------------+----------------+ | Ubuntu 24.04 | PASS | +---------------------+----------------+ | Windows Server 2022 | PASS | +---------------------+----------------+ Fedora 41 (Clang) Kernel: Depends on container host Compiler: clang 19.1.5 (Fedora 19.1.5-1.fc41) Fedora 40 (Clang) Kernel: Depends on container host Compiler: clang 18.1.8 (Fedora 18.1.8-1.fc40) RHEL8 Kernel: Depends on container host Compiler: gcc 8.5.0 20210514 (Red Hat 8.5.0-22) CentOS Stream 10 Kernel: Depends on container host Compiler: gcc 14.2.1 20241104 (Red Hat 14.2.1-6) Debian 12 Kernel: Depends on container host Compiler: gcc (Debian 12.2.0-14) 12.2.0 Fedora 41 Kernel: Depends on container host Compiler: gcc 14.2.1 20240912 (Red Hat 14.2.1-3) CentOS Stream 9 Kernel: Depends on container host Compiler: gcc 11.5.0 20240719 (Red Hat 11.5.0-2) RHEL9 Kernel: Depends on container host Compiler: gcc 11.5.0 20240719 (Red Hat 11.5.0-2) Arch Linux Kernel: Depends on container host Compiler: gcc 14.2.1 20240910 Fedora 40 Kernel: Depends on container host Compiler: gcc 14.2.1 20240912 (Red Hat 14.2.1-3) Ubuntu 20.04 Kernel: Depends on container host Compiler: gcc (Ubuntu 9.4.0-1ubuntu1~20.04.2) 9.4.0 Ubuntu 22.04 Kernel: Depends on container host Compiler: gcc (Ubuntu 11.4.0-1ubuntu1~22.04) 11.4.0 Ubuntu 24.04 Kernel: Depends on container host Compiler: gcc (Ubuntu 13.3.0-6ubuntu2~24.04) 13.3.0 Windows Server 2022 Kernel: 10.0.20348.2031 Compiler: clang 15.0.7, gcc 14.1.0 (MinGW), and MSVC VS 19.39.33521 To view detailed results, visit: https://lab.dpdk.org/results/dashboard/tarballs/33572/ UNH-IOL DPDK Community Lab To manage your email subscriptions, visit: https://lab.dpdk.org/results/dashboard/preferences/subscriptions/