From mboxrd@z Thu Jan 1 00:00:00 1970 Return-Path: Received: from mails.dpdk.org (mails.dpdk.org [217.70.189.124]) by inbox.dpdk.org (Postfix) with ESMTP id 6B81446778 for ; Sun, 18 May 2025 03:08:51 +0200 (CEST) Received: from mails.dpdk.org (localhost [127.0.0.1]) by mails.dpdk.org (Postfix) with ESMTP id 3E59A402A7; Sun, 18 May 2025 03:08:51 +0200 (CEST) Received: from mail-pj1-f100.google.com (mail-pj1-f100.google.com [209.85.216.100]) by mails.dpdk.org (Postfix) with ESMTP id 5D4C04027D for ; Sun, 18 May 2025 03:08:50 +0200 (CEST) Received: by mail-pj1-f100.google.com with SMTP id 98e67ed59e1d1-306bf444ba2so3109216a91.1 for ; Sat, 17 May 2025 18:08:50 -0700 (PDT) DKIM-Signature: v=1; a=rsa-sha256; c=relaxed/relaxed; d=iol.unh.edu; s=unh-iol; t=1747530529; x=1748135329; darn=dpdk.org; h=cc:to:from:subject:message-id:date:from:to:cc:subject:date :message-id:reply-to; bh=QaXElWBLV7jnCJbaUdC5qWuoxjdh1Yr6QM+vj2/mfTk=; b=IXn9kWYmCL9uq0FveSAcbJroHyniE2cGSVcUtaU6E55s/xItmyMQlmAhI5/UyYoB90 CsYd89Zdav7zzpqyBXqiT/ykNyiEypWcb8EwPsHaFeahuRO3jImNn/XdO8Mp9tMyEFjN E0JCNobkgx1hJ3mhhjBc12sUB4ARlRyVT8FJI= X-Google-DKIM-Signature: v=1; a=rsa-sha256; c=relaxed/relaxed; d=1e100.net; s=20230601; t=1747530529; x=1748135329; h=cc:to:from:subject:message-id:date:x-gm-message-state:from:to:cc :subject:date:message-id:reply-to; bh=QaXElWBLV7jnCJbaUdC5qWuoxjdh1Yr6QM+vj2/mfTk=; b=eM68l0GdGHLkS1IIb7kAkVvgRfBQTl7LwsrFA6PYS6PFFtn939yi2PoaeZAc67A5n/ a4YiE/nbevMH4/v8TT6ddsQFENCmRxAeTm87MXp6FNJaZOcZWLJDWIyv38KqnNr4uSJN 00KCERfXtCkPCB1YVRVN/TSugmWbopK2VUWnV/XdZE+k1LCevCGie3O6HhhM5bCs6l8f 0DuPU8RPZNBFmKgo7gfAOtAeRpVK/wbFV8Urw5VnKrEcrsVQYkV3Jkmke2W2AuQ8wblA TN8JtvHG4ddqY6L9RJpleY6EfyJT1cvVxcliwKq7Vctv6OW8hHh+6ED7l7Tsu9xTmQ/s gx2w== X-Gm-Message-State: AOJu0YybwL6wUDkqQIs5HwlCTf434Wi33/+iAMNZKXMB+bV4//N5YpIS i1OAfe0WC/lgNwcxifbqyTLBam5EIZ8nPYFlvznnZ4jQ8Efdqm/tJtPu3HHEJ+wxCq13X9vrcch rF4zTWKPb4C7r6fZKi/L9/Vxc5naxhbNw8g/u48XLQ5GFxUHtEKg/bfA6MkFU X-Gm-Gg: ASbGnctyG6FHCb3uQDFNpSxSepihwOoAnYlqYXMo1OvPdCYK3Pr3Yj37ZrVZA7HUVJ9 F6VccsIHJ+2ZF/jUnJDILREW16YkUOcN+j/edkPpFSl61mhiRiz5wG+OvToTLT2TXAehR9ESFe4 INaOdkMvbKZsq8cuNhYJLSh4Zgd/AK+OgIOSFUxckQY33SceC5HoZMwfNv8S1M2epfTG5WiRv5k gGdsxp+uZMd8dcT+yZ8yc391cBux1DNGV1JlXRTfiGPI7sjptqu21fKLzt7QLhZrtTwAxpjPtB/ PHb+/6WsmKJ0Pdrga1zmDPPeetrEwyRlrMP4 X-Google-Smtp-Source: AGHT+IGrQF6rMhPlWMQM0F4URq6e9YsNOs6SCuVXwj2LKzMd+gntRzw3YYcURPFwyeeyELOKoSqnppAMxjA1 X-Received: by 2002:a17:90b:534e:b0:2ef:67c2:4030 with SMTP id 98e67ed59e1d1-30e7d5b7599mr12974862a91.27.1747530529321; Sat, 17 May 2025 18:08:49 -0700 (PDT) Received: from postal.iol.unh.edu (postal.iol.unh.edu. [2606:4100:3880:1234::84]) by smtp-relay.gmail.com with ESMTPS id 98e67ed59e1d1-30e663fa0b8sm358746a91.14.2025.05.17.18.08.49 (version=TLS1_2 cipher=ECDHE-ECDSA-AES128-GCM-SHA256 bits=128/128); Sat, 17 May 2025 18:08:49 -0700 (PDT) X-Relaying-Domain: iol.unh.edu Date: Sat, 17 May 2025 18:08:49 -0700 (PDT) Message-ID: <68293321.170a0220.28efdf.3f8fSMTPIN_ADDED_MISSING@mx.google.com> Received: from [172.17.0.2] (unknown [172.18.0.76]) by postal.iol.unh.edu (Postfix) with ESMTP id 52BF86052471; Sat, 17 May 2025 21:08:48 -0400 (EDT) Subject: |SUCCESS| [GIT MASTER] 117e86c4b96ed761e9a7ab766261208fe81bf5ca From: dpdklab@iol.unh.edu To: Test Report Cc: dpdk-test-reports@iol.unh.edu Content-Type: text/plain X-BeenThere: test-report@dpdk.org X-Mailman-Version: 2.1.29 Precedence: list List-Id: automatic DPDK test reports List-Unsubscribe: , List-Archive: List-Post: List-Help: List-Subscribe: , Errors-To: test-report-bounces@dpdk.org _Testing PASS_ Branch: dpdk 117e86c4b96ed761e9a7ab766261208fe81bf5ca --> testing pass Upstream job id: Generic-DPDK-Compile-ABI#126836 Test environment and result as below: +-------------------+----------+ | Environment | abi_test | +===================+==========+ | CentOS Stream 10 | PASS | +-------------------+----------+ | CentOS Stream 9 | PASS | +-------------------+----------+ | Fedora 40 | PASS | +-------------------+----------+ | Fedora 41 (Clang) | PASS | +-------------------+----------+ | Fedora 40 (Clang) | PASS | +-------------------+----------+ | Debian 12 | PASS | +-------------------+----------+ | Fedora 41 | PASS | +-------------------+----------+ | openSUSE Leap 15 | PASS | +-------------------+----------+ | RHEL8 | PASS | +-------------------+----------+ | Ubuntu 22.04 | PASS | +-------------------+----------+ | Ubuntu 24.04 | PASS | +-------------------+----------+ | Arch Linux | PASS | +-------------------+----------+ | RHEL9 | PASS | +-------------------+----------+ CentOS Stream 10 Kernel: Depends on container host Compiler: gcc 14.2.1 20241104 (Red Hat 14.2.1-6) CentOS Stream 9 Kernel: Depends on container host Compiler: gcc 11.5.0 20240719 (Red Hat 11.5.0-2) Fedora 40 Kernel: Depends on container host Compiler: gcc 14.2.1 20240912 (Red Hat 14.2.1-3) Fedora 41 (Clang) Kernel: Depends on container host Compiler: clang 19.1.5 (Fedora 19.1.5-1.fc41) Fedora 40 (Clang) Kernel: Depends on container host Compiler: clang 18.1.8 (Fedora 18.1.8-1.fc40) Debian 12 Kernel: Depends on container host Compiler: gcc (Debian 12.2.0-14) 12.2.0 Fedora 41 Kernel: Depends on container host Compiler: gcc 14.2.1 20240912 (Red Hat 14.2.1-3) openSUSE Leap 15 Kernel: Depends on container host Compiler: gcc (SUSE Linux) 7.5.0 RHEL8 Kernel: Depends on container host Compiler: gcc 8.5.0 20210514 (Red Hat 8.5.0-22) Ubuntu 22.04 Kernel: Depends on container host Compiler: gcc (Ubuntu 11.4.0-1ubuntu1~22.04) 11.4.0 Ubuntu 24.04 Kernel: Depends on container host Compiler: gcc (Ubuntu 13.3.0-6ubuntu2~24.04) 13.3.0 Arch Linux Kernel: Depends on container host Compiler: gcc 14.2.1 20240910 RHEL9 Kernel: Depends on container host Compiler: gcc 11.5.0 20240719 (Red Hat 11.5.0-2) To view detailed results, visit: https://lab.dpdk.org/results/dashboard/tarballs/33572/ UNH-IOL DPDK Community Lab To manage your email subscriptions, visit: https://lab.dpdk.org/results/dashboard/preferences/subscriptions/