From mboxrd@z Thu Jan 1 00:00:00 1970 Return-Path: Received: from mails.dpdk.org (mails.dpdk.org [217.70.189.124]) by inbox.dpdk.org (Postfix) with ESMTP id 6167146778 for ; Sun, 18 May 2025 03:09:09 +0200 (CEST) Received: from mails.dpdk.org (localhost [127.0.0.1]) by mails.dpdk.org (Postfix) with ESMTP id 560B0402A7; Sun, 18 May 2025 03:09:09 +0200 (CEST) Received: from mail-pj1-f100.google.com (mail-pj1-f100.google.com [209.85.216.100]) by mails.dpdk.org (Postfix) with ESMTP id 616B84027D for ; Sun, 18 May 2025 03:09:08 +0200 (CEST) Received: by mail-pj1-f100.google.com with SMTP id 98e67ed59e1d1-30e57a373c9so3115432a91.2 for ; Sat, 17 May 2025 18:09:08 -0700 (PDT) DKIM-Signature: v=1; a=rsa-sha256; c=relaxed/relaxed; d=iol.unh.edu; s=unh-iol; t=1747530547; x=1748135347; darn=dpdk.org; h=cc:to:from:subject:message-id:date:from:to:cc:subject:date :message-id:reply-to; bh=Fm2rT65VekLzxICInUZIfCZHMn9mW2JAVC6Eye/0t0w=; b=C+cGRzYyH9Icde4x+ATUdUvWcBxPvQHAms5ZSMP+oU2dUjRF6Xqr2g3DuLDVoMDNRD XOzZRT8PxOjjbMMVX+ODwvloVX+GWjX51E2+Vq3VRqo22ewlfbOr9/aeDSMB/iMfXimT em6+TFjKyqiCLgmd/joMsea0gRLTYKoPWWAUw= X-Google-DKIM-Signature: v=1; a=rsa-sha256; c=relaxed/relaxed; d=1e100.net; s=20230601; t=1747530547; x=1748135347; h=cc:to:from:subject:message-id:date:x-gm-message-state:from:to:cc :subject:date:message-id:reply-to; bh=Fm2rT65VekLzxICInUZIfCZHMn9mW2JAVC6Eye/0t0w=; b=ioEw05h79EC9ly7wyuCxOcwxVbT4FkaSx3euCoOQrtRb4nVMHg4HXwIC/ncxwe7EBQ ur3s7DxdR8JRumYRsQWdyhEMb1SvJFkZVOwJZVV9dt4bC09jnsOBWDwjUciSVWmOxv7T pG9irjhwaN2JXUekSWyfyYSXGnMuuVIyBQ0hKKKEVlCHxo6kB5JqZwQWN8ULI0+fAeGy 7cBYw6wr8veR8ifXF133rF9KXiJyytIzLR1M+G4ZflYQ6fLbAG/qTGN4yRTz1pD/KTPg JfLOVoi+8632w5IsrY7siXjbuCc+e1J+AlYfCI1eFOxzwDPut+BBD8R5m04VhwcRBmoV Tugw== X-Gm-Message-State: AOJu0YzgBudL9pGSaw0614ZL9ZminVNYGVbsup625ShEp54KPE1X+JFi iPvLorCKtCULj04DFeLhTNWS02HqiTunDfeXI6o9pkfiKELnpmxdcUR57KI1lHK2/b2G2r14Z5a 4ebQ3vj+Dlc45DNW4yjKc9MVUb56YJr+SKKxbSDV8lnPomx5jIlpeQV4ZvVna X-Gm-Gg: ASbGnculYxAYrXe1iT0FpSK6DSApqU2a2yTB5xqGKD3grLhoMLJNN02RTK3c7Qto4Fm eG8qIFgboOuGfuZyaKO+of6C6eDXBsaH6lVOFZSvD16g2D9cxoKKXVz3gvc3zzuG1AhCIq+7N74 ij7tvodL29kaoubJxtmBBfl02T3gWNnee16V876rxHmzadXA3UAUGYv3qMS4H/3iuZCnVOPXUr7 H52smzTf4X/yXbbY0itPg62oDc5aygY+K8CP/n84e1x0EdxLDwc3DuNGrCA4dC2KiDaEyRNXzVG 96zf7FCejWnyL4due9XVCCoc6y/dSiylWoKn X-Google-Smtp-Source: AGHT+IG7dD8IkfBq+nMLsjQcRehZV4r4mqh0yet8bz0cord/pO+An4XfAHO0ZYMrxOQQ9oxUOppm92gIIGNK X-Received: by 2002:a17:903:2285:b0:223:26da:4b8e with SMTP id d9443c01a7336-231d438a1a3mr120861255ad.4.1747530547627; Sat, 17 May 2025 18:09:07 -0700 (PDT) Received: from postal.iol.unh.edu (postal.iol.unh.edu. [2606:4100:3880:1234::84]) by smtp-relay.gmail.com with ESMTPS id d9443c01a7336-231d4eb9cfcsm2728155ad.103.2025.05.17.18.09.07 (version=TLS1_2 cipher=ECDHE-ECDSA-AES128-GCM-SHA256 bits=128/128); Sat, 17 May 2025 18:09:07 -0700 (PDT) X-Relaying-Domain: iol.unh.edu Date: Sat, 17 May 2025 18:09:07 -0700 (PDT) Message-ID: <68293333.170a0220.2133fb.f823SMTPIN_ADDED_MISSING@mx.google.com> Received: from [172.17.0.2] (unknown [172.18.0.76]) by postal.iol.unh.edu (Postfix) with ESMTP id BBD896052471; Sat, 17 May 2025 21:09:06 -0400 (EDT) Subject: |SUCCESS| [GIT MASTER] 117e86c4b96ed761e9a7ab766261208fe81bf5ca From: dpdklab@iol.unh.edu To: Test Report Cc: dpdk-test-reports@iol.unh.edu Content-Type: text/plain X-BeenThere: test-report@dpdk.org X-Mailman-Version: 2.1.29 Precedence: list List-Id: automatic DPDK test reports List-Unsubscribe: , List-Archive: List-Post: List-Help: List-Subscribe: , Errors-To: test-report-bounces@dpdk.org _Testing PASS_ Branch: dpdk 117e86c4b96ed761e9a7ab766261208fe81bf5ca --> testing pass Upstream job id: Generic-DPDK-Compile-ABI#126838 Test environment and result as below: +-------------------+----------+ | Environment | abi_test | +===================+==========+ | CentOS Stream 10 | PASS | +-------------------+----------+ | CentOS Stream 9 | PASS | +-------------------+----------+ | Fedora 40 | PASS | +-------------------+----------+ | Fedora 41 (Clang) | PASS | +-------------------+----------+ | Fedora 40 (Clang) | PASS | +-------------------+----------+ | Debian 12 | PASS | +-------------------+----------+ | Fedora 41 | PASS | +-------------------+----------+ | openSUSE Leap 15 | PASS | +-------------------+----------+ | RHEL8 | PASS | +-------------------+----------+ | Ubuntu 22.04 | PASS | +-------------------+----------+ | Ubuntu 24.04 | PASS | +-------------------+----------+ | Arch Linux | PASS | +-------------------+----------+ | RHEL9 | PASS | +-------------------+----------+ CentOS Stream 10 Kernel: Depends on container host Compiler: gcc 14.2.1 20241104 (Red Hat 14.2.1-6) CentOS Stream 9 Kernel: Depends on container host Compiler: gcc 11.5.0 20240719 (Red Hat 11.5.0-2) Fedora 40 Kernel: Depends on container host Compiler: gcc 14.2.1 20240912 (Red Hat 14.2.1-3) Fedora 41 (Clang) Kernel: Depends on container host Compiler: clang 19.1.5 (Fedora 19.1.5-1.fc41) Fedora 40 (Clang) Kernel: Depends on container host Compiler: clang 18.1.8 (Fedora 18.1.8-1.fc40) Debian 12 Kernel: Depends on container host Compiler: gcc (Debian 12.2.0-14) 12.2.0 Fedora 41 Kernel: Depends on container host Compiler: gcc 14.2.1 20240912 (Red Hat 14.2.1-3) openSUSE Leap 15 Kernel: Depends on container host Compiler: gcc (SUSE Linux) 7.5.0 RHEL8 Kernel: Depends on container host Compiler: gcc 8.5.0 20210514 (Red Hat 8.5.0-22) Ubuntu 22.04 Kernel: Depends on container host Compiler: gcc (Ubuntu 11.4.0-1ubuntu1~22.04) 11.4.0 Ubuntu 24.04 Kernel: Depends on container host Compiler: gcc (Ubuntu 13.3.0-6ubuntu2~24.04) 13.3.0 Arch Linux Kernel: Depends on container host Compiler: gcc 14.2.1 20240910 RHEL9 Kernel: Depends on container host Compiler: gcc 11.5.0 20240719 (Red Hat 11.5.0-2) To view detailed results, visit: https://lab.dpdk.org/results/dashboard/tarballs/33572/ UNH-IOL DPDK Community Lab To manage your email subscriptions, visit: https://lab.dpdk.org/results/dashboard/preferences/subscriptions/