From mboxrd@z Thu Jan 1 00:00:00 1970 Return-Path: Received: from mails.dpdk.org (mails.dpdk.org [217.70.189.124]) by inbox.dpdk.org (Postfix) with ESMTP id 92AC046778 for ; Sun, 18 May 2025 03:19:48 +0200 (CEST) Received: from mails.dpdk.org (localhost [127.0.0.1]) by mails.dpdk.org (Postfix) with ESMTP id 5F3274027D; Sun, 18 May 2025 03:19:48 +0200 (CEST) Received: from mail-pf1-f227.google.com (mail-pf1-f227.google.com [209.85.210.227]) by mails.dpdk.org (Postfix) with ESMTP id 53BD5400D6 for ; Sun, 18 May 2025 03:19:47 +0200 (CEST) Received: by mail-pf1-f227.google.com with SMTP id d2e1a72fcca58-742c27df0daso287017b3a.1 for ; Sat, 17 May 2025 18:19:47 -0700 (PDT) DKIM-Signature: v=1; a=rsa-sha256; c=relaxed/relaxed; d=iol.unh.edu; s=unh-iol; t=1747531186; x=1748135986; darn=dpdk.org; h=cc:to:from:subject:message-id:date:from:to:cc:subject:date :message-id:reply-to; bh=87kOGVE+4BqL6EDpU6aZo8YWYtWLyTInw5qO65+1bQc=; b=NIrFUJt2RGV6zluJhTEiY9Ktm+eG0IzfXyF7M+bFmrDEwwNyRral7bdX4h2QaG6duN G4k58Y1ijauuJd+cr68vP3AV6tOvMdHPa3QxZxnGOMTXC0EFoJirbzE1I24uWVi7FDo4 +jcFaIRpmVizQTiTD7gVgy4MClGnYGK5vWiYU= X-Google-DKIM-Signature: v=1; a=rsa-sha256; c=relaxed/relaxed; d=1e100.net; s=20230601; t=1747531186; x=1748135986; h=cc:to:from:subject:message-id:date:x-gm-message-state:from:to:cc :subject:date:message-id:reply-to; bh=87kOGVE+4BqL6EDpU6aZo8YWYtWLyTInw5qO65+1bQc=; b=fI5Vc5ITYFzVk4gJiqzSviNlTQ0sJg32POpIrITe++9XopvwSD9+lMI5jasZm3Zgwp r7EMf7yX+pcVyY4Hj7y4RODFMUjrnr00KW+eNw40aJrtfuD5j9Ske4uekRGboMvMf3T8 ESxOjRXx07+Ac2mrkCcNsCYGt4ShMoIMm8xJPOy+PQN70t+3kgeVypsP2uhb0eh6zOqX T/GMDtl8zbqYlpBtdDsx6gS8pJs2xuTT3qaqCcT+B3K+wTWnXDgTtXxOxxuz22QEl5io KMt4u6XPwNf4mQ3jd4iDr8ZStZ/nbVK+pu2SOng+PtR7dpoq6063clzTkCQAJzAYStJJ Dhrw== X-Gm-Message-State: AOJu0YyAs79mKb7L15rwIhvUzd2OYCOWbJpYvmaOCBMNxIPS3hibQpIZ aTakWuOHYIrd5gkarHdE6uxeSTiurHV8PCSb8kUlY1PKLb1JdY5Ye24lqRk+AwlRfPcQVkuWCjE jphb/ZhgTDTAQUo2wpOvN9PaikfPVa66DlZJxfmgvsKRm X-Gm-Gg: ASbGncuM7QVQmm85wyQwJVhUp6myyu0nVUUA/s//9IxK4g+1sA7ndb8ruFpfRwLTz+Z JWw/XeSpDkmFyc2kg1g2fpcYbmaYtJbSCrKtHl5/valL1aDF/+tdM4H9MQokS0QRv4W45sdEcQp ok59jOr/Id2sqx+/7KQ7DulpocyipjvGAMrxAjxpYd3L8RLgeaHJk0vMvxNUP4ovuJejBeO03AA /w+RotQ02Oq2DOLt+o9PxfTT1RTxiFZZ0Ri95abUC3jnQvjAOxMw13yUaVkvhDSGBueijAtRWU6 tbxFHIfWe2G7XMkycSP8n4h0k2hDcMHxi4FnFjOcg9x5Jr7ezkDIxG6xRKI= X-Google-Smtp-Source: AGHT+IE60Cvzb6N5qmoKrX28jXjTg6RDgOHBwv4xKSUo98Cw5QhjCQATbzjgn5zNuJZK2dMO6S8HZVQ6DR// X-Received: by 2002:a05:6a20:3944:b0:1f5:591b:4f73 with SMTP id adf61e73a8af0-216219dd5d4mr14906747637.34.1747531186290; Sat, 17 May 2025 18:19:46 -0700 (PDT) Received: from postal.iol.unh.edu (postal.iol.unh.edu. [132.177.123.84]) by smtp-relay.gmail.com with ESMTPS id d9443c01a7336-231d4eb9fcdsm2602695ad.106.2025.05.17.18.19.46 (version=TLS1_2 cipher=ECDHE-ECDSA-AES128-GCM-SHA256 bits=128/128); Sat, 17 May 2025 18:19:46 -0700 (PDT) X-Relaying-Domain: iol.unh.edu Date: Sat, 17 May 2025 18:19:46 -0700 (PDT) Message-ID: <682935b2.170a0220.3ea36.eacdSMTPIN_ADDED_MISSING@mx.google.com> Received: from [172.17.0.2] (unknown [172.18.0.76]) by postal.iol.unh.edu (Postfix) with ESMTP id 63EE36052471; Sat, 17 May 2025 21:19:45 -0400 (EDT) Subject: |SUCCESS| [GIT MASTER] 117e86c4b96ed761e9a7ab766261208fe81bf5ca From: dpdklab@iol.unh.edu To: Test Report Cc: dpdk-test-reports@iol.unh.edu Content-Type: text/plain X-BeenThere: test-report@dpdk.org X-Mailman-Version: 2.1.29 Precedence: list List-Id: automatic DPDK test reports List-Unsubscribe: , List-Archive: List-Post: List-Help: List-Subscribe: , Errors-To: test-report-bounces@dpdk.org _Testing PASS_ Branch: dpdk 117e86c4b96ed761e9a7ab766261208fe81bf5ca --> testing pass Upstream job id: Generic-Unit-Test-DPDK#338863 Test environment and result as below: +-----------------------------+----------------+------------------------------+---------------------------+--------------+ | Environment | dpdk_unit_test | cryptodev_sw_snow3g_autotest | cryptodev_sw_zuc_autotest | lpm_autotest | +=============================+================+==============================+===========================+==============+ | CentOS Stream 9 (ARM) | PASS | SKIPPED | SKIPPED | SKIPPED | +-----------------------------+----------------+------------------------------+---------------------------+--------------+ | CentOS Stream 10 (ARM) | PASS | SKIPPED | SKIPPED | SKIPPED | +-----------------------------+----------------+------------------------------+---------------------------+--------------+ | Fedora 40 (ARM Clang) | PASS | SKIPPED | SKIPPED | SKIPPED | +-----------------------------+----------------+------------------------------+---------------------------+--------------+ | Ubuntu 22.04 (ARM) | PASS | SKIPPED | SKIPPED | SKIPPED | +-----------------------------+----------------+------------------------------+---------------------------+--------------+ | RHEL9 (ARM) | PASS | SKIPPED | SKIPPED | SKIPPED | +-----------------------------+----------------+------------------------------+---------------------------+--------------+ | Fedora 41 (ARM) | PASS | SKIPPED | SKIPPED | SKIPPED | +-----------------------------+----------------+------------------------------+---------------------------+--------------+ | Debian 12 (arm) | PASS | PASS | PASS | SKIPPED | +-----------------------------+----------------+------------------------------+---------------------------+--------------+ | Ubuntu 24.04 (ARM) | PASS | SKIPPED | SKIPPED | SKIPPED | +-----------------------------+----------------+------------------------------+---------------------------+--------------+ | Ubuntu 20.04 (ARM) | PASS | SKIPPED | SKIPPED | SKIPPED | +-----------------------------+----------------+------------------------------+---------------------------+--------------+ | Fedora 40 (ARM) | PASS | SKIPPED | SKIPPED | SKIPPED | +-----------------------------+----------------+------------------------------+---------------------------+--------------+ | Fedora 41 (ARM Clang) | PASS | SKIPPED | SKIPPED | SKIPPED | +-----------------------------+----------------+------------------------------+---------------------------+--------------+ | 32-bit Ubuntu 22.04.4 (ARM) | PASS | SKIPPED | SKIPPED | SKIPPED | +-----------------------------+----------------+------------------------------+---------------------------+--------------+ | Ubuntu 20.04 ARM SVE | SKIPPED | SKIPPED | SKIPPED | PASS | +-----------------------------+----------------+------------------------------+---------------------------+--------------+ CentOS Stream 9 (ARM) Kernel: Depends on container host Compiler: gcc 11.5.0 20240719 (Red Hat 11.5.0-2) CentOS Stream 10 (ARM) Kernel: Depends on container host Compiler: gcc 14.2.1 20241104 (Red Hat 14.2.1-6) Fedora 40 (ARM Clang) Kernel: Depends on container host Compiler: clang 18.1.8 (Fedora 18.1.8-1.fc40) Ubuntu 22.04 (ARM) Kernel: Depends on container host Compiler: gcc (Ubuntu 11.4.0-1ubuntu1~22.04) 11.4.0 RHEL9 (ARM) Kernel: Depends on container host Compiler: gcc 11.5.0 20240719 (Red Hat 11.5.0-2) Fedora 41 (ARM) Kernel: Depends on container host Compiler: gcc 14.2.1 20240912 (Red Hat 14.2.1-3) Debian 12 (arm) Kernel: Depends on container host Compiler: gcc (Debian 12.2.0-14) 12.2.0 Ubuntu 24.04 (ARM) Kernel: Depends on container host Compiler: gcc (Ubuntu 13.3.0-6ubuntu2~24.04) 13.3.0 Ubuntu 20.04 (ARM) Kernel: Depends on container host Compiler: gcc (Ubuntu 9.4.0-1ubuntu1~20.04.2) 9.4.0 Fedora 40 (ARM) Kernel: Depends on container host Compiler: gcc 14.2.1 20240912 (Red Hat 14.2.1-3) Fedora 41 (ARM Clang) Kernel: Depends on container host Compiler: clang 19.1.5 (Fedora 19.1.5-1.fc41) 32-bit Ubuntu 22.04.4 (ARM) Kernel: 5.15.83+ aarch64 Compiler: gcc (Ubuntu 11.4.0-1ubuntu1~22.04) 11.4.0 Ubuntu 20.04 ARM SVE Kernel: Depends on container host Compiler: gcc (Ubuntu 10.5.0-1ubuntu1~20.04) 10.5.0 To view detailed results, visit: https://lab.dpdk.org/results/dashboard/tarballs/33572/ UNH-IOL DPDK Community Lab To manage your email subscriptions, visit: https://lab.dpdk.org/results/dashboard/preferences/subscriptions/