From mboxrd@z Thu Jan 1 00:00:00 1970 Return-Path: Received: from mails.dpdk.org (mails.dpdk.org [217.70.189.124]) by inbox.dpdk.org (Postfix) with ESMTP id 6084346779 for ; Sun, 18 May 2025 05:42:34 +0200 (CEST) Received: from mails.dpdk.org (localhost [127.0.0.1]) by mails.dpdk.org (Postfix) with ESMTP id 3DBA54027D; Sun, 18 May 2025 05:42:34 +0200 (CEST) Received: from mail-qk1-f227.google.com (mail-qk1-f227.google.com [209.85.222.227]) by mails.dpdk.org (Postfix) with ESMTP id 8392C400D6 for ; Sun, 18 May 2025 05:42:33 +0200 (CEST) Received: by mail-qk1-f227.google.com with SMTP id af79cd13be357-7c5a88b34a6so361391485a.3 for ; Sat, 17 May 2025 20:42:33 -0700 (PDT) DKIM-Signature: v=1; a=rsa-sha256; c=relaxed/relaxed; d=iol.unh.edu; s=unh-iol; t=1747539753; x=1748144553; darn=dpdk.org; h=cc:to:from:subject:message-id:date:from:to:cc:subject:date :message-id:reply-to; bh=jQ7b/lZPjcf/y0iDp88/VfPrh6dbpVkQu3D9ZuOUA8E=; b=LtecoXpVUKuEsuqGWGl9i5imzlrMrksWykrD/UlXhFYksdUsDG/Tf0/yZ3+qKX2yrP THZThIq9in4CFzzbJDCF8og7hF+fV6lZ2gsAuefxVleaCFl8ChnkA/g2YfPwBekpKShC mgrYmQMKTN/tAChzeLzuZKMJLN2dXeKgbfdF4= X-Google-DKIM-Signature: v=1; a=rsa-sha256; c=relaxed/relaxed; d=1e100.net; s=20230601; t=1747539753; x=1748144553; h=cc:to:from:subject:message-id:date:x-gm-message-state:from:to:cc :subject:date:message-id:reply-to; bh=jQ7b/lZPjcf/y0iDp88/VfPrh6dbpVkQu3D9ZuOUA8E=; b=Jk4hhTH/SmtvWfsbzYkqmaJik18CnRW+8yNLdeYEXUVaIEGl7t5jN3Y7lVbKR3yyL/ jX1/89aKIIvBuD+u1HDp7HgvPM0RcZpDw4BAoDm6MqvqRbkstOxa4Z4M4+L3nZMaDHxw lZ3sgCiLCA/DLG6RHO92L5HEbaD9ScGaatU6UYtPoMMmzJE1JcK5rjorGP4pelyAS+fw oa6+JOobruFBMLlhXqAhsUN4DZIAbSVcsNiKFYkpLoMIPcB4mPjOVXJRxBjxkLSvqfuI ttmzHUhjnbag4E1WY6BpC/VLIsg2pTBc/zMMw25vKXXHiV7z/bhUpemlTgC32SQH2KOl YJmw== X-Gm-Message-State: AOJu0YxxKmkUoh/YbIKM0D7Z5scrCtWI78N9+lJE0vlwUf47NL+hZDKD +6TdhWBhLBiQcovw745OPFPEfkW94l4xDlpjLliYTr7EhUxRY6LOJZIiW+cyZ70xJ6Fr2YKoyzc 9Oexhe4PosglOnYhZOTXfH7+14PcOCn0Wg+ugE0F+JnbJ5AXlYhOB0HAktugm X-Gm-Gg: ASbGncuJXbsd4eBVajneX8ivhI518hlZJVfPfGuj6QhY7teTyf9Vvp5mEfPK8QnvbU6 EDQOW49zUrFcC83XDL987xhx4r4eKXaaB3SQTjUkFLHClrQ7Lp4lwIg1Jq/3/G3f9SoNa02fqvv /opmbrLxv8ZWi0j5mi6iS080tzukpxqvphrw1QXcMgIg1MFTBDhUEOtDs1R5QAgoFf1LkXfotdb NZvLlwp5Jq5k/A7cwQdnFY6MghKXVKQFh6geO5HFLut0LW8O5lTwEkRt1VbMRzDKd2ljUljP53t 6oEp097e/eUbDQnMmzEyIdc4LjB88D7pmfmq X-Google-Smtp-Source: AGHT+IEDdOipyV1f8eu8tsvMKAHbSbq3OssxxHifLnwDtIYBxhJPkRx/GEJw5JEYSR5DYKnPO32W62tkTudc X-Received: by 2002:a05:620a:318d:b0:7c5:5670:bd6f with SMTP id af79cd13be357-7cd47fee743mr1435609185a.53.1747539752761; Sat, 17 May 2025 20:42:32 -0700 (PDT) Received: from postal.iol.unh.edu (postal.iol.unh.edu. [2606:4100:3880:1234::84]) by smtp-relay.gmail.com with ESMTPS id 6a1803df08f44-6f8b089cdd8sm1854166d6.2.2025.05.17.20.42.32 (version=TLS1_2 cipher=ECDHE-ECDSA-AES128-GCM-SHA256 bits=128/128); Sat, 17 May 2025 20:42:32 -0700 (PDT) X-Relaying-Domain: iol.unh.edu Date: Sat, 17 May 2025 20:42:32 -0700 (PDT) Message-ID: <68295728.050a0220.261259.ac1aSMTPIN_ADDED_MISSING@mx.google.com> Received: from [172.17.0.2] (unknown [172.18.0.76]) by postal.iol.unh.edu (Postfix) with ESMTP id 6E89E6052471; Sat, 17 May 2025 23:42:32 -0400 (EDT) Subject: |SUCCESS| [GIT MASTER] 117e86c4b96ed761e9a7ab766261208fe81bf5ca From: dpdklab@iol.unh.edu To: Test Report Cc: dpdk-test-reports@iol.unh.edu Content-Type: text/plain X-BeenThere: test-report@dpdk.org X-Mailman-Version: 2.1.29 Precedence: list List-Id: automatic DPDK test reports List-Unsubscribe: , List-Archive: List-Post: List-Help: List-Subscribe: , Errors-To: test-report-bounces@dpdk.org _Testing PASS_ Branch: dpdk 117e86c4b96ed761e9a7ab766261208fe81bf5ca --> testing pass Upstream job id: Generic-DPDK-Compile-Meson#389188 Test environment and result as below: +----------------------------------------+--------------------+ | Environment | dpdk_meson_compile | +========================================+====================+ | RHEL9 (ARM) | PASS | +----------------------------------------+--------------------+ | Ubuntu 20.04 ARM GCC Cross Compile | PASS | +----------------------------------------+--------------------+ | Ubuntu 20.04 ARM SVE | PASS | +----------------------------------------+--------------------+ | Debian 12 with MUSDK | PASS | +----------------------------------------+--------------------+ | Fedora 40 (ARM) | PASS | +----------------------------------------+--------------------+ | Fedora 41 (ARM) | PASS | +----------------------------------------+--------------------+ | Fedora 40 (ARM Clang) | PASS | +----------------------------------------+--------------------+ | Ubuntu 20.04 (ARM) | PASS | +----------------------------------------+--------------------+ | Ubuntu 20.04 ARM Clang Cross Compile | PASS | +----------------------------------------+--------------------+ | Ubuntu 22.04 (ARM) | PASS | +----------------------------------------+--------------------+ | CentOS Stream 9 (ARM) | PASS | +----------------------------------------+--------------------+ | CentOS Stream 10 (ARM) | PASS | +----------------------------------------+--------------------+ | Ubuntu 24.04 (ARM) | PASS | +----------------------------------------+--------------------+ | Debian 12 (arm) | PASS | +----------------------------------------+--------------------+ | Ubuntu 20.04 aarch32 GCC Cross Compile | PASS | +----------------------------------------+--------------------+ | Fedora 41 (ARM Clang) | PASS | +----------------------------------------+--------------------+ RHEL9 (ARM) Kernel: Depends on container host Compiler: gcc 11.5.0 20240719 (Red Hat 11.5.0-2) Ubuntu 20.04 ARM GCC Cross Compile Kernel: Depends on container host Compiler: aarch64-linux-gnu-gcc (Ubuntu 9.4.0-1ubuntu1~20.04.2) 9.4.0 Ubuntu 20.04 ARM SVE Kernel: Depends on container host Compiler: gcc (Ubuntu 10.5.0-1ubuntu1~20.04) 10.5.0 Debian 12 with MUSDK Kernel: Depends on container host Compiler: gcc (Debian 12.2.0-14) 12.2.0 Fedora 40 (ARM) Kernel: Depends on container host Compiler: gcc 14.2.1 20240912 (Red Hat 14.2.1-3) Fedora 41 (ARM) Kernel: Depends on container host Compiler: gcc 14.2.1 20240912 (Red Hat 14.2.1-3) Fedora 40 (ARM Clang) Kernel: Depends on container host Compiler: clang 18.1.8 (Fedora 18.1.8-1.fc40) Ubuntu 20.04 (ARM) Kernel: Depends on container host Compiler: gcc (Ubuntu 9.4.0-1ubuntu1~20.04.2) 9.4.0 Ubuntu 20.04 ARM Clang Cross Compile Kernel: Depends on container host Compiler: clang 10.0.0-4ubuntu1 Ubuntu 22.04 (ARM) Kernel: Depends on container host Compiler: gcc (Ubuntu 11.4.0-1ubuntu1~22.04) 11.4.0 CentOS Stream 9 (ARM) Kernel: Depends on container host Compiler: gcc 11.5.0 20240719 (Red Hat 11.5.0-2) CentOS Stream 10 (ARM) Kernel: Depends on container host Compiler: gcc 14.2.1 20241104 (Red Hat 14.2.1-6) Ubuntu 24.04 (ARM) Kernel: Depends on container host Compiler: gcc (Ubuntu 13.3.0-6ubuntu2~24.04) 13.3.0 Debian 12 (arm) Kernel: Depends on container host Compiler: gcc (Debian 12.2.0-14) 12.2.0 Ubuntu 20.04 aarch32 GCC Cross Compile Kernel: Depends on container host Compiler: gcc 9.4.0 Fedora 41 (ARM Clang) Kernel: Depends on container host Compiler: clang 19.1.5 (Fedora 19.1.5-1.fc41) To view detailed results, visit: https://lab.dpdk.org/results/dashboard/tarballs/33572/ UNH-IOL DPDK Community Lab To manage your email subscriptions, visit: https://lab.dpdk.org/results/dashboard/preferences/subscriptions/