From mboxrd@z Thu Jan 1 00:00:00 1970 Return-Path: Received: from mails.dpdk.org (mails.dpdk.org [217.70.189.124]) by inbox.dpdk.org (Postfix) with ESMTP id 25D274677A for ; Sun, 18 May 2025 06:54:33 +0200 (CEST) Received: from mails.dpdk.org (localhost [127.0.0.1]) by mails.dpdk.org (Postfix) with ESMTP id 05A314027D; Sun, 18 May 2025 06:54:33 +0200 (CEST) Received: from mail-yb1-f226.google.com (mail-yb1-f226.google.com [209.85.219.226]) by mails.dpdk.org (Postfix) with ESMTP id DBE95400D6 for ; Sun, 18 May 2025 06:54:31 +0200 (CEST) Received: by mail-yb1-f226.google.com with SMTP id 3f1490d57ef6-e7b8f7deecaso438744276.2 for ; Sat, 17 May 2025 21:54:31 -0700 (PDT) DKIM-Signature: v=1; a=rsa-sha256; c=relaxed/relaxed; d=iol.unh.edu; s=unh-iol; t=1747544071; x=1748148871; darn=dpdk.org; h=cc:to:from:subject:message-id:date:from:to:cc:subject:date :message-id:reply-to; bh=qMZ1R72FENidETvjaHIvpMVtebYiL4m2X4//6xx8Ww8=; b=BsLIb49ZZ3K/daR1GH5XqmJ6/7dUprmDIMpU0+VP3V1QhBav+YcfPavJjvU1dOd71h ar2MM/rCAIEhpxEgzRwVz/udor21q+B78fHSQYp0TePIBc/TymC184do97AyFd8ip8V5 +e3wQgYO4B8BBWpAwVfcbdC5QW7jF6bTz1HX8= X-Google-DKIM-Signature: v=1; a=rsa-sha256; c=relaxed/relaxed; d=1e100.net; s=20230601; t=1747544071; x=1748148871; h=cc:to:from:subject:message-id:date:x-gm-message-state:from:to:cc :subject:date:message-id:reply-to; bh=qMZ1R72FENidETvjaHIvpMVtebYiL4m2X4//6xx8Ww8=; b=Jt9y+omPK6tfCZuIoT9aCwM+FQNOa+jyyh7GQoSmAvLr/TsrDaofeLJx6viLkC/4eu +qfs96Gf2y/cZJ9SqPjUJlvgsHEINgGrXoCKxpyd+z7iRbb4h54dt+LXBglzT396nfcY 16mbmP4biPXaMlVenOtW1SflFqAOHozA55AjEc5gNH0K0qW5YbcDD2ePg10lJD5YGola LO2DMcD8BkBZ6CweBDKQFrYLBDCFtzBSi+bb2kiOMFZQiU+6jllKY59GOY2okb0x8o98 eRnV+VBGh5t70aN8w30xyTr2g5VkhfTOi9IQ/+S49pnGfHKp2U3e4UABbAX/WgZ2nSF+ pqFg== X-Gm-Message-State: AOJu0Yx21uPNZUJzxpnxxgvGsh1tfjdh6GzXeikjqLsweNgMyNTfUW/c LWAhyCIIiCZKcw9nF1/1D6D6OFah54hIVtOg1fIcnwFEHWD6PijwrOe5jcFypZcpP8EfMPB4zn2 zS3k2wmWg11BLEr8F8pgCoGeVojvb77mb29B3 X-Gm-Gg: ASbGncuhs0WApmZiqRhjzAIFXUM/tWy4HRtuFtPZlYJz1U4hUznoSBSFyAwuFxYWyur LAOUt91zlzUykLRcU+/7dmxHUtXLlWKi0PSKWPLKcuzM7tCMKYdGpSPyywGGPolZCqGjfKce5bu +8ZO1WZuIWkxnR0UdY5roV87Tu7c1vgjcjo3sDbgBy7C8AaXj7qYN5EBeQBT+Mr+he2WLK5aYTR W3u6LWHGJTo8C39O0iSqhJFdkLQra8smb/5OLwcDLK3SpWEiuE1zpOUA4S9V4mAxqR1mm41y5OO bqSTLM11HxGDENO/jyyhUQiVBLE4ZXsFQXDXjhtiOwizQ7hh3qWSCH3ZEvU= X-Google-Smtp-Source: AGHT+IFBZUDut79MIqM1o+5gkO6GUosrp6jUHhTea3bIa2Dob5eKGhaaLpsJWQ8IVg77LR9GETNJbPNKETxO X-Received: by 2002:a05:6902:2506:b0:e75:33fd:e7f8 with SMTP id 3f1490d57ef6-e7b6d58d3camr11149586276.46.1747544071087; Sat, 17 May 2025 21:54:31 -0700 (PDT) Received: from postal.iol.unh.edu (postal.iol.unh.edu. [132.177.123.84]) by smtp-relay.gmail.com with ESMTPS id 3f1490d57ef6-e7b6ad0d435sm230110276.16.2025.05.17.21.54.31 (version=TLS1_2 cipher=ECDHE-ECDSA-AES128-GCM-SHA256 bits=128/128); Sat, 17 May 2025 21:54:31 -0700 (PDT) X-Relaying-Domain: iol.unh.edu Date: Sat, 17 May 2025 21:54:31 -0700 (PDT) Message-ID: <68296807.250a0220.39c02.bf00SMTPIN_ADDED_MISSING@mx.google.com> Received: from [172.21.0.5] (unknown [172.18.0.240]) by postal.iol.unh.edu (Postfix) with ESMTP id 70AD26052471; Sun, 18 May 2025 00:54:30 -0400 (EDT) Subject: |SUCCESS| [GIT MASTER] 83a7a648344674c0269fcaeb71d8d16468421a0e From: dpdklab@iol.unh.edu To: Test Report Cc: dpdk-test-reports@iol.unh.edu, Xueming Li , Christian Ehrhardt , Kevin Traynor , Luca Boccassi Content-Type: text/plain X-BeenThere: test-report@dpdk.org X-Mailman-Version: 2.1.29 Precedence: list List-Id: automatic DPDK test reports List-Unsubscribe: , List-Archive: List-Post: List-Help: List-Subscribe: , Errors-To: test-report-bounces@dpdk.org _Testing PASS_ Branch: tags/v23.11 83a7a648344674c0269fcaeb71d8d16468421a0e --> testing pass Upstream job id: Generic-DPDK-Compile-ABI#126849 Test environment and result as below: +-------------------+----------+ | Environment | abi_test | +===================+==========+ | CentOS Stream 10 | PASS | +-------------------+----------+ | CentOS Stream 9 | PASS | +-------------------+----------+ | Debian 12 | PASS | +-------------------+----------+ | Fedora 40 | PASS | +-------------------+----------+ | Fedora 41 (Clang) | PASS | +-------------------+----------+ | Fedora 40 (Clang) | PASS | +-------------------+----------+ | Fedora 41 | PASS | +-------------------+----------+ | openSUSE Leap 15 | PASS | +-------------------+----------+ | RHEL8 | PASS | +-------------------+----------+ | Ubuntu 22.04 | PASS | +-------------------+----------+ | RHEL9 | PASS | +-------------------+----------+ | Ubuntu 24.04 | PASS | +-------------------+----------+ CentOS Stream 10 Kernel: Depends on container host Compiler: gcc 14.2.1 20241104 (Red Hat 14.2.1-6) CentOS Stream 9 Kernel: Depends on container host Compiler: gcc 11.5.0 20240719 (Red Hat 11.5.0-2) Debian 12 Kernel: Depends on container host Compiler: gcc (Debian 12.2.0-14) 12.2.0 Fedora 40 Kernel: Depends on container host Compiler: gcc 14.2.1 20240912 (Red Hat 14.2.1-3) Fedora 41 (Clang) Kernel: Depends on container host Compiler: clang 19.1.5 (Fedora 19.1.5-1.fc41) Fedora 40 (Clang) Kernel: Depends on container host Compiler: clang 18.1.8 (Fedora 18.1.8-1.fc40) Fedora 41 Kernel: Depends on container host Compiler: gcc 14.2.1 20240912 (Red Hat 14.2.1-3) openSUSE Leap 15 Kernel: Depends on container host Compiler: gcc (SUSE Linux) 7.5.0 RHEL8 Kernel: Depends on container host Compiler: gcc 8.5.0 20210514 (Red Hat 8.5.0-22) Ubuntu 22.04 Kernel: Depends on container host Compiler: gcc (Ubuntu 11.4.0-1ubuntu1~22.04) 11.4.0 RHEL9 Kernel: Depends on container host Compiler: gcc 11.5.0 20240719 (Red Hat 11.5.0-2) Ubuntu 24.04 Kernel: Depends on container host Compiler: gcc (Ubuntu 13.3.0-6ubuntu2~24.04) 13.3.0 To view detailed results, visit: https://lab.dpdk.org/results/dashboard/tarballs/33575/ UNH-IOL DPDK Community Lab To manage your email subscriptions, visit: https://lab.dpdk.org/results/dashboard/preferences/subscriptions/