From mboxrd@z Thu Jan 1 00:00:00 1970 Return-Path: Received: from mails.dpdk.org (mails.dpdk.org [217.70.189.124]) by inbox.dpdk.org (Postfix) with ESMTP id 640494677A for ; Sun, 18 May 2025 07:49:50 +0200 (CEST) Received: from mails.dpdk.org (localhost [127.0.0.1]) by mails.dpdk.org (Postfix) with ESMTP id 605194027D; Sun, 18 May 2025 07:49:50 +0200 (CEST) Received: from mail-il1-f226.google.com (mail-il1-f226.google.com [209.85.166.226]) by mails.dpdk.org (Postfix) with ESMTP id 952C4400D6 for ; Sun, 18 May 2025 07:49:48 +0200 (CEST) Received: by mail-il1-f226.google.com with SMTP id e9e14a558f8ab-3d80bbf3aefso7376235ab.1 for ; Sat, 17 May 2025 22:49:48 -0700 (PDT) DKIM-Signature: v=1; a=rsa-sha256; c=relaxed/relaxed; d=iol.unh.edu; s=unh-iol; t=1747547388; x=1748152188; darn=dpdk.org; h=cc:to:from:subject:message-id:date:from:to:cc:subject:date :message-id:reply-to; bh=bpdGDQLMqVM5WCzrDshuX1zM+Dx/DzaXse0VW9lHhoo=; b=Siu8H2QCflH2ZjJiIhQJ2ShUhDAh2tKg66H42jrCNT6LyMSG1wH8z/neecch+V/9Ic /79J/OYYV5T+SgO0zkCV4yAL/AkoohT3tsRNjPcENuKAMP/ThDHTXL3lzvhqliX5fGXG sWXLwL50XlMqp/QxU3DuDQZlzNkYuZMdVx7FM= X-Google-DKIM-Signature: v=1; a=rsa-sha256; c=relaxed/relaxed; d=1e100.net; s=20230601; t=1747547388; x=1748152188; h=cc:to:from:subject:message-id:date:x-gm-message-state:from:to:cc :subject:date:message-id:reply-to; bh=bpdGDQLMqVM5WCzrDshuX1zM+Dx/DzaXse0VW9lHhoo=; b=LTiEv/PpqYZFnnQ8Lb5JO8kDdJwTjgaONfqKoQIRSnzW7nQjIIfb7BAXsdC7TMnX/G L+yk1uJgzHeL/U0q0BZwj3t9dfzrs0IwxyZ9lt4upg1YEVyDKtjTxaoqKKhDmWtRvJti 2/85xCfpMRClws+KMLXQhIkJqaZJyhwVxAHxvAs22Jo5Cw9YE5drg99CtmNcrLi0zBJk 3ELs0iwb+Xrir9qUrFQEiuDTUG6FZWYm6XqqAZt4rWuR93g9C0gjDGg1ybVxuYXTg4Xe cDoMdONMNLdgGFS+2EpR+ptM66NH2RbF5ikp+j+/9arYb4XU33PBihQ8qDFOG/m7wAcs yMxA== X-Gm-Message-State: AOJu0YyizUldnW+BV4yvlSXoo4JiXDf/WQS8Hqq+4sP8UUIq4ZrzKD70 D28DpdS/LzGraatvwJxI1vjmofwQ13HarJqUVkDpr2Xpz9fetoVWu9FTQ0WgW5jwsizv26LwCI2 tviy1mttJBv6gMNNmWirxc3FQsIsRTYpz7ccro8TBRGZk1yRJQhAQ X-Gm-Gg: ASbGncu4Wcqz5D3kU1XHlHlMYus+wLTfVIDuhNNOMKYIepmhpGQ2rPXJiq7ijSRlkcN D3aAfLMKqCPBHSIcVHBR30VA9LvOANZ2U5y4hPEwYioXWIvg4hs0PlyYOWTcoV5Nd5dwwptQumJ Ycpthm4C2dsRjj+MZgiRi1k1i+nI+02L36NbbPm6DDTGDuz4lpSQzYe1Ib7SeC+Nr0WNKMX2iUF PFz94HRXWk71iqLlGYc5C/o4QdFgpHqeJnKkF6Zt4aUmsNBgVaAHjppiNNubCHJ7ZEEM/lt6Pss DbHvmB4U73/DE4QTs7vurmgMeGubW7zJtFiT X-Google-Smtp-Source: AGHT+IHal5aY6M94s1RWedCdi5PE2x1kK+ZdLugGB/SWYnNIQOH4Sk5XsOtYmS1UqmiB+8bSC44OzsHpd1+x X-Received: by 2002:a05:6e02:3e06:b0:3d5:893a:93ea with SMTP id e9e14a558f8ab-3db843046c6mr88582495ab.13.1747547387813; Sat, 17 May 2025 22:49:47 -0700 (PDT) Received: from postal.iol.unh.edu (postal.iol.unh.edu. [2606:4100:3880:1234::84]) by smtp-relay.gmail.com with ESMTPS id e9e14a558f8ab-3db8441e26bsm2043255ab.21.2025.05.17.22.49.47 (version=TLS1_2 cipher=ECDHE-ECDSA-AES128-GCM-SHA256 bits=128/128); Sat, 17 May 2025 22:49:47 -0700 (PDT) X-Relaying-Domain: iol.unh.edu Date: Sat, 17 May 2025 22:49:47 -0700 (PDT) Message-ID: <682974fb.920a0220.31d65d.b2daSMTPIN_ADDED_MISSING@mx.google.com> Received: from [172.21.0.5] (unknown [172.18.0.240]) by postal.iol.unh.edu (Postfix) with ESMTP id 1FBCC6052471; Sun, 18 May 2025 01:49:47 -0400 (EDT) Subject: |SUCCESS| [GIT MASTER] 4401486b5e30d43a134f80f9802f60b5f43e74a8 From: dpdklab@iol.unh.edu To: Test Report Cc: dpdk-test-reports@iol.unh.edu, Xueming Li , Christian Ehrhardt , Kevin Traynor , Luca Boccassi Content-Type: text/plain X-BeenThere: test-report@dpdk.org X-Mailman-Version: 2.1.29 Precedence: list List-Id: automatic DPDK test reports List-Unsubscribe: , List-Archive: List-Post: List-Help: List-Subscribe: , Errors-To: test-report-bounces@dpdk.org _Testing PASS_ Branch: tags/v22.11 4401486b5e30d43a134f80f9802f60b5f43e74a8 --> testing pass Upstream job id: Generic-Unit-Test-DPDK#338888 Test environment and result as below: +-----------------------------+---------------------------+--------------+------------------------------+----------------+ | Environment | cryptodev_sw_zuc_autotest | lpm_autotest | cryptodev_sw_snow3g_autotest | dpdk_unit_test | +=============================+===========================+==============+==============================+================+ | Debian 12 (arm) | PASS | SKIPPED | PASS | SKIPPED | +-----------------------------+---------------------------+--------------+------------------------------+----------------+ | Ubuntu 20.04 ARM SVE | SKIPPED | PASS | SKIPPED | SKIPPED | +-----------------------------+---------------------------+--------------+------------------------------+----------------+ | 32-bit Ubuntu 22.04.4 (ARM) | SKIPPED | SKIPPED | SKIPPED | PASS | +-----------------------------+---------------------------+--------------+------------------------------+----------------+ Debian 12 (arm) Kernel: Depends on container host Compiler: gcc (Debian 12.2.0-14) 12.2.0 Ubuntu 20.04 ARM SVE Kernel: Depends on container host Compiler: gcc (Ubuntu 10.5.0-1ubuntu1~20.04) 10.5.0 32-bit Ubuntu 22.04.4 (ARM) Kernel: 5.15.83+ aarch64 Compiler: gcc (Ubuntu 11.4.0-1ubuntu1~22.04) 11.4.0 To view detailed results, visit: https://lab.dpdk.org/results/dashboard/tarballs/33574/ UNH-IOL DPDK Community Lab To manage your email subscriptions, visit: https://lab.dpdk.org/results/dashboard/preferences/subscriptions/