From mboxrd@z Thu Jan 1 00:00:00 1970 Return-Path: Received: from mails.dpdk.org (mails.dpdk.org [217.70.189.124]) by inbox.dpdk.org (Postfix) with ESMTP id 0B9724677B for ; Sun, 18 May 2025 08:04:53 +0200 (CEST) Received: from mails.dpdk.org (localhost [127.0.0.1]) by mails.dpdk.org (Postfix) with ESMTP id D8E714027D; Sun, 18 May 2025 08:04:52 +0200 (CEST) Received: from mail-pj1-f100.google.com (mail-pj1-f100.google.com [209.85.216.100]) by mails.dpdk.org (Postfix) with ESMTP id 261AD400D6 for ; Sun, 18 May 2025 08:04:52 +0200 (CEST) Received: by mail-pj1-f100.google.com with SMTP id 98e67ed59e1d1-30e542e4187so2395163a91.3 for ; Sat, 17 May 2025 23:04:52 -0700 (PDT) DKIM-Signature: v=1; a=rsa-sha256; c=relaxed/relaxed; d=iol.unh.edu; s=unh-iol; t=1747548290; x=1748153090; darn=dpdk.org; h=cc:to:from:subject:message-id:date:from:to:cc:subject:date :message-id:reply-to; bh=kMQJrVUnB8qNeOrUrdu/tzlZc2USteAvvLBheRQqVSo=; b=TCmHfuw7/neXdhnoLRR8PQsmgEruRZkhImVJS1VvH+LxNeduNh5J2ZhFQn/HaYhUla lrGT2ZKvbW8ybdKwVnvW9KuSE6znCCAgrrTD2mnenBCYSKvNqbl9zLLNkdJKmVrZisqW yOxRLayr0I7b5j0/xCpLrLCiqPPGCJlVGw4VU= X-Google-DKIM-Signature: v=1; a=rsa-sha256; c=relaxed/relaxed; d=1e100.net; s=20230601; t=1747548290; x=1748153090; h=cc:to:from:subject:message-id:date:x-gm-message-state:from:to:cc :subject:date:message-id:reply-to; bh=kMQJrVUnB8qNeOrUrdu/tzlZc2USteAvvLBheRQqVSo=; b=RRTxNFPnCsFL67MCiyJ3aISCOSkSi4UJ82FSQQsGo9+ye2X9bD85ZVL53NSBJny6AS hMR1uBbsp63eNWeXUq8n2F7chUyKXoDs/imfAV7Pi1wO0LKanG1pnqi8KcvUiDgz/U3g R53xkCfw0D5reSNjgDEEZa/X7GMJ84PZbUON54QxUU7ZXvNcAwnDlB099ODNMJl3dcSR wepZdaa+27X9UEr6a4ai0IyXpwzB5vtSIIhGp5drFVss94hOcm/uo195sBSFowADVS3P h5J19wRMevvUJABUnFyWsNJfLbfjtbRxShpxyq12ghemrcsGz1l8Bg1vHPur2xUTYDKF rQPA== X-Gm-Message-State: AOJu0YxhXECtreDxOm9Me4HnSCcFqtwolq8uh9KYpDd9/RY95XQsFlOw EI91V6A5gA6sUKxNIYTJSmKwkTONmevhZY5uB/4fqaX1luLFRk+/bvTBu5LBaay1Vk4NfFSLYhF Os0F7Wvc7QnUFbF4Nc8dtVCg4Ha//gAPvI8wG X-Gm-Gg: ASbGncsOZ+8Yil6uUIjaTpPf3kRXwdvtcCXUhUPu3pVAy/aN3JASuQscQwu/t9/sDSV zx8FfBQe2hls5peeD1rnrj2U7RPM6dO7IzY8PV7j1i4sfqWWOZIU15YUDH2mibIcDFsqiLeCefN KJfSGl1TY7J5MNUcHsF7XbHlLo+usyIIk2F2DrgdAsE0mMDoVG+YYaASOXCzpGrgVrkLBjXEU7k AxPjokFMnnjB8sjsIUNRm1IRXI7KX1CaZLLBRJOA5hLxm4gfirDZNQc+vwwvH6J0zFTgF0GlSkn TElHWY5FHN7DCMAey+uz7n7Gusr8bCTGuRZ6wFLRI0WHko9BtHCfcvo/Tkw= X-Google-Smtp-Source: AGHT+IHE5IkuyiaFXTit1QPBGsUOnXGihTIBI0m1+rIloKx33j8Adz6FgK+1jf0yUNKsmj8SS7h+2SL/SIeI X-Received: by 2002:a17:90b:1dd1:b0:2ff:784b:ffe with SMTP id 98e67ed59e1d1-30e7d522171mr15620432a91.11.1747548290645; Sat, 17 May 2025 23:04:50 -0700 (PDT) Received: from postal.iol.unh.edu (postal.iol.unh.edu. [132.177.123.84]) by smtp-relay.gmail.com with ESMTPS id 98e67ed59e1d1-30ea9df9fc0sm170139a91.7.2025.05.17.23.04.50 (version=TLS1_2 cipher=ECDHE-ECDSA-AES128-GCM-SHA256 bits=128/128); Sat, 17 May 2025 23:04:50 -0700 (PDT) X-Relaying-Domain: iol.unh.edu Date: Sat, 17 May 2025 23:04:50 -0700 (PDT) Message-ID: <68297882.170a0220.cb9af.86ddSMTPIN_ADDED_MISSING@mx.google.com> Received: from [172.21.0.5] (unknown [172.18.0.240]) by postal.iol.unh.edu (Postfix) with ESMTP id C24896052471; Sun, 18 May 2025 02:04:49 -0400 (EDT) Subject: |SUCCESS| [GIT MASTER] 4c5634de9f933555bab9c64a533d3dca999071cd From: dpdklab@iol.unh.edu To: Test Report Cc: dpdk-test-reports@iol.unh.edu, Xueming Li , Christian Ehrhardt , Kevin Traynor , Luca Boccassi Content-Type: text/plain X-BeenThere: test-report@dpdk.org X-Mailman-Version: 2.1.29 Precedence: list List-Id: automatic DPDK test reports List-Unsubscribe: , List-Archive: List-Post: List-Help: List-Subscribe: , Errors-To: test-report-bounces@dpdk.org _Testing PASS_ Branch: tags/v24.11 4c5634de9f933555bab9c64a533d3dca999071cd --> testing pass Upstream job id: Generic-DPDK-Compile-ABI#126870 Test environment and result as below: +-------------------+----------+ | Environment | abi_test | +===================+==========+ | CentOS Stream 9 | PASS | +-------------------+----------+ | CentOS Stream 10 | PASS | +-------------------+----------+ | Debian 12 | PASS | +-------------------+----------+ | Fedora 41 | PASS | +-------------------+----------+ | Fedora 40 (Clang) | PASS | +-------------------+----------+ | Fedora 41 (Clang) | PASS | +-------------------+----------+ | Fedora 40 | PASS | +-------------------+----------+ | RHEL8 | PASS | +-------------------+----------+ | openSUSE Leap 15 | PASS | +-------------------+----------+ | RHEL9 | PASS | +-------------------+----------+ | Ubuntu 24.04 | PASS | +-------------------+----------+ | Ubuntu 22.04 | PASS | +-------------------+----------+ CentOS Stream 9 Kernel: Depends on container host Compiler: gcc 11.5.0 20240719 (Red Hat 11.5.0-2) CentOS Stream 10 Kernel: Depends on container host Compiler: gcc 14.2.1 20241104 (Red Hat 14.2.1-6) Debian 12 Kernel: Depends on container host Compiler: gcc (Debian 12.2.0-14) 12.2.0 Fedora 41 Kernel: Depends on container host Compiler: gcc 14.2.1 20240912 (Red Hat 14.2.1-3) Fedora 40 (Clang) Kernel: Depends on container host Compiler: clang 18.1.8 (Fedora 18.1.8-1.fc40) Fedora 41 (Clang) Kernel: Depends on container host Compiler: clang 19.1.5 (Fedora 19.1.5-1.fc41) Fedora 40 Kernel: Depends on container host Compiler: gcc 14.2.1 20240912 (Red Hat 14.2.1-3) RHEL8 Kernel: Depends on container host Compiler: gcc 8.5.0 20210514 (Red Hat 8.5.0-22) openSUSE Leap 15 Kernel: Depends on container host Compiler: gcc (SUSE Linux) 7.5.0 RHEL9 Kernel: Depends on container host Compiler: gcc 11.5.0 20240719 (Red Hat 11.5.0-2) Ubuntu 24.04 Kernel: Depends on container host Compiler: gcc (Ubuntu 13.3.0-6ubuntu2~24.04) 13.3.0 Ubuntu 22.04 Kernel: Depends on container host Compiler: gcc (Ubuntu 11.4.0-1ubuntu1~22.04) 11.4.0 To view detailed results, visit: https://lab.dpdk.org/results/dashboard/tarballs/33573/ UNH-IOL DPDK Community Lab To manage your email subscriptions, visit: https://lab.dpdk.org/results/dashboard/preferences/subscriptions/