From mboxrd@z Thu Jan 1 00:00:00 1970 Return-Path: Received: from mails.dpdk.org (mails.dpdk.org [217.70.189.124]) by inbox.dpdk.org (Postfix) with ESMTP id BD9F94677E for ; Sun, 18 May 2025 09:09:17 +0200 (CEST) Received: from mails.dpdk.org (localhost [127.0.0.1]) by mails.dpdk.org (Postfix) with ESMTP id 97CDE4027D; Sun, 18 May 2025 09:09:17 +0200 (CEST) Received: from mail-pl1-f226.google.com (mail-pl1-f226.google.com [209.85.214.226]) by mails.dpdk.org (Postfix) with ESMTP id 44FA0400D6 for ; Sun, 18 May 2025 09:09:16 +0200 (CEST) Received: by mail-pl1-f226.google.com with SMTP id d9443c01a7336-231f6af929eso16984565ad.2 for ; Sun, 18 May 2025 00:09:16 -0700 (PDT) DKIM-Signature: v=1; a=rsa-sha256; c=relaxed/relaxed; d=iol.unh.edu; s=unh-iol; t=1747552155; x=1748156955; darn=dpdk.org; h=cc:to:from:subject:message-id:date:from:to:cc:subject:date :message-id:reply-to; bh=rjLvx3ESU32L40yPIdeZcFkS4w2cryp1+OvKgoEPubQ=; b=UuMEf/2KBiFSthlY+gIoVYjKFaPBf/5ldx46wZ14kgO4d9ZPx+e1S67G7dWydGr03T LU8x2rI5u+DJRCDLVfLtswzyhAYy/84OKEFGr6y84dsUjtiLSMa8O28IKRl840SEfJIq c/2qx3G8/5+M6qOIA6Ng0EmL5j/3jMfY2kcxA= X-Google-DKIM-Signature: v=1; a=rsa-sha256; c=relaxed/relaxed; d=1e100.net; s=20230601; t=1747552155; x=1748156955; h=cc:to:from:subject:message-id:date:x-gm-message-state:from:to:cc :subject:date:message-id:reply-to; bh=rjLvx3ESU32L40yPIdeZcFkS4w2cryp1+OvKgoEPubQ=; b=NH16vU5WvRe023J9f/E9frqeASI6ZSkCE2d2XRCgD89jm4erTc5maKXPcVsYNwTjrW Ay3NGSyR+sX/aZrpge57o6UxMOeOzgXgD+iLe58njfrHeq4nxBOLzJbXS4iOGjtvbuTx +/x+rhfJsYSghY3VK1AGCIpWs7z4WH4FzG0oRiSAUcF04ttqdLOdfwiTXGNgjnRtMNtX RMqUT1ioowue4BQS/V+rCveSFtV+5s00gbfMJhSzSrOK8J4/fX6sUpSFQQk+R1jTNiek A+T0hcMZ5yZWfm1tt8YaQZtsg6EYpi6ruKivM6nolJ3lVjUqdb2NUqPOCdSBL2JcXCVs 3zSA== X-Gm-Message-State: AOJu0YyCA5kR2uieHqvTE4YHkRjp0oXRxds5KuwALGUgt9PH1pkOzheR 717/nl+tAWG7BE8aQGcFLtIznESC6OtWEKEKzGddvkMA9OQS4xNEICCWtub98cc7V8UOhysZqVx aaJPiIbxSU+1RunZz4vMRSMLa3OK4H07XJy0P X-Gm-Gg: ASbGncuQp1xcIaY5K10BfHSfIEcls8BMACJSRcraSlBtNyQ9Uk7OewLJIYxxq23+91k XW1/fUzKrWCWLjifq7aHljC6BxUJ0jlOvRX1/vQZmjvPgb6pjP3keeNGj1ifj041gIF5g7+WrZu TowXwp/+fCGHByQbVVO5rHU46DsxwGyJAxkaBur0lYc4esH8mw8gNg+enNdAfvtOiCdSrdhJTaq GUlR/QoSoE+BO3qFj5SSuaFQKsj9gaEIiEHxxcDe0giAsEUgKOwiyqnHrPSRNq17RAo8pfagOkg 9rTpvZleoO0+GpPZt7VDq3Rn8DwU7O9mON5P4WYG3CFuSaZ+c4Y3SejpFKQ= X-Google-Smtp-Source: AGHT+IGyzeCOtdHkNLAKZp+rjPPesZ3M8G7T03hJkOnL55ql+kywDEYSZa9eKgoNKJlQ1IG/sQyCcP3jTj5D X-Received: by 2002:a17:902:d4cd:b0:21b:b3c9:38ff with SMTP id d9443c01a7336-231d452d09cmr112553525ad.37.1747552155140; Sun, 18 May 2025 00:09:15 -0700 (PDT) Received: from postal.iol.unh.edu (postal.iol.unh.edu. [132.177.123.84]) by smtp-relay.gmail.com with ESMTPS id d9443c01a7336-231d4ad48d7sm2671255ad.50.2025.05.18.00.09.15 (version=TLS1_2 cipher=ECDHE-ECDSA-AES128-GCM-SHA256 bits=128/128); Sun, 18 May 2025 00:09:15 -0700 (PDT) X-Relaying-Domain: iol.unh.edu Date: Sun, 18 May 2025 00:09:15 -0700 (PDT) Message-ID: <6829879b.170a0220.7918c.e692SMTPIN_ADDED_MISSING@mx.google.com> Received: from [172.21.0.6] (unknown [172.18.0.240]) by postal.iol.unh.edu (Postfix) with ESMTP id 4A4466052471; Sun, 18 May 2025 03:09:14 -0400 (EDT) Subject: |SUCCESS| [GIT MASTER] 4c5634de9f933555bab9c64a533d3dca999071cd From: dpdklab@iol.unh.edu To: Test Report Cc: dpdk-test-reports@iol.unh.edu, Xueming Li , Christian Ehrhardt , Kevin Traynor , Luca Boccassi Content-Type: text/plain X-BeenThere: test-report@dpdk.org X-Mailman-Version: 2.1.29 Precedence: list List-Id: automatic DPDK test reports List-Unsubscribe: , List-Archive: List-Post: List-Help: List-Subscribe: , Errors-To: test-report-bounces@dpdk.org _Testing PASS_ Branch: tags/v24.11 4c5634de9f933555bab9c64a533d3dca999071cd --> testing pass Upstream job id: Generic-Unit-Test-DPDK#338915 Test environment and result as below: +---------------------+----------------+ | Environment | dpdk_unit_test | +=====================+================+ | CentOS Stream 10 | PASS | +---------------------+----------------+ | CentOS Stream 9 | PASS | +---------------------+----------------+ | Fedora 40 | PASS | +---------------------+----------------+ | Debian 12 | PASS | +---------------------+----------------+ | Fedora 41 | PASS | +---------------------+----------------+ | Ubuntu 22.04 | PASS | +---------------------+----------------+ | Ubuntu 20.04 | PASS | +---------------------+----------------+ | RHEL9 | PASS | +---------------------+----------------+ | RHEL8 | PASS | +---------------------+----------------+ | Fedora 40 (Clang) | PASS | +---------------------+----------------+ | Fedora 41 (Clang) | PASS | +---------------------+----------------+ | Ubuntu 24.04 | PASS | +---------------------+----------------+ | Windows Server 2022 | PASS | +---------------------+----------------+ CentOS Stream 10 Kernel: Depends on container host Compiler: gcc 14.2.1 20241104 (Red Hat 14.2.1-6) CentOS Stream 9 Kernel: Depends on container host Compiler: gcc 11.5.0 20240719 (Red Hat 11.5.0-2) Fedora 40 Kernel: Depends on container host Compiler: gcc 14.2.1 20240912 (Red Hat 14.2.1-3) Debian 12 Kernel: Depends on container host Compiler: gcc (Debian 12.2.0-14) 12.2.0 Fedora 41 Kernel: Depends on container host Compiler: gcc 14.2.1 20240912 (Red Hat 14.2.1-3) Ubuntu 22.04 Kernel: Depends on container host Compiler: gcc (Ubuntu 11.4.0-1ubuntu1~22.04) 11.4.0 Ubuntu 20.04 Kernel: Depends on container host Compiler: gcc (Ubuntu 9.4.0-1ubuntu1~20.04.2) 9.4.0 RHEL9 Kernel: Depends on container host Compiler: gcc 11.5.0 20240719 (Red Hat 11.5.0-2) RHEL8 Kernel: Depends on container host Compiler: gcc 8.5.0 20210514 (Red Hat 8.5.0-22) Fedora 40 (Clang) Kernel: Depends on container host Compiler: clang 18.1.8 (Fedora 18.1.8-1.fc40) Fedora 41 (Clang) Kernel: Depends on container host Compiler: clang 19.1.5 (Fedora 19.1.5-1.fc41) Ubuntu 24.04 Kernel: Depends on container host Compiler: gcc (Ubuntu 13.3.0-6ubuntu2~24.04) 13.3.0 Windows Server 2022 Kernel: 10.0.20348.2031 Compiler: clang 15.0.7, gcc 14.1.0 (MinGW), and MSVC VS 19.39.33521 To view detailed results, visit: https://lab.dpdk.org/results/dashboard/tarballs/33573/ UNH-IOL DPDK Community Lab To manage your email subscriptions, visit: https://lab.dpdk.org/results/dashboard/preferences/subscriptions/