From mboxrd@z Thu Jan 1 00:00:00 1970 Return-Path: Received: from mails.dpdk.org (mails.dpdk.org [217.70.189.124]) by inbox.dpdk.org (Postfix) with ESMTP id C60544677E for ; Sun, 18 May 2025 09:22:43 +0200 (CEST) Received: from mails.dpdk.org (localhost [127.0.0.1]) by mails.dpdk.org (Postfix) with ESMTP id A9AAE4027D; Sun, 18 May 2025 09:22:43 +0200 (CEST) Received: from mail-pg1-f227.google.com (mail-pg1-f227.google.com [209.85.215.227]) by mails.dpdk.org (Postfix) with ESMTP id 87F01400D6 for ; Sun, 18 May 2025 09:22:42 +0200 (CEST) Received: by mail-pg1-f227.google.com with SMTP id 41be03b00d2f7-b0db0b6a677so2868685a12.2 for ; Sun, 18 May 2025 00:22:42 -0700 (PDT) DKIM-Signature: v=1; a=rsa-sha256; c=relaxed/relaxed; d=iol.unh.edu; s=unh-iol; t=1747552961; x=1748157761; darn=dpdk.org; h=cc:to:from:subject:message-id:date:from:to:cc:subject:date :message-id:reply-to; bh=+VdrjuQDVJrXLugoNI0W4SyVLyirJ/zsM8XiVW6HhbQ=; b=hJ14vck/BHMsX+tFZnZ/vUy/sG0sOLhIQCgpJRZORwq+XzQtta6pmDu69yZkZh4hah T1nOpB3YK6OVMVkL5OJLAZdMbEaf5vf+MTWjB3vu24l6Owwt5oe7AQsMs8BLpZQZNDR6 VfXVmzUCmq72PBAoAuN8qyhGNnxE1jW7sBsVo= X-Google-DKIM-Signature: v=1; a=rsa-sha256; c=relaxed/relaxed; d=1e100.net; s=20230601; t=1747552961; x=1748157761; h=cc:to:from:subject:message-id:date:x-gm-message-state:from:to:cc :subject:date:message-id:reply-to; bh=+VdrjuQDVJrXLugoNI0W4SyVLyirJ/zsM8XiVW6HhbQ=; b=Cw3XVVlHcQW/oMN8HNbJbeNYXjFrNPKk+VKD2H8dPkdzsTFoEVJLkUzD3klUMIVXpj M+p7NOuZzN7GexSdxa61NRCUNRJ+VIyNMciQsCiYpvEow9iq7b1kMCa7NgxoUpIG3Rw1 lqv/pxwO0YEzkshJyHfYsaSDU4dquypDDGB+M4bfHyJSPlK0pooOGvCOFE507B76YHId eyOKkjj1Cf3Oqf3RCN33cFzG5J/GBGK/QTwAOdNnAjlOW1F15NA29cSxYJtd+FKwBQaV Qqaid/X5HXZYRgBfdpnAHaavCdM0rVwusNuJvYJjY+JVrYjgpHVTD0aO1M7518nkUho8 /T4g== X-Gm-Message-State: AOJu0YwF+9bc8pm/9av2x3xy7hdyoCR3gpB1vFZ2Caudz4v8BOeuYjrT 4odtJAc1qz3zQzyWJgs62OB+NHLn654QF+wMguI+V24MjWOdR8S76DJRygDbDVB9wrigKk9NuQN wbTUG3b6ka4DidVE8YwrrB2e5dHQWKXm5TMuf X-Gm-Gg: ASbGncvwrIrtvh+u7llXWBn5/VsxB6eNOZ2i0G1M8PRyCrx7dyB4TQAVCIRoMI7xVzM i9U9XHobWE32iucqlPUG4PuVAMiqzbJ8qMT8t7MTkQqXamdGgyldvXci4Oyw4ZOvcIx9OhLw8+a kne36H57t2V1D9YpZaoECjB5AHmvfV/otC34/cYJDN4EQCIz2PN/gsRS3kUrDUGex96cmr3A0eq WEN0h1yQ/ZnOubOi4RrQKsmc5EVrnPBzQCMhcwaa+nPc0VSeQ3ccMl3f9kvDUlC7IZ6v94xlCIU 4e7XLvMSIudk+IH/LmZAmdhVECZngAf8xhayj49yIkOI4Ep0r7nKd/E7P7M= X-Google-Smtp-Source: AGHT+IF41AkW5Jofk5DaZiE7if2RW0AQFzJ2+Ze7gJXEwozhMdVJ6YduciRdYR5rqPeceS8son5lfyMzl1Xh X-Received: by 2002:a17:903:94e:b0:224:910:23f0 with SMTP id d9443c01a7336-231d45bcdffmr125204405ad.49.1747552961621; Sun, 18 May 2025 00:22:41 -0700 (PDT) Received: from postal.iol.unh.edu (postal.iol.unh.edu. [132.177.123.84]) by smtp-relay.gmail.com with ESMTPS id d9443c01a7336-232219c2f8dsm517195ad.110.2025.05.18.00.22.41 (version=TLS1_2 cipher=ECDHE-ECDSA-AES128-GCM-SHA256 bits=128/128); Sun, 18 May 2025 00:22:41 -0700 (PDT) X-Relaying-Domain: iol.unh.edu Date: Sun, 18 May 2025 00:22:41 -0700 (PDT) Message-ID: <68298ac1.170a0220.7d835.278cSMTPIN_ADDED_MISSING@mx.google.com> Received: from [172.21.0.6] (unknown [172.18.0.240]) by postal.iol.unh.edu (Postfix) with ESMTP id 5D0C06052471; Sun, 18 May 2025 03:22:40 -0400 (EDT) Subject: |SUCCESS| [GIT MASTER] 4401486b5e30d43a134f80f9802f60b5f43e74a8 From: dpdklab@iol.unh.edu To: Test Report Cc: dpdk-test-reports@iol.unh.edu, Xueming Li , Christian Ehrhardt , Kevin Traynor , Luca Boccassi Content-Type: text/plain X-BeenThere: test-report@dpdk.org X-Mailman-Version: 2.1.29 Precedence: list List-Id: automatic DPDK test reports List-Unsubscribe: , List-Archive: List-Post: List-Help: List-Subscribe: , Errors-To: test-report-bounces@dpdk.org _Testing PASS_ Branch: tags/v22.11 4401486b5e30d43a134f80f9802f60b5f43e74a8 --> testing pass Upstream job id: Generic-DPDK-Compile-Meson#389204 Test environment and result as below: +------------------------------------+--------------------+ | Environment | dpdk_meson_compile | +====================================+====================+ | Ubuntu 20.04 ARM SVE | PASS | +------------------------------------+--------------------+ | Fedora 40 (ARM) | PASS | +------------------------------------+--------------------+ | Ubuntu 20.04 ARM GCC Cross Compile | PASS | +------------------------------------+--------------------+ | RHEL9 (ARM) | PASS | +------------------------------------+--------------------+ | Debian 12 with MUSDK | PASS | +------------------------------------+--------------------+ | Ubuntu 24.04 (ARM) | PASS | +------------------------------------+--------------------+ | Fedora 40 (ARM Clang) | PASS | +------------------------------------+--------------------+ | Debian 12 (arm) | PASS | +------------------------------------+--------------------+ | Fedora 41 (ARM Clang) | PASS | +------------------------------------+--------------------+ | Ubuntu 22.04 (ARM) | PASS | +------------------------------------+--------------------+ | Ubuntu 20.04 (ARM) | PASS | +------------------------------------+--------------------+ | Fedora 41 (ARM) | PASS | +------------------------------------+--------------------+ | CentOS Stream 9 (ARM) | PASS | +------------------------------------+--------------------+ | CentOS Stream 10 (ARM) | PASS | +------------------------------------+--------------------+ Ubuntu 20.04 ARM SVE Kernel: Depends on container host Compiler: gcc (Ubuntu 10.5.0-1ubuntu1~20.04) 10.5.0 Fedora 40 (ARM) Kernel: Depends on container host Compiler: gcc 14.2.1 20240912 (Red Hat 14.2.1-3) Ubuntu 20.04 ARM GCC Cross Compile Kernel: Depends on container host Compiler: aarch64-linux-gnu-gcc (Ubuntu 9.4.0-1ubuntu1~20.04.2) 9.4.0 RHEL9 (ARM) Kernel: Depends on container host Compiler: gcc 11.5.0 20240719 (Red Hat 11.5.0-2) Debian 12 with MUSDK Kernel: Depends on container host Compiler: gcc (Debian 12.2.0-14) 12.2.0 Ubuntu 24.04 (ARM) Kernel: Depends on container host Compiler: gcc (Ubuntu 13.3.0-6ubuntu2~24.04) 13.3.0 Fedora 40 (ARM Clang) Kernel: Depends on container host Compiler: clang 18.1.8 (Fedora 18.1.8-1.fc40) Debian 12 (arm) Kernel: Depends on container host Compiler: gcc (Debian 12.2.0-14) 12.2.0 Fedora 41 (ARM Clang) Kernel: Depends on container host Compiler: clang 19.1.5 (Fedora 19.1.5-1.fc41) Ubuntu 22.04 (ARM) Kernel: Depends on container host Compiler: gcc (Ubuntu 11.4.0-1ubuntu1~22.04) 11.4.0 Ubuntu 20.04 (ARM) Kernel: Depends on container host Compiler: gcc (Ubuntu 9.4.0-1ubuntu1~20.04.2) 9.4.0 Fedora 41 (ARM) Kernel: Depends on container host Compiler: gcc 14.2.1 20240912 (Red Hat 14.2.1-3) CentOS Stream 9 (ARM) Kernel: Depends on container host Compiler: gcc 11.5.0 20240719 (Red Hat 11.5.0-2) CentOS Stream 10 (ARM) Kernel: Depends on container host Compiler: gcc 14.2.1 20241104 (Red Hat 14.2.1-6) To view detailed results, visit: https://lab.dpdk.org/results/dashboard/tarballs/33574/ UNH-IOL DPDK Community Lab To manage your email subscriptions, visit: https://lab.dpdk.org/results/dashboard/preferences/subscriptions/