From mboxrd@z Thu Jan 1 00:00:00 1970 Return-Path: Received: from mails.dpdk.org (mails.dpdk.org [217.70.189.124]) by inbox.dpdk.org (Postfix) with ESMTP id C9B5146778 for ; Sun, 18 May 2025 09:48:45 +0200 (CEST) Received: from mails.dpdk.org (localhost [127.0.0.1]) by mails.dpdk.org (Postfix) with ESMTP id AA3AA4027D; Sun, 18 May 2025 09:48:45 +0200 (CEST) Received: from mail-qk1-f227.google.com (mail-qk1-f227.google.com [209.85.222.227]) by mails.dpdk.org (Postfix) with ESMTP id 1CCE9400D6 for ; Sun, 18 May 2025 09:48:44 +0200 (CEST) Received: by mail-qk1-f227.google.com with SMTP id af79cd13be357-7c542ffec37so389423985a.2 for ; Sun, 18 May 2025 00:48:44 -0700 (PDT) DKIM-Signature: v=1; a=rsa-sha256; c=relaxed/relaxed; d=iol.unh.edu; s=unh-iol; t=1747554523; x=1748159323; darn=dpdk.org; h=cc:to:from:subject:message-id:date:from:to:cc:subject:date :message-id:reply-to; bh=5oCQgAU6Hn+h2OU0kXlMt8gjBZ8VjzeHqqsThdxuPVQ=; b=Naz0R60Ax9Qo8AZPeaGxfpH/WWWtgyQk9vzXMYmUFlGo2MPTB20tfk5v69NsTIsy8D iSjPPAJRf1pU8wi1teYvMyumK/+GYDr+4/tCL8Zy/fNL6HCsFKXI0xMVtg5jev9NnzwJ Mhxb4cwoogIjVkKCqiLa7PvAdjcmp9CF3DYDI= X-Google-DKIM-Signature: v=1; a=rsa-sha256; c=relaxed/relaxed; d=1e100.net; s=20230601; t=1747554523; x=1748159323; h=cc:to:from:subject:message-id:date:x-gm-message-state:from:to:cc :subject:date:message-id:reply-to; bh=5oCQgAU6Hn+h2OU0kXlMt8gjBZ8VjzeHqqsThdxuPVQ=; b=pC3vJDloWLv5pabCg302qMnyxiBS30IfbLhIOWdWty+Q3S/m+wziNemMVsuKFjvgfV zFeXjSKSOJ0WEEEh+tGmgePpzLBmGhYRS2ZMYYNGDvpN9z0eVJdab9UjVwO+hnQ93/J2 YUvRCnB9khOaXuk3ZmU951R3eE12sVJRyineNCIAAQCKnbfZ1uK8WpiBs4wSDw4QyMxQ XjBw5UpfynnnhiyLPxZTJjaxCbBsio/rIjglHMdznU3XQUBbhBUidVDerHOCwkVnQWYO mWDELwx+d99A0fRoDXnooJIBQNLtJMDr350Zed8uxDUButpQxDna3D56hsM8Vm4OiPI6 WirA== X-Gm-Message-State: AOJu0YzIEy+Md4SWD/vSL0zhxV7fOh+Dmb492NQXgJFhGXgAs1UEq5gv SeiN2QqaQuMeQn9dmyhoTi9YjQfbpDVvRgJxeeQnErXksb87gd10ylZEx2JE4PNeC42P9zkywIP Y4gxLoswYt6mjPzk3mOmmKGKJns+Lqrr/BAIUNuSZAp1iOoY7a5y8 X-Gm-Gg: ASbGncturmSvHwIYTdbrJay15+9v7vlMMLMl28CF+f87xbZnigtNSAdBzl+y2+90DXk PDAxfsQf2qmR08icJX8WL2tdvbRGjFkZhtNBfvDLopzY77Uo2bOZQd4LP2DSZChBo606cIjmsJl idsdcYDNp5LglrgfRBsaEzpfNqwEmb+2NU9hOl04s6knhepfKWlNOkG70BCL9UcLUZGFiU30v7l QrNm408pJx6jto4w79DvBg8cxKUfGWW+O6LB0q6z87I7n3SWtsvYkjR7jZFcz5oe8lgL2egQPgK nHMm/FVjvSssf5gYlLjw1FhZA31r0GR3w8Qi X-Google-Smtp-Source: AGHT+IGNSoMPdPXZZhNnyEoUIStvyoWGGvMpt6TW5lrzyC2LMUnnEQZ54g87ikDawBbimb4waiA2Vcxahxgn X-Received: by 2002:a05:620a:4549:b0:7c7:ba67:38a with SMTP id af79cd13be357-7cd467080bbmr1513763785a.6.1747554523233; Sun, 18 May 2025 00:48:43 -0700 (PDT) Received: from postal.iol.unh.edu (postal.iol.unh.edu. [2606:4100:3880:1234::84]) by smtp-relay.gmail.com with ESMTPS id 6a1803df08f44-6f8b089d33fsm1991026d6.12.2025.05.18.00.48.43 (version=TLS1_2 cipher=ECDHE-ECDSA-AES128-GCM-SHA256 bits=128/128); Sun, 18 May 2025 00:48:43 -0700 (PDT) X-Relaying-Domain: iol.unh.edu Date: Sun, 18 May 2025 00:48:43 -0700 (PDT) Message-ID: <682990db.0c0a0220.ad3f8.ba9aSMTPIN_ADDED_MISSING@mx.google.com> Received: from [172.17.0.4] (unknown [172.18.0.74]) by postal.iol.unh.edu (Postfix) with ESMTP id AAE7F6052471; Sun, 18 May 2025 03:48:42 -0400 (EDT) Subject: |SUCCESS| [GIT MASTER] 83a7a648344674c0269fcaeb71d8d16468421a0e From: dpdklab@iol.unh.edu To: Test Report Cc: dpdk-test-reports@iol.unh.edu, Xueming Li , Christian Ehrhardt , Kevin Traynor , Luca Boccassi Content-Type: text/plain X-BeenThere: test-report@dpdk.org X-Mailman-Version: 2.1.29 Precedence: list List-Id: automatic DPDK test reports List-Unsubscribe: , List-Archive: List-Post: List-Help: List-Subscribe: , Errors-To: test-report-bounces@dpdk.org _Testing PASS_ Branch: tags/v23.11 83a7a648344674c0269fcaeb71d8d16468421a0e --> testing pass Upstream job id: Generic-Unit-Test-DPDK#338941 Test environment and result as below: +---------------------+----------------+ | Environment | dpdk_unit_test | +=====================+================+ | CentOS Stream 9 | PASS | +---------------------+----------------+ | CentOS Stream 10 | PASS | +---------------------+----------------+ | Fedora 40 | PASS | +---------------------+----------------+ | RHEL8 | PASS | +---------------------+----------------+ | Fedora 41 | PASS | +---------------------+----------------+ | Debian 12 | PASS | +---------------------+----------------+ | RHEL9 | PASS | +---------------------+----------------+ | Fedora 40 (Clang) | PASS | +---------------------+----------------+ | Fedora 41 (Clang) | PASS | +---------------------+----------------+ | Ubuntu 22.04 | PASS | +---------------------+----------------+ | Ubuntu 20.04 | PASS | +---------------------+----------------+ | Ubuntu 24.04 | PASS | +---------------------+----------------+ | Windows Server 2022 | PASS | +---------------------+----------------+ CentOS Stream 9 Kernel: Depends on container host Compiler: gcc 11.5.0 20240719 (Red Hat 11.5.0-2) CentOS Stream 10 Kernel: Depends on container host Compiler: gcc 14.2.1 20241104 (Red Hat 14.2.1-6) Fedora 40 Kernel: Depends on container host Compiler: gcc 14.2.1 20240912 (Red Hat 14.2.1-3) RHEL8 Kernel: Depends on container host Compiler: gcc 8.5.0 20210514 (Red Hat 8.5.0-22) Fedora 41 Kernel: Depends on container host Compiler: gcc 14.2.1 20240912 (Red Hat 14.2.1-3) Debian 12 Kernel: Depends on container host Compiler: gcc (Debian 12.2.0-14) 12.2.0 RHEL9 Kernel: Depends on container host Compiler: gcc 11.5.0 20240719 (Red Hat 11.5.0-2) Fedora 40 (Clang) Kernel: Depends on container host Compiler: clang 18.1.8 (Fedora 18.1.8-1.fc40) Fedora 41 (Clang) Kernel: Depends on container host Compiler: clang 19.1.5 (Fedora 19.1.5-1.fc41) Ubuntu 22.04 Kernel: Depends on container host Compiler: gcc (Ubuntu 11.4.0-1ubuntu1~22.04) 11.4.0 Ubuntu 20.04 Kernel: Depends on container host Compiler: gcc (Ubuntu 9.4.0-1ubuntu1~20.04.2) 9.4.0 Ubuntu 24.04 Kernel: Depends on container host Compiler: gcc (Ubuntu 13.3.0-6ubuntu2~24.04) 13.3.0 Windows Server 2022 Kernel: 10.0.20348.2031 Compiler: clang 15.0.7, gcc 14.1.0 (MinGW), and MSVC VS 19.39.33521 To view detailed results, visit: https://lab.dpdk.org/results/dashboard/tarballs/33575/ UNH-IOL DPDK Community Lab To manage your email subscriptions, visit: https://lab.dpdk.org/results/dashboard/preferences/subscriptions/