From mboxrd@z Thu Jan 1 00:00:00 1970 Return-Path: Received: from mails.dpdk.org (mails.dpdk.org [217.70.189.124]) by inbox.dpdk.org (Postfix) with ESMTP id D19D146778 for ; Sun, 18 May 2025 09:49:35 +0200 (CEST) Received: from mails.dpdk.org (localhost [127.0.0.1]) by mails.dpdk.org (Postfix) with ESMTP id CC0B94027D; Sun, 18 May 2025 09:49:35 +0200 (CEST) Received: from mail-pf1-f226.google.com (mail-pf1-f226.google.com [209.85.210.226]) by mails.dpdk.org (Postfix) with ESMTP id 75D24400D6 for ; Sun, 18 May 2025 09:49:34 +0200 (CEST) Received: by mail-pf1-f226.google.com with SMTP id d2e1a72fcca58-7398d65476eso2750471b3a.1 for ; Sun, 18 May 2025 00:49:34 -0700 (PDT) DKIM-Signature: v=1; a=rsa-sha256; c=relaxed/relaxed; d=iol.unh.edu; s=unh-iol; t=1747554573; x=1748159373; darn=dpdk.org; h=cc:to:from:subject:message-id:date:from:to:cc:subject:date :message-id:reply-to; bh=JK93763WwvhKQSp/hRy/JuBr5qhST7OdPKTcnTrVrho=; b=SM193GFtuboB5aB5KVQmU8volv/VXMwWwfC7OBoGLmgZFrdrxD36icnfRkFL7YhgAg JIvsOHTQzHvj8gi4yENCHrvl/bl67mKSlPcuPMQAbef0uaIQV126uN0vWdSyBOZJQ3H+ lJC7jdORPFsAyCYf8Pn9NcX9v79FiejhicnBU= X-Google-DKIM-Signature: v=1; a=rsa-sha256; c=relaxed/relaxed; d=1e100.net; s=20230601; t=1747554573; x=1748159373; h=cc:to:from:subject:message-id:date:x-gm-message-state:from:to:cc :subject:date:message-id:reply-to; bh=JK93763WwvhKQSp/hRy/JuBr5qhST7OdPKTcnTrVrho=; b=IpHcC4q+y8HvxU17Rb7AFC0QuqWoziGe9XYONkP6znXQ1KK2jXcCai2x1jWEagkpp1 fRYkkbzlZNKf8pS9994CEFE0g/xOkm74iS2ijQuKNs5N8vRRR9gotGEhhQJCk16MMzFG 5X/yZQ0DJRQAc03z/93HGw4Oqp/UqvE7HIhpkXIH00qJIeyH0ry6DoS9yr7+/RJfdZ46 8y64Xnz3yNupdTySs0G7X+N9S++FiwTC2iUsM+Xsc7qs/gEenu5zEXJWnxTykJOJ1xM0 uc7JDFtTcGdqqKUgToolYBUCQUGEVkOGonxHiZ4TK5Kp6DnbGwmtsAl1ExfMvn6JbhKE WO2Q== X-Gm-Message-State: AOJu0Yw9voAQqh7qkaFu/K73nuulUKGnijKLpURNNSK4GGa+wvwB1cj0 JHJMIgI5enHKpV2bmUugbhSyAYLLls/WL2BRhP+e1zAjGxkYwxtooaz3yYIkfdP103o1thr9miv ZMhsngkllgFWl44TmF/N9iAN4FN53jdXW0u9qH3epQo4Zb98r80gn X-Gm-Gg: ASbGncvdAJASBJLX5nDUv1S7d+z1CkS8E0oyZ41QqaIL7jAGszahVvXnPlooqGEOPxD X56Du0h/o8xhMAMtcbuNZUqoc4ucmdYzHuenDMKx3A9nM2hn0HZU1l3vTpBCw3xS1VXOSlVOQut GvJa6kgxm3nlisUipVMM1+pq3kUFrNd5fQgeKzgUEpOZW2aUIrccXozczWLJxbGmUPCcMQv4eGW 6Hoc3OG2YjIx3kG5OQnuKy5mkkLRIHhG0kkdaR662q7E5CftgAvGCDwqbNbmpqgunelsr6Xn0rl DHSfxaO+nMIx/36C1HilgKj5wuEd5sOAdDeA X-Google-Smtp-Source: AGHT+IF/VpoA0WUfvxLW0ILHidbP4qqRaSX+stcggoJa+oxikao7No8jEL7oKpw7jgB7Jfq2hAn6JuYGi4tZ X-Received: by 2002:aa7:9a8c:0:b0:73b:ac3d:9d6b with SMTP id d2e1a72fcca58-742a9a282demr11789334b3a.4.1747554573342; Sun, 18 May 2025 00:49:33 -0700 (PDT) Received: from postal.iol.unh.edu (postal.iol.unh.edu. [2606:4100:3880:1234::84]) by smtp-relay.gmail.com with ESMTPS id d2e1a72fcca58-742a984c1e4sm308350b3a.17.2025.05.18.00.49.33 (version=TLS1_2 cipher=ECDHE-ECDSA-AES128-GCM-SHA256 bits=128/128); Sun, 18 May 2025 00:49:33 -0700 (PDT) X-Relaying-Domain: iol.unh.edu Date: Sun, 18 May 2025 00:49:33 -0700 (PDT) Message-ID: <6829910d.050a0220.10d0d9.fcd3SMTPIN_ADDED_MISSING@mx.google.com> Received: from [172.17.0.3] (unknown [172.18.0.74]) by postal.iol.unh.edu (Postfix) with ESMTP id 827D86052471; Sun, 18 May 2025 03:49:32 -0400 (EDT) Subject: |SUCCESS| [GIT MASTER] 83a7a648344674c0269fcaeb71d8d16468421a0e From: dpdklab@iol.unh.edu To: Test Report Cc: dpdk-test-reports@iol.unh.edu, Xueming Li , Christian Ehrhardt , Kevin Traynor , Luca Boccassi Content-Type: text/plain X-BeenThere: test-report@dpdk.org X-Mailman-Version: 2.1.29 Precedence: list List-Id: automatic DPDK test reports List-Unsubscribe: , List-Archive: List-Post: List-Help: List-Subscribe: , Errors-To: test-report-bounces@dpdk.org _Testing PASS_ Branch: tags/v23.11 83a7a648344674c0269fcaeb71d8d16468421a0e --> testing pass Upstream job id: Generic-Unit-Test-DPDK#338935 Test environment and result as below: +-----------------------------+----------------+---------------------------+--------------+------------------------------+ | Environment | dpdk_unit_test | cryptodev_sw_zuc_autotest | lpm_autotest | cryptodev_sw_snow3g_autotest | +=============================+================+===========================+==============+==============================+ | CentOS Stream 9 (ARM) | PASS | SKIPPED | SKIPPED | SKIPPED | +-----------------------------+----------------+---------------------------+--------------+------------------------------+ | CentOS Stream 10 (ARM) | PASS | SKIPPED | SKIPPED | SKIPPED | +-----------------------------+----------------+---------------------------+--------------+------------------------------+ | Fedora 40 (ARM) | PASS | SKIPPED | SKIPPED | SKIPPED | +-----------------------------+----------------+---------------------------+--------------+------------------------------+ | Debian 12 (arm) | PASS | PASS | SKIPPED | PASS | +-----------------------------+----------------+---------------------------+--------------+------------------------------+ | RHEL9 (ARM) | PASS | SKIPPED | SKIPPED | SKIPPED | +-----------------------------+----------------+---------------------------+--------------+------------------------------+ | Fedora 41 (ARM Clang) | PASS | SKIPPED | SKIPPED | SKIPPED | +-----------------------------+----------------+---------------------------+--------------+------------------------------+ | Fedora 40 (ARM Clang) | PASS | SKIPPED | SKIPPED | SKIPPED | +-----------------------------+----------------+---------------------------+--------------+------------------------------+ | Ubuntu 20.04 (ARM) | PASS | SKIPPED | SKIPPED | SKIPPED | +-----------------------------+----------------+---------------------------+--------------+------------------------------+ | Ubuntu 22.04 (ARM) | PASS | SKIPPED | SKIPPED | SKIPPED | +-----------------------------+----------------+---------------------------+--------------+------------------------------+ | Ubuntu 24.04 (ARM) | PASS | SKIPPED | SKIPPED | SKIPPED | +-----------------------------+----------------+---------------------------+--------------+------------------------------+ | Fedora 41 (ARM) | PASS | SKIPPED | SKIPPED | SKIPPED | +-----------------------------+----------------+---------------------------+--------------+------------------------------+ | 32-bit Ubuntu 22.04.4 (ARM) | PASS | SKIPPED | SKIPPED | SKIPPED | +-----------------------------+----------------+---------------------------+--------------+------------------------------+ | Ubuntu 20.04 ARM SVE | SKIPPED | SKIPPED | PASS | SKIPPED | +-----------------------------+----------------+---------------------------+--------------+------------------------------+ CentOS Stream 9 (ARM) Kernel: Depends on container host Compiler: gcc 11.5.0 20240719 (Red Hat 11.5.0-2) CentOS Stream 10 (ARM) Kernel: Depends on container host Compiler: gcc 14.2.1 20241104 (Red Hat 14.2.1-6) Fedora 40 (ARM) Kernel: Depends on container host Compiler: gcc 14.2.1 20240912 (Red Hat 14.2.1-3) Debian 12 (arm) Kernel: Depends on container host Compiler: gcc (Debian 12.2.0-14) 12.2.0 RHEL9 (ARM) Kernel: Depends on container host Compiler: gcc 11.5.0 20240719 (Red Hat 11.5.0-2) Fedora 41 (ARM Clang) Kernel: Depends on container host Compiler: clang 19.1.5 (Fedora 19.1.5-1.fc41) Fedora 40 (ARM Clang) Kernel: Depends on container host Compiler: clang 18.1.8 (Fedora 18.1.8-1.fc40) Ubuntu 20.04 (ARM) Kernel: Depends on container host Compiler: gcc (Ubuntu 9.4.0-1ubuntu1~20.04.2) 9.4.0 Ubuntu 22.04 (ARM) Kernel: Depends on container host Compiler: gcc (Ubuntu 11.4.0-1ubuntu1~22.04) 11.4.0 Ubuntu 24.04 (ARM) Kernel: Depends on container host Compiler: gcc (Ubuntu 13.3.0-6ubuntu2~24.04) 13.3.0 Fedora 41 (ARM) Kernel: Depends on container host Compiler: gcc 14.2.1 20240912 (Red Hat 14.2.1-3) 32-bit Ubuntu 22.04.4 (ARM) Kernel: 5.15.83+ aarch64 Compiler: gcc (Ubuntu 11.4.0-1ubuntu1~22.04) 11.4.0 Ubuntu 20.04 ARM SVE Kernel: Depends on container host Compiler: gcc (Ubuntu 10.5.0-1ubuntu1~20.04) 10.5.0 To view detailed results, visit: https://lab.dpdk.org/results/dashboard/tarballs/33575/ UNH-IOL DPDK Community Lab To manage your email subscriptions, visit: https://lab.dpdk.org/results/dashboard/preferences/subscriptions/