From mboxrd@z Thu Jan 1 00:00:00 1970 Return-Path: Received: from mails.dpdk.org (mails.dpdk.org [217.70.189.124]) by inbox.dpdk.org (Postfix) with ESMTP id 3CF2046780 for ; Sun, 18 May 2025 10:17:18 +0200 (CEST) Received: from mails.dpdk.org (localhost [127.0.0.1]) by mails.dpdk.org (Postfix) with ESMTP id 179EE4027D; Sun, 18 May 2025 10:17:18 +0200 (CEST) Received: from mail-yb1-f227.google.com (mail-yb1-f227.google.com [209.85.219.227]) by mails.dpdk.org (Postfix) with ESMTP id DF787400D6 for ; Sun, 18 May 2025 10:17:15 +0200 (CEST) Received: by mail-yb1-f227.google.com with SMTP id 3f1490d57ef6-e7b943bcf0cso418561276.3 for ; Sun, 18 May 2025 01:17:15 -0700 (PDT) DKIM-Signature: v=1; a=rsa-sha256; c=relaxed/relaxed; d=iol.unh.edu; s=unh-iol; t=1747556235; x=1748161035; darn=dpdk.org; h=cc:to:from:subject:message-id:date:from:to:cc:subject:date :message-id:reply-to; bh=NnedUorvutisz63B3FqImVtoEb1BJUHdpobIBGPxxME=; b=D5V0qm1K3BGH8CAhQsVZJR70y+HPEBxXzKzP/nFx9bm/gPTwQRC3t73Q7tzSAtC5CE SnUb3Cpopu03nWdNsj2JJogFVITXf8zylbuE2J6sx+vvHBw9bp8h3IolYAnPgafW6aVG yYbZyWtrTkamR5cXsVyJ677L4GHhAGWOila3k= X-Google-DKIM-Signature: v=1; a=rsa-sha256; c=relaxed/relaxed; d=1e100.net; s=20230601; t=1747556235; x=1748161035; h=cc:to:from:subject:message-id:date:x-gm-message-state:from:to:cc :subject:date:message-id:reply-to; bh=NnedUorvutisz63B3FqImVtoEb1BJUHdpobIBGPxxME=; b=qSpwvYwj0YBJL32tVTOzyu9B/7Ru36/2M4D6UgZhmxZX8kpMAGL4GBlu1xgbxeF/FS H07yt6zDZcmpJ81gArafQFj7iCvtkhoetfjwlxwWXferLmBVMSGkUnex8SD91+VUTBEZ nvDmaarMM/CyQgvQ9iOM+J/Jmn7UG+XuEzVuaHtXYnB1QAtCDcADvhl1kBDTp3HgzB5u 7Zabn15fU7eGki3Kby7NJlTxALdeKUegciSNFTPJFAEprqBLFYsIm4eG6knBZL2Law1K kYfR+MPomcE0O08SEvcrmNqIe8izlfbxgTFOpD93tPztOCQ00jiD/H4RMm5ei0oJENZB uBmA== X-Gm-Message-State: AOJu0YzsWEq4TjcJz3Gpcpw6gezCmR62hX1TPMr0gJIRwu05WNsNNXpp iH6iu3/YLVYwPn6IejA03sVwtCp57whTyklhl1TDcRfIMvljpwId/GVAn2hgzOv0EjFk9C5wN1Z icgn/A7aFV7PANETvfrSroP7foS65DQ1/5lzO X-Gm-Gg: ASbGncv8ZfiZtsGZvR69ZpcTPsEfUZlb+8fyhkuQ26VW30DqexB8BJ7Jr6vvnVDF1Vc hfwGYoHIgPVJx8J8S+ss6Tk37326z9/UwW3dtXWw/hxbye+ydI2T2xIhI1gOpNfsAuFTthNH6ES fTb/WlBS3/GIz5mn0y15SmIiALxWdBCOqPliCqMyAn55V/X1UZZegydvhpLi4enSir91AD6bj4z HTN/8QXYw74sqYtyWaCJfOcr09YXW8x88ft4dVtUMRx8zvvQPWYkA9AQ30yl0NNNpXR5ESqLlj0 zckycPQU3pQrN3X4sYYpdFbtOeGXRosr3FxyaBplmDhpLEzpO8LnWQNt41Y= X-Google-Smtp-Source: AGHT+IHVY/fdm5yXyAz/a0FeS5+KErYOS91l3tnQFPdtkoFBlPXsWIjYdv1m7hz9vV+HTklCBOHH9B/4RIUI X-Received: by 2002:a05:6902:140c:b0:e7b:5a74:f6d7 with SMTP id 3f1490d57ef6-e7b6d715875mr11165620276.46.1747556235162; Sun, 18 May 2025 01:17:15 -0700 (PDT) Received: from postal.iol.unh.edu (postal.iol.unh.edu. [132.177.123.84]) by smtp-relay.gmail.com with ESMTPS id 00721157ae682-70ca83261f5sm1041787b3.21.2025.05.18.01.17.15 (version=TLS1_2 cipher=ECDHE-ECDSA-AES128-GCM-SHA256 bits=128/128); Sun, 18 May 2025 01:17:15 -0700 (PDT) X-Relaying-Domain: iol.unh.edu Date: Sun, 18 May 2025 01:17:15 -0700 (PDT) Message-ID: <6829978b.050a0220.ba467.5e21SMTPIN_ADDED_MISSING@mx.google.com> Received: from [172.17.0.2] (unknown [172.18.0.76]) by postal.iol.unh.edu (Postfix) with ESMTP id 7F73E6052471; Sun, 18 May 2025 04:17:14 -0400 (EDT) Subject: |SUCCESS| [GIT MASTER] 83a7a648344674c0269fcaeb71d8d16468421a0e From: dpdklab@iol.unh.edu To: Test Report Cc: dpdk-test-reports@iol.unh.edu, Xueming Li , Christian Ehrhardt , Kevin Traynor , Luca Boccassi Content-Type: text/plain X-BeenThere: test-report@dpdk.org X-Mailman-Version: 2.1.29 Precedence: list List-Id: automatic DPDK test reports List-Unsubscribe: , List-Archive: List-Post: List-Help: List-Subscribe: , Errors-To: test-report-bounces@dpdk.org _Testing PASS_ Branch: tags/v23.11 83a7a648344674c0269fcaeb71d8d16468421a0e --> testing pass Upstream job id: Generic-DPDK-Compile-Meson#389274 Test environment and result as below: +------------------------------------+--------------------+ | Environment | dpdk_meson_compile | +====================================+====================+ | RHEL9 (ARM) | PASS | +------------------------------------+--------------------+ | Debian 12 with MUSDK | PASS | +------------------------------------+--------------------+ | Ubuntu 20.04 ARM GCC Cross Compile | PASS | +------------------------------------+--------------------+ | Ubuntu 20.04 ARM SVE | PASS | +------------------------------------+--------------------+ | Fedora 40 (ARM) | PASS | +------------------------------------+--------------------+ | Fedora 40 (ARM Clang) | PASS | +------------------------------------+--------------------+ | Fedora 41 (ARM) | PASS | +------------------------------------+--------------------+ | Fedora 41 (ARM Clang) | PASS | +------------------------------------+--------------------+ | Ubuntu 20.04 (ARM) | PASS | +------------------------------------+--------------------+ | Ubuntu 22.04 (ARM) | PASS | +------------------------------------+--------------------+ | Ubuntu 24.04 (ARM) | PASS | +------------------------------------+--------------------+ | CentOS Stream 9 (ARM) | PASS | +------------------------------------+--------------------+ | Debian 12 (arm) | PASS | +------------------------------------+--------------------+ | CentOS Stream 10 (ARM) | PASS | +------------------------------------+--------------------+ RHEL9 (ARM) Kernel: Depends on container host Compiler: gcc 11.5.0 20240719 (Red Hat 11.5.0-2) Debian 12 with MUSDK Kernel: Depends on container host Compiler: gcc (Debian 12.2.0-14) 12.2.0 Ubuntu 20.04 ARM GCC Cross Compile Kernel: Depends on container host Compiler: aarch64-linux-gnu-gcc (Ubuntu 9.4.0-1ubuntu1~20.04.2) 9.4.0 Ubuntu 20.04 ARM SVE Kernel: Depends on container host Compiler: gcc (Ubuntu 10.5.0-1ubuntu1~20.04) 10.5.0 Fedora 40 (ARM) Kernel: Depends on container host Compiler: gcc 14.2.1 20240912 (Red Hat 14.2.1-3) Fedora 40 (ARM Clang) Kernel: Depends on container host Compiler: clang 18.1.8 (Fedora 18.1.8-1.fc40) Fedora 41 (ARM) Kernel: Depends on container host Compiler: gcc 14.2.1 20240912 (Red Hat 14.2.1-3) Fedora 41 (ARM Clang) Kernel: Depends on container host Compiler: clang 19.1.5 (Fedora 19.1.5-1.fc41) Ubuntu 20.04 (ARM) Kernel: Depends on container host Compiler: gcc (Ubuntu 9.4.0-1ubuntu1~20.04.2) 9.4.0 Ubuntu 22.04 (ARM) Kernel: Depends on container host Compiler: gcc (Ubuntu 11.4.0-1ubuntu1~22.04) 11.4.0 Ubuntu 24.04 (ARM) Kernel: Depends on container host Compiler: gcc (Ubuntu 13.3.0-6ubuntu2~24.04) 13.3.0 CentOS Stream 9 (ARM) Kernel: Depends on container host Compiler: gcc 11.5.0 20240719 (Red Hat 11.5.0-2) Debian 12 (arm) Kernel: Depends on container host Compiler: gcc (Debian 12.2.0-14) 12.2.0 CentOS Stream 10 (ARM) Kernel: Depends on container host Compiler: gcc 14.2.1 20241104 (Red Hat 14.2.1-6) To view detailed results, visit: https://lab.dpdk.org/results/dashboard/tarballs/33575/ UNH-IOL DPDK Community Lab To manage your email subscriptions, visit: https://lab.dpdk.org/results/dashboard/preferences/subscriptions/