From mboxrd@z Thu Jan 1 00:00:00 1970 Return-Path: Received: from mails.dpdk.org (mails.dpdk.org [217.70.189.124]) by inbox.dpdk.org (Postfix) with ESMTP id 12E4E46780 for ; Sun, 18 May 2025 10:42:32 +0200 (CEST) Received: from mails.dpdk.org (localhost [127.0.0.1]) by mails.dpdk.org (Postfix) with ESMTP id E73E3402AF; Sun, 18 May 2025 10:42:31 +0200 (CEST) Received: from mail-pg1-f226.google.com (mail-pg1-f226.google.com [209.85.215.226]) by mails.dpdk.org (Postfix) with ESMTP id DBD0A400D6 for ; Sun, 18 May 2025 10:42:29 +0200 (CEST) Received: by mail-pg1-f226.google.com with SMTP id 41be03b00d2f7-b1ff9b276c2so2045824a12.1 for ; Sun, 18 May 2025 01:42:29 -0700 (PDT) DKIM-Signature: v=1; a=rsa-sha256; c=relaxed/relaxed; d=iol.unh.edu; s=unh-iol; t=1747557749; x=1748162549; darn=dpdk.org; h=cc:to:from:subject:message-id:date:from:to:cc:subject:date :message-id:reply-to; bh=k5yyB5dOyYMAkyu2lqlmndLu5ekLPfwR8zo/zjDhAvM=; b=BwJUZoWEmSbXrjuRz/HDSnQtxDoDVRd1zX8wqxq0ninsTfzMLlT8KYf/AbnvIlVRZG GdKYb7TS2HhAF6/Aejw5nz4O02FBHZV0j+wygVrRke3DzLdvK5GdQK/JvpvGWIaaND2J Y7DyVAm3P+GGvmFe3ad81R0HerFGapGttHW7M= X-Google-DKIM-Signature: v=1; a=rsa-sha256; c=relaxed/relaxed; d=1e100.net; s=20230601; t=1747557749; x=1748162549; h=cc:to:from:subject:message-id:date:x-gm-message-state:from:to:cc :subject:date:message-id:reply-to; bh=k5yyB5dOyYMAkyu2lqlmndLu5ekLPfwR8zo/zjDhAvM=; b=IBKRqQvkOOsZAvi/B0sGquNC+Y73KwP3bYU/IWu2xQJ5IXcGA2cXSIrCjj/fB1JyKu cFjB4FVH56/tCPVMFwnwDwogUczN8uGc22z2yfZVIqkEKFDwNhfhtuEL3VTBhLf69uEX DIZz6aDgcD4SZfppGB0SocQgG/OymUW3rrfoukUMnWVUmQFsHNKR6RECBgai5dJzPSam qhz7bVf2jVaxuN7rc9uFld/cJ4BtcVDxg19EFzhld9q71CgjPJIlRoCW+kRab5mnzC1m uVRBJeGEhmpVLG0a4Na02EwwHQ/dQoeFceM3t0snyXLi/y1fLVPkakBLIh8WCpE/CG5O 8Zyw== X-Gm-Message-State: AOJu0YwCxhSTEbf8Qe1h4FU6ybiRiBCV0a2uta81tW9heWaGVQZ6vZEY /kcQPWbS6Gk3BdFjK8L1xeu7IJwcioZYuOfuuT4BXRtVYinMKp2iO9n3i/gZHcBLlVatI3Q4DYI S1+GpxDJyxT4e2Nl6dKlAKnxmpkQw1elzP2oRvpYizMHk7NSl3Ln4 X-Gm-Gg: ASbGnctwIioat+i6ZI5edwnz2Rt/byK4FYnVxMfF7AfNshuzot8NguvVMYiKaJaWVDZ iBqLy8tjBbntyK6PJVKcfn55J7enqSDk/dZCYemZU6/t34+9u/koOZQAFv4bkTICy6AISUQGUjv iMJQOnIHIIArC/CET3XL4nu7Cp2taD5ZBujgLWFDkyp95CoGOGgAmyYHI9MrX6G1dMJ9Xv3Zggd BBZB2qvLNxYwLhznsysLdciP7flRAVYVIbqsK3RVHncQyQs8jE1hYIcCJfmKUaCwyJ7qCted9uV 4DaO4DiKPO/R/D9ZB7J78DdbmXGuaJfrasJL X-Google-Smtp-Source: AGHT+IEQMkZT1rrNKeyo5gsCkMuZBMnJaW1I714w3jt37Bq+4BUynl4BvIooyne2ancmbcSv+gY474md/6uf X-Received: by 2002:a17:902:ea0a:b0:22c:35c5:e30a with SMTP id d9443c01a7336-231d44d70a9mr122358255ad.16.1747557748844; Sun, 18 May 2025 01:42:28 -0700 (PDT) Received: from postal.iol.unh.edu (postal.iol.unh.edu. [2606:4100:3880:1234::84]) by smtp-relay.gmail.com with ESMTPS id d9443c01a7336-231d4e97235sm2903505ad.86.2025.05.18.01.42.28 (version=TLS1_2 cipher=ECDHE-ECDSA-AES128-GCM-SHA256 bits=128/128); Sun, 18 May 2025 01:42:28 -0700 (PDT) X-Relaying-Domain: iol.unh.edu Date: Sun, 18 May 2025 01:42:28 -0700 (PDT) Message-ID: <68299d74.170a0220.2e319b.008fSMTPIN_ADDED_MISSING@mx.google.com> Received: from [172.17.0.4] (unknown [172.18.0.74]) by postal.iol.unh.edu (Postfix) with ESMTP id EEBE96052471; Sun, 18 May 2025 04:42:27 -0400 (EDT) Subject: |SUCCESS| [GIT MASTER] 4c5634de9f933555bab9c64a533d3dca999071cd From: dpdklab@iol.unh.edu To: Test Report Cc: dpdk-test-reports@iol.unh.edu, Xueming Li , Christian Ehrhardt , Kevin Traynor , Luca Boccassi Content-Type: text/plain X-BeenThere: test-report@dpdk.org X-Mailman-Version: 2.1.29 Precedence: list List-Id: automatic DPDK test reports List-Unsubscribe: , List-Archive: List-Post: List-Help: List-Subscribe: , Errors-To: test-report-bounces@dpdk.org _Testing PASS_ Branch: tags/v24.11 4c5634de9f933555bab9c64a533d3dca999071cd --> testing pass Upstream job id: Generic-DPDK-Compile-Meson#389248 Test environment and result as below: +------------------------------------+--------------------+ | Environment | dpdk_meson_compile | +====================================+====================+ | RHEL9 (ARM) | PASS | +------------------------------------+--------------------+ | Debian 12 (arm) | PASS | +------------------------------------+--------------------+ | Ubuntu 20.04 ARM SVE | PASS | +------------------------------------+--------------------+ | CentOS Stream 10 (ARM) | PASS | +------------------------------------+--------------------+ | Ubuntu 22.04 (ARM) | PASS | +------------------------------------+--------------------+ | Fedora 40 (ARM) | PASS | +------------------------------------+--------------------+ | Fedora 41 (ARM) | PASS | +------------------------------------+--------------------+ | Ubuntu 20.04 ARM GCC Cross Compile | PASS | +------------------------------------+--------------------+ | Debian 12 with MUSDK | PASS | +------------------------------------+--------------------+ | CentOS Stream 9 (ARM) | PASS | +------------------------------------+--------------------+ | Fedora 40 (ARM Clang) | PASS | +------------------------------------+--------------------+ | Ubuntu 20.04 (ARM) | PASS | +------------------------------------+--------------------+ | Fedora 41 (ARM Clang) | PASS | +------------------------------------+--------------------+ | Ubuntu 24.04 (ARM) | PASS | +------------------------------------+--------------------+ RHEL9 (ARM) Kernel: Depends on container host Compiler: gcc 11.5.0 20240719 (Red Hat 11.5.0-2) Debian 12 (arm) Kernel: Depends on container host Compiler: gcc (Debian 12.2.0-14) 12.2.0 Ubuntu 20.04 ARM SVE Kernel: Depends on container host Compiler: gcc (Ubuntu 10.5.0-1ubuntu1~20.04) 10.5.0 CentOS Stream 10 (ARM) Kernel: Depends on container host Compiler: gcc 14.2.1 20241104 (Red Hat 14.2.1-6) Ubuntu 22.04 (ARM) Kernel: Depends on container host Compiler: gcc (Ubuntu 11.4.0-1ubuntu1~22.04) 11.4.0 Fedora 40 (ARM) Kernel: Depends on container host Compiler: gcc 14.2.1 20240912 (Red Hat 14.2.1-3) Fedora 41 (ARM) Kernel: Depends on container host Compiler: gcc 14.2.1 20240912 (Red Hat 14.2.1-3) Ubuntu 20.04 ARM GCC Cross Compile Kernel: Depends on container host Compiler: aarch64-linux-gnu-gcc (Ubuntu 9.4.0-1ubuntu1~20.04.2) 9.4.0 Debian 12 with MUSDK Kernel: Depends on container host Compiler: gcc (Debian 12.2.0-14) 12.2.0 CentOS Stream 9 (ARM) Kernel: Depends on container host Compiler: gcc 11.5.0 20240719 (Red Hat 11.5.0-2) Fedora 40 (ARM Clang) Kernel: Depends on container host Compiler: clang 18.1.8 (Fedora 18.1.8-1.fc40) Ubuntu 20.04 (ARM) Kernel: Depends on container host Compiler: gcc (Ubuntu 9.4.0-1ubuntu1~20.04.2) 9.4.0 Fedora 41 (ARM Clang) Kernel: Depends on container host Compiler: clang 19.1.5 (Fedora 19.1.5-1.fc41) Ubuntu 24.04 (ARM) Kernel: Depends on container host Compiler: gcc (Ubuntu 13.3.0-6ubuntu2~24.04) 13.3.0 To view detailed results, visit: https://lab.dpdk.org/results/dashboard/tarballs/33573/ UNH-IOL DPDK Community Lab To manage your email subscriptions, visit: https://lab.dpdk.org/results/dashboard/preferences/subscriptions/