From mboxrd@z Thu Jan 1 00:00:00 1970 Return-Path: Received: from mails.dpdk.org (mails.dpdk.org [217.70.189.124]) by inbox.dpdk.org (Postfix) with ESMTP id B390E46778 for ; Sun, 18 May 2025 12:10:13 +0200 (CEST) Received: from mails.dpdk.org (localhost [127.0.0.1]) by mails.dpdk.org (Postfix) with ESMTP id 90302402AF; Sun, 18 May 2025 12:10:13 +0200 (CEST) Received: from mail-pl1-f226.google.com (mail-pl1-f226.google.com [209.85.214.226]) by mails.dpdk.org (Postfix) with ESMTP id 568EA400D6 for ; Sun, 18 May 2025 12:10:12 +0200 (CEST) Received: by mail-pl1-f226.google.com with SMTP id d9443c01a7336-231c86bffc1so33474605ad.0 for ; Sun, 18 May 2025 03:10:12 -0700 (PDT) DKIM-Signature: v=1; a=rsa-sha256; c=relaxed/relaxed; d=iol.unh.edu; s=unh-iol; t=1747563011; x=1748167811; darn=dpdk.org; h=references:in-reply-to:cc:to:from:subject:message-id:date:from:to :cc:subject:date:message-id:reply-to; bh=TJD/mwByTJdRjdbxsCE867JISleOrFZjDl5yG2HczhY=; b=PT2OfGT6zTXzzRSbQEvPfdf4s4b1n/mjOws9w3/Z1WeJTkAJ0rNOb9bVUi4ExTr5pg GLwxMsta8CfZaayP2t5wDD5+b0371xXqteoXktHUsuwa9HrvNIpc3oan0aV3zEWoXitC cgPKmje1r6/8cIS/AyIVn6sBD2mdy+j77I98E= X-Google-DKIM-Signature: v=1; a=rsa-sha256; c=relaxed/relaxed; d=1e100.net; s=20230601; t=1747563011; x=1748167811; h=references:in-reply-to:cc:to:from:subject:message-id:date :x-gm-message-state:from:to:cc:subject:date:message-id:reply-to; bh=TJD/mwByTJdRjdbxsCE867JISleOrFZjDl5yG2HczhY=; b=Yp995+E7PToK8Qm4MlH7eykAcEFokWOYsKjrXfCWH56bvlaSZYZx0d0Lap2G+G9I35 GuUKOXy2SqyH3e/cOIRD7lVXsj1yHEoEC3vjWdbwHCgLglnY2VkIfmUnzzoAQ8b2koB1 InOXYTQ/TDhbp2NZ8W9XadCSx3h6mRCZJLbnALJXpwLZlD55blFc/ADmasBU9cFASncg gRCqDkfco/0nNXX+dn9zpYzMISwnHu6RvzvwG+3OZOLNRYksOCz9HGXmbL/vzLDmdJBE vFsDu9DkstJaUOmERGHTevNf/GAuJ/Wen9caCkC+2hqx592MGIk+Ao24ahqEgGSx8Z5z sCvw== X-Gm-Message-State: AOJu0YxF53T2HEvx67l9oJxJJyp2sQbqTzDBvZyE69WXGq2x8MdbySAk hUmdmoEJcJIaUM1lESK+uCy4czyO1pvHXfB1atUqn8D1N3zbqgRFHUiHf1JVRlVeYGhT4gF62rT QfdVbrdsYsinIzvSj7J/rRuVzLUT/JHX5ettfyq0wSFvp X-Gm-Gg: ASbGncuRcce9PAYsNuQRMFWQmlhAv8iYVhvZhoI/Red0Ln3bHoOAbgmT4uutS813EY5 IRFPd6qA2uZSleVAB9ai9wTmZyNfnpXVDZM7fF9sH8RAkKA4BlIPCpOxT5jQSp0e7hoZvt4RhxW SozEgBKKXmQgt6EDF8pWexAV6O8BfyLcEwOrxmvO8hxODAOL/4VccPDTrATv3pQwjyy354EeEHj Lf9Xrr4TIjWAdkY/Vag4H0YYdVF6cAUusZyHzDAq/u/V1RrGz1EUWArCL+PkZ63NkZfAtyX3vaw /Mkiqvul8RQxqIrd/n7ESYKhjCP9e2RCyaZZZ0Do6woLcmAyuYQBV0SmFe0= X-Google-Smtp-Source: AGHT+IHjJzU+kTOuGU3/UDM//KfLbXeB68e4zVcw23tOpL/HKgGi7YTGcygoK4I8kNVxiPFTGlXTURxLxr4u X-Received: by 2002:a17:902:d486:b0:224:1609:a74a with SMTP id d9443c01a7336-231de3ae59amr121603385ad.34.1747563011417; Sun, 18 May 2025 03:10:11 -0700 (PDT) Received: from postal.iol.unh.edu (postal.iol.unh.edu. [132.177.123.84]) by smtp-relay.gmail.com with ESMTPS id d9443c01a7336-231d4ad4480sm2894735ad.48.2025.05.18.03.10.11 (version=TLS1_2 cipher=ECDHE-ECDSA-AES128-GCM-SHA256 bits=128/128); Sun, 18 May 2025 03:10:11 -0700 (PDT) X-Relaying-Domain: iol.unh.edu Date: Sun, 18 May 2025 03:10:11 -0700 (PDT) Message-ID: <6829b203.170a0220.2cac35.440cSMTPIN_ADDED_MISSING@mx.google.com> Received: from [172.17.0.3] (unknown [172.18.0.74]) by postal.iol.unh.edu (Postfix) with ESMTP id C7A876052471; Sun, 18 May 2025 06:10:10 -0400 (EDT) Subject: |SUCCESS| pw153507-153509 [PATCH] [3/3] bitset: promote API stable From: dpdklab@iol.unh.edu To: Test Report Cc: dpdk-test-reports@iol.unh.edu In-Reply-To: <20250518080556.675092-3-mattias.ronnblom@ericsson.com> References: <20250518080556.675092-3-mattias.ronnblom@ericsson.com> Content-Type: text/plain X-BeenThere: test-report@dpdk.org X-Mailman-Version: 2.1.29 Precedence: list List-Id: automatic DPDK test reports List-Unsubscribe: , List-Archive: List-Post: List-Help: List-Subscribe: , Errors-To: test-report-bounces@dpdk.org Test-Label: iol-unit-amd64-testing Test-Status: SUCCESS http://dpdk.org/patch/153509 _Testing PASS_ Submitter: Mattias Ronnblom Date: Sunday, May 18 2025 08:05:56 DPDK git baseline: Repo:dpdk Branch: master CommitID:117e86c4b96ed761e9a7ab766261208fe81bf5ca 153507-153509 --> testing pass Upstream job id: Generic-Unit-Test-DPDK#338967 Test environment and result as below: +---------------------+----------------+ | Environment | dpdk_unit_test | +=====================+================+ | CentOS Stream 9 | PASS | +---------------------+----------------+ | Fedora 40 | PASS | +---------------------+----------------+ | CentOS Stream 10 | PASS | +---------------------+----------------+ | Debian 12 | PASS | +---------------------+----------------+ | Fedora 40 (Clang) | PASS | +---------------------+----------------+ | Ubuntu 20.04 | PASS | +---------------------+----------------+ | Fedora 41 | PASS | +---------------------+----------------+ | Ubuntu 22.04 | PASS | +---------------------+----------------+ | Fedora 41 (Clang) | PASS | +---------------------+----------------+ | RHEL9 | PASS | +---------------------+----------------+ | RHEL8 | PASS | +---------------------+----------------+ | Ubuntu 24.04 | PASS | +---------------------+----------------+ | Windows Server 2022 | PASS | +---------------------+----------------+ CentOS Stream 9 Kernel: Depends on container host Compiler: gcc 11.5.0 20240719 (Red Hat 11.5.0-2) Fedora 40 Kernel: Depends on container host Compiler: gcc 14.2.1 20240912 (Red Hat 14.2.1-3) CentOS Stream 10 Kernel: Depends on container host Compiler: gcc 14.2.1 20241104 (Red Hat 14.2.1-6) Debian 12 Kernel: Depends on container host Compiler: gcc (Debian 12.2.0-14) 12.2.0 Fedora 40 (Clang) Kernel: Depends on container host Compiler: clang 18.1.8 (Fedora 18.1.8-1.fc40) Ubuntu 20.04 Kernel: Depends on container host Compiler: gcc (Ubuntu 9.4.0-1ubuntu1~20.04.2) 9.4.0 Fedora 41 Kernel: Depends on container host Compiler: gcc 14.2.1 20240912 (Red Hat 14.2.1-3) Ubuntu 22.04 Kernel: Depends on container host Compiler: gcc (Ubuntu 11.4.0-1ubuntu1~22.04) 11.4.0 Fedora 41 (Clang) Kernel: Depends on container host Compiler: clang 19.1.5 (Fedora 19.1.5-1.fc41) RHEL9 Kernel: Depends on container host Compiler: gcc 11.5.0 20240719 (Red Hat 11.5.0-2) RHEL8 Kernel: Depends on container host Compiler: gcc 8.5.0 20210514 (Red Hat 8.5.0-22) Ubuntu 24.04 Kernel: Depends on container host Compiler: gcc (Ubuntu 13.3.0-6ubuntu2~24.04) 13.3.0 Windows Server 2022 Kernel: 10.0.20348.2031 Compiler: clang 15.0.7, gcc 14.1.0 (MinGW), and MSVC VS 19.39.33521 To view detailed results, visit: https://lab.dpdk.org/results/dashboard/patchsets/33203/ UNH-IOL DPDK Community Lab To manage your email subscriptions, visit: https://lab.dpdk.org/results/dashboard/preferences/subscriptions/