From: dpdklab@iol.unh.edu
To: Test Report <test-report@dpdk.org>
Cc: dpdk-test-reports@iol.unh.edu
Subject: |SUCCESS| pw153507-153509 [PATCH] [3/3] bitset: promote API stable
Date: Sun, 18 May 2025 03:13:11 -0700 (PDT) [thread overview]
Message-ID: <6829b2b7.050a0220.2fcd4.fe35SMTPIN_ADDED_MISSING@mx.google.com> (raw)
In-Reply-To: <20250518080556.675092-3-mattias.ronnblom@ericsson.com>
Test-Label: iol-sample-apps-testing
Test-Status: SUCCESS
http://dpdk.org/patch/153509
_Testing PASS_
Submitter: Mattias Ronnblom <mattias.ronnblom@ericsson.com>
Date: Sunday, May 18 2025 08:05:56
DPDK git baseline: Repo:dpdk
Branch: master
CommitID:117e86c4b96ed761e9a7ab766261208fe81bf5ca
153507-153509 --> testing pass
Upstream job id: Template-DTS-Pipeline#226534
Test environment and result as below:
+--------------+----------------------+----------------------+
| Environment | dpdk_fips_validation | compressdev_zlib_pmd |
+==============+======================+======================+
| Ubuntu 20.04 | PASS | SKIPPED |
+--------------+----------------------+----------------------+
| Ubuntu 22.04 | SKIPPED | PASS |
+--------------+----------------------+----------------------+
Ubuntu 20.04
Kernel: Depends on container host
Compiler: gcc (Ubuntu 9.4.0-1ubuntu1~20.04.2) 9.4.0
Ubuntu 22.04
Kernel: 5.15.0-100-generic
Compiler: gcc gcc (Ubuntu 11.4.0-1ubuntu1~22.04) 11.4.0
To view detailed results, visit:
https://lab.dpdk.org/results/dashboard/patchsets/33203/
UNH-IOL DPDK Community Lab
To manage your email subscriptions, visit:
https://lab.dpdk.org/results/dashboard/preferences/subscriptions/
next prev parent reply other threads:[~2025-05-18 10:13 UTC|newest]
Thread overview: 21+ messages / expand[flat|nested] mbox.gz Atom feed top
[not found] <20250518080556.675092-3-mattias.ronnblom@ericsson.com>
2025-05-18 7:43 ` |SUCCESS| pw153507-153509 [PATCH 3/3] " qemudev
2025-05-18 7:47 ` qemudev
2025-05-18 8:19 ` |WARNING| pw153509 " checkpatch
2025-05-18 9:03 ` |SUCCESS| " 0-day Robot
2025-05-18 9:06 ` |SUCCESS| pw153507-153509 [PATCH] [3/3] " dpdklab
2025-05-18 9:15 ` dpdklab
2025-05-18 9:15 ` |PENDING| " dpdklab
2025-05-18 9:16 ` |SUCCESS| " dpdklab
2025-05-18 9:16 ` dpdklab
2025-05-18 9:19 ` dpdklab
2025-05-18 9:31 ` dpdklab
2025-05-18 9:37 ` dpdklab
2025-05-18 9:39 ` |PENDING| " dpdklab
2025-05-18 9:39 ` |SUCCESS| " dpdklab
2025-05-18 9:44 ` |PENDING| " dpdklab
2025-05-18 9:47 ` |SUCCESS| " dpdklab
2025-05-18 10:10 ` dpdklab
2025-05-18 10:13 ` dpdklab [this message]
2025-05-18 10:25 ` dpdklab
2025-05-18 14:11 ` dpdklab
2025-05-18 15:21 ` dpdklab
Reply instructions:
You may reply publicly to this message via plain-text email
using any one of the following methods:
* Save the following mbox file, import it into your mail client,
and reply-to-all from there: mbox
Avoid top-posting and favor interleaved quoting:
https://en.wikipedia.org/wiki/Posting_style#Interleaved_style
* Reply using the --to, --cc, and --in-reply-to
switches of git-send-email(1):
git send-email \
--in-reply-to=6829b2b7.050a0220.2fcd4.fe35SMTPIN_ADDED_MISSING@mx.google.com \
--to=dpdklab@iol.unh.edu \
--cc=dpdk-test-reports@iol.unh.edu \
--cc=test-report@dpdk.org \
/path/to/YOUR_REPLY
https://kernel.org/pub/software/scm/git/docs/git-send-email.html
* If your mail client supports setting the In-Reply-To header
via mailto: links, try the mailto: link
Be sure your reply has a Subject: header at the top and a blank line
before the message body.
This is a public inbox, see mirroring instructions
for how to clone and mirror all data and code used for this inbox;
as well as URLs for NNTP newsgroup(s).