From mboxrd@z Thu Jan 1 00:00:00 1970 Return-Path: Received: from mails.dpdk.org (mails.dpdk.org [217.70.189.124]) by inbox.dpdk.org (Postfix) with ESMTP id 1379646781 for ; Sun, 18 May 2025 12:25:56 +0200 (CEST) Received: from mails.dpdk.org (localhost [127.0.0.1]) by mails.dpdk.org (Postfix) with ESMTP id DECBD402CB; Sun, 18 May 2025 12:25:55 +0200 (CEST) Received: from mail-oa1-f97.google.com (mail-oa1-f97.google.com [209.85.160.97]) by mails.dpdk.org (Postfix) with ESMTP id DF7A7402AF for ; Sun, 18 May 2025 12:25:54 +0200 (CEST) Received: by mail-oa1-f97.google.com with SMTP id 586e51a60fabf-2d0d25cebfeso1335331fac.2 for ; Sun, 18 May 2025 03:25:54 -0700 (PDT) DKIM-Signature: v=1; a=rsa-sha256; c=relaxed/relaxed; d=iol.unh.edu; s=unh-iol; t=1747563954; x=1748168754; darn=dpdk.org; h=references:in-reply-to:cc:to:from:subject:message-id:date:from:to :cc:subject:date:message-id:reply-to; bh=FL0ekWd6Noi3X7ictEEggoctPBEC44LRC7MsqbO4zgA=; b=elkR/ij7SjG2DLyjhk3bc7xTT3v87KtEDcCIfR/rIW2WFGe5pT/bTxZNhQgzYIClc/ Z2waRBwyvY7OgiDmpQu08bu4+YzCBU5X61njiV43UuBno6tq5dN3QFwHfPuE805yKIQe MR7aAwlxSDUZ0dlBAnX1AdvsdOFVWvosKzS4I= X-Google-DKIM-Signature: v=1; a=rsa-sha256; c=relaxed/relaxed; d=1e100.net; s=20230601; t=1747563954; x=1748168754; h=references:in-reply-to:cc:to:from:subject:message-id:date :x-gm-message-state:from:to:cc:subject:date:message-id:reply-to; bh=FL0ekWd6Noi3X7ictEEggoctPBEC44LRC7MsqbO4zgA=; b=PEYSTtuI30yreZHSMRBR0LamjCqWwbrKe+Qc7lVkc8RWpyRz+jKK1+04AmtHoE5+Od 8e9M0D02cFh+o470XVq/XY3OxXxkleGPZrumxRwq9CMFuRoaFRitdIsHYocaIXkQlvH2 WqZJ4vEDyS3QG9Qo1gQvz93DgQwopGVo/i4qmkxFEe1+hg14wan4r0h2DTU0m9K0Uc1p ZJGUwmnhyczDuB/kG9hiDAhV//Yc9JxLLyB6PRB2qlIM7ZpJ5+2Scof3oLa++4a+DgFk 8tZZwQez43Fi7KBqeZI4CxG6+4bT8yZTOr919TN3WN+7Yvk4l9vWmZdRlXLsfmlx+ZJ2 pVFA== X-Gm-Message-State: AOJu0YzRZ9rE+y/uKKNwSd1JO+2mhLENz84QbbViWa41PKqlkWWyKHj+ f6g8aPfbHc/dDA2jcB3qoqq+dT38o2LRq5koXd4EsAdKw+FAHorOpjDfcItFrGQOcPE5kbVvKKF y3GM5sLt8jSgseiL4JDkSCNhOt88hxxnBnhyR9v7hz6+V X-Gm-Gg: ASbGncsaRcxZdiK+Q4uasVleu6KqR5tmOtj6iGlELTVKq3o04BUyAt9VUGlFc8+PFb5 Wg/jtFM+M10aeTboLopy7xlUAsjh1QeA+GClWaPJ0KNi3RfHcUs/KuBzsjWcDw69menA0lE6KqO 1ZjIPrcTfDTkV5/2NayAKHzq6QnlZMBJmDG2Un980NJdIK9KDMwEXWX/c5z/SKICtgWwFSuPm5a lhMg2UmsZiXIwr8TMqH1n/9g7VrHmMlvIBkADzVHrwB7wAVvmux3Y+owSGax+bpH7vZ4jyEXdXJ Jm+DRpj9JyMPaw/jcxg3o5H9o5wbNqpZGuXcbY11/TKuNhQzQkNz4D553oQ= X-Google-Smtp-Source: AGHT+IGqfCNnMpN6mL5K6iqUHs6Uoyv0oGUvwlaEJ0T9uRPTS0Fadx7Ajfpwu/ormKN/xm2cV78Tu+wPNhtq X-Received: by 2002:a05:6870:b008:b0:2c1:5fe3:22eb with SMTP id 586e51a60fabf-2e3c1c09f18mr5233536fac.15.1747563953816; Sun, 18 May 2025 03:25:53 -0700 (PDT) Received: from postal.iol.unh.edu (postal.iol.unh.edu. [132.177.123.84]) by smtp-relay.gmail.com with ESMTPS id 586e51a60fabf-2e3c0c9bd38sm291291fac.40.2025.05.18.03.25.53 (version=TLS1_2 cipher=ECDHE-ECDSA-AES128-GCM-SHA256 bits=128/128); Sun, 18 May 2025 03:25:53 -0700 (PDT) X-Relaying-Domain: iol.unh.edu Date: Sun, 18 May 2025 03:25:53 -0700 (PDT) Message-ID: <6829b5b1.050a0220.1a47a9.0892SMTPIN_ADDED_MISSING@mx.google.com> Received: from [172.17.0.2] (unknown [172.18.0.76]) by postal.iol.unh.edu (Postfix) with ESMTP id 3E7866052471; Sun, 18 May 2025 06:25:53 -0400 (EDT) Subject: |SUCCESS| pw153507-153509 [PATCH] [3/3] bitset: promote API stable From: dpdklab@iol.unh.edu To: Test Report Cc: dpdk-test-reports@iol.unh.edu In-Reply-To: <20250518080556.675092-3-mattias.ronnblom@ericsson.com> References: <20250518080556.675092-3-mattias.ronnblom@ericsson.com> Content-Type: text/plain X-BeenThere: test-report@dpdk.org X-Mailman-Version: 2.1.29 Precedence: list List-Id: automatic DPDK test reports List-Unsubscribe: , List-Archive: List-Post: List-Help: List-Subscribe: , Errors-To: test-report-bounces@dpdk.org Test-Label: iol-compile-amd64-testing Test-Status: SUCCESS http://dpdk.org/patch/153509 _Testing PASS_ Submitter: Mattias Ronnblom Date: Sunday, May 18 2025 08:05:56 DPDK git baseline: Repo:dpdk Branch: master CommitID:117e86c4b96ed761e9a7ab766261208fe81bf5ca 153507-153509 --> testing pass Upstream job id: Generic-DPDK-Compile-Meson#389295 Test environment and result as below: +-----------------------------------+--------------------+-------------------+------------------+-------------------------+-------------------+----------------------+ | Environment | dpdk_meson_compile | dpdk_compile_spdk | dpdk_compile_ovs | dpdk_llvm_clang_compile | dpdk_msvc_compile | dpdk_mingw64_compile | +===================================+====================+===================+==================+=========================+===================+======================+ | CentOS Stream 9 | PASS | PASS | SKIPPED | SKIPPED | SKIPPED | SKIPPED | +-----------------------------------+--------------------+-------------------+------------------+-------------------------+-------------------+----------------------+ | Debian 12 | PASS | PASS | SKIPPED | SKIPPED | SKIPPED | SKIPPED | +-----------------------------------+--------------------+-------------------+------------------+-------------------------+-------------------+----------------------+ | CentOS Stream 10 | PASS | SKIPPED | SKIPPED | SKIPPED | SKIPPED | SKIPPED | +-----------------------------------+--------------------+-------------------+------------------+-------------------------+-------------------+----------------------+ | Fedora 40 (Clang) | PASS | PASS | SKIPPED | SKIPPED | SKIPPED | SKIPPED | +-----------------------------------+--------------------+-------------------+------------------+-------------------------+-------------------+----------------------+ | Fedora 41 | PASS | PASS | PASS | SKIPPED | SKIPPED | SKIPPED | +-----------------------------------+--------------------+-------------------+------------------+-------------------------+-------------------+----------------------+ | Fedora 41 (Clang) | PASS | PASS | PASS | SKIPPED | SKIPPED | SKIPPED | +-----------------------------------+--------------------+-------------------+------------------+-------------------------+-------------------+----------------------+ | Ubuntu 22.04 | PASS | PASS | SKIPPED | SKIPPED | SKIPPED | SKIPPED | +-----------------------------------+--------------------+-------------------+------------------+-------------------------+-------------------+----------------------+ | RHEL9 | PASS | SKIPPED | SKIPPED | SKIPPED | SKIPPED | SKIPPED | +-----------------------------------+--------------------+-------------------+------------------+-------------------------+-------------------+----------------------+ | RHEL8 | PASS | SKIPPED | SKIPPED | SKIPPED | SKIPPED | SKIPPED | +-----------------------------------+--------------------+-------------------+------------------+-------------------------+-------------------+----------------------+ | Ubuntu 20.04 | PASS | SKIPPED | SKIPPED | SKIPPED | SKIPPED | SKIPPED | +-----------------------------------+--------------------+-------------------+------------------+-------------------------+-------------------+----------------------+ | openSUSE Leap 15 | PASS | SKIPPED | SKIPPED | SKIPPED | SKIPPED | SKIPPED | +-----------------------------------+--------------------+-------------------+------------------+-------------------------+-------------------+----------------------+ | Ubuntu 24.04 | PASS | PASS | PASS | SKIPPED | SKIPPED | SKIPPED | +-----------------------------------+--------------------+-------------------+------------------+-------------------------+-------------------+----------------------+ | Alpine | PASS | SKIPPED | SKIPPED | SKIPPED | SKIPPED | SKIPPED | +-----------------------------------+--------------------+-------------------+------------------+-------------------------+-------------------+----------------------+ | Ubuntu 24.04 32 Bit Cross Compile | PASS | SKIPPED | SKIPPED | SKIPPED | SKIPPED | SKIPPED | +-----------------------------------+--------------------+-------------------+------------------+-------------------------+-------------------+----------------------+ | FreeBSD 13.5 | PASS | SKIPPED | SKIPPED | SKIPPED | SKIPPED | SKIPPED | +-----------------------------------+--------------------+-------------------+------------------+-------------------------+-------------------+----------------------+ | FreeBSD 14.2 | PASS | SKIPPED | SKIPPED | SKIPPED | SKIPPED | SKIPPED | +-----------------------------------+--------------------+-------------------+------------------+-------------------------+-------------------+----------------------+ | Windows Server 2022 | SKIPPED | SKIPPED | SKIPPED | PASS | PASS | PASS | +-----------------------------------+--------------------+-------------------+------------------+-------------------------+-------------------+----------------------+ CentOS Stream 9 Kernel: Depends on container host Compiler: gcc 11.5.0 20240719 (Red Hat 11.5.0-2) Debian 12 Kernel: Depends on container host Compiler: gcc (Debian 12.2.0-14) 12.2.0 CentOS Stream 10 Kernel: Depends on container host Compiler: gcc 14.2.1 20241104 (Red Hat 14.2.1-6) Fedora 40 (Clang) Kernel: Depends on container host Compiler: clang 18.1.8 (Fedora 18.1.8-1.fc40) Fedora 41 Kernel: Depends on container host Compiler: gcc 14.2.1 20240912 (Red Hat 14.2.1-3) Fedora 41 (Clang) Kernel: Depends on container host Compiler: clang 19.1.5 (Fedora 19.1.5-1.fc41) Ubuntu 22.04 Kernel: Depends on container host Compiler: gcc (Ubuntu 11.4.0-1ubuntu1~22.04) 11.4.0 RHEL9 Kernel: Depends on container host Compiler: gcc 11.5.0 20240719 (Red Hat 11.5.0-2) RHEL8 Kernel: Depends on container host Compiler: gcc 8.5.0 20210514 (Red Hat 8.5.0-22) Ubuntu 20.04 Kernel: Depends on container host Compiler: gcc (Ubuntu 9.4.0-1ubuntu1~20.04.2) 9.4.0 openSUSE Leap 15 Kernel: Depends on container host Compiler: gcc (SUSE Linux) 7.5.0 Ubuntu 24.04 Kernel: Depends on container host Compiler: gcc (Ubuntu 13.3.0-6ubuntu2~24.04) 13.3.0 Alpine Kernel: Depends on container host Compiler: gcc (Alpine 14.2.0) 14.2.0 Ubuntu 24.04 32 Bit Cross Compile Kernel: Depends on container host Compiler: gcc (Ubuntu 13.3.0-6ubuntu2~24.04) 13.3.0 FreeBSD 13.5 Kernel: 13.5-RELEASE Compiler: clang 19.1.7 FreeBSD 14.2 Kernel: 14.2-RELEASE Compiler: clang 18.1.6 Windows Server 2022 Kernel: 10.0.20348.2031 Compiler: clang 15.0.7, gcc 14.1.0 (MinGW), and MSVC VS 19.39.33521 To view detailed results, visit: https://lab.dpdk.org/results/dashboard/patchsets/33203/ UNH-IOL DPDK Community Lab To manage your email subscriptions, visit: https://lab.dpdk.org/results/dashboard/preferences/subscriptions/