From mboxrd@z Thu Jan 1 00:00:00 1970 Return-Path: Received: from mails.dpdk.org (mails.dpdk.org [217.70.189.124]) by inbox.dpdk.org (Postfix) with ESMTP id 9AA9E46783 for ; Sun, 18 May 2025 16:11:22 +0200 (CEST) Received: from mails.dpdk.org (localhost [127.0.0.1]) by mails.dpdk.org (Postfix) with ESMTP id 56DFA406FF; Sun, 18 May 2025 16:11:22 +0200 (CEST) Received: from mail-pf1-f227.google.com (mail-pf1-f227.google.com [209.85.210.227]) by mails.dpdk.org (Postfix) with ESMTP id F367F406BC for ; Sun, 18 May 2025 16:11:20 +0200 (CEST) Received: by mail-pf1-f227.google.com with SMTP id d2e1a72fcca58-73712952e1cso3374792b3a.1 for ; Sun, 18 May 2025 07:11:20 -0700 (PDT) DKIM-Signature: v=1; a=rsa-sha256; c=relaxed/relaxed; d=iol.unh.edu; s=unh-iol; t=1747577479; x=1748182279; darn=dpdk.org; h=references:in-reply-to:cc:to:from:subject:message-id:date:from:to :cc:subject:date:message-id:reply-to; bh=nIChKRj1eeFmaeuIrW9RAA2AmO6bjgpEfhg5XW0Ucls=; b=PGDkyQwwRGXc/B4tCLRj6vxuC4EnC89ib9yeb129vy3Vk8m/nuc/OZzDR1SNV/200Z NDufgDSz44+nnp8POjmDhm/k07t3k0ncxmc2GgeMPjicBUaUvZkIp8XCH8h2bvmqnRMM IjkAiXg8pLElsACbU6KL37WbVyQDVB0J1cnlc= X-Google-DKIM-Signature: v=1; a=rsa-sha256; c=relaxed/relaxed; d=1e100.net; s=20230601; t=1747577479; x=1748182279; h=references:in-reply-to:cc:to:from:subject:message-id:date :x-gm-message-state:from:to:cc:subject:date:message-id:reply-to; bh=nIChKRj1eeFmaeuIrW9RAA2AmO6bjgpEfhg5XW0Ucls=; b=ZqQxMNxpB2c9we4r3RogDluKYsntkgAmuEZy+VaG441QcHJ2EZVPimDicowdnr/yw5 ADsxqQpl0Wux4AcCwOW9veanXGpEANy8diJa/pLF0BXRdoYoQgW3IIzDg4SUaFQNUGcb c5kNHj/ijmg/JoFVbJCd+bamzFT+4G8iuG99u6qS3rGUN+DC8Vw5KGmd7BOhxN+R6TWV 1uLANLlmSpeRyPgrfboANogYbdX+HuvPc0+rO7p1j9QiuV6meilm500EaJgNT7MaDweF vtQ1zjv12C5rUEPQEb1OJBXZMs+2/Iq2ZoK+N197ebWyqz3Qk5BDg6EjFD/QQGWPVsv/ PgWQ== X-Gm-Message-State: AOJu0YxIkYlR6a2wjt6McdJXScF1xGvLjXCbH5MC2z7NBTUotuF25fsG nquPBO5AA8tNI9AogLUUr1szJ9hkx4koVj71OFLK56tDWGTtOXs/VZKHDQppsA/Zrdsjl61mUel X03CG2d4ZWMl4G0oLiqlXAnsEUnjnlC59l3Z0I5vtfkgV2GyGTKY+cp4rLn+U X-Gm-Gg: ASbGncsUo3pyCbNCBlz883gO8IGPBZ962bSu8aMBxzJ17Y909O6Na2s0ayQrRjiCD8u vEHiOAnyGYs9VFOh4X3nmoN73tyF/nnfocw6D6Y0X4CxJ8QXiDN1HM+w521Wb9pvzO5oXkgH/Ah wGirkdcLYYXlAkhPW6qtKA8naJyVLsi9adTLcUQllGwCBuPrdgH11gFnlsuZG4HyoXloAXe7t9M Cdc8HNMaovSImJ7Cnh7u9r0FiO4U0x3fa1ZgEgJuAtjNX7Hqy35wkmMGiTQuyPNUSXmhGMq2jsL 0fT6SCoLTWlNEwofwxuSkHyzPEfikiH+/6h3 X-Google-Smtp-Source: AGHT+IHZ7Lx0uC4nz9MKfw8Rv//ODdjza2xVTGlxfsKPQk2rbvSfPRl7PmYS9Imc3BNZqzC6cg1PZ1du28t1 X-Received: by 2002:a05:6a00:66d8:b0:740:9d6b:db1a with SMTP id d2e1a72fcca58-742acd507ccmr11032209b3a.15.1747577479459; Sun, 18 May 2025 07:11:19 -0700 (PDT) Received: from postal.iol.unh.edu (postal.iol.unh.edu. [2606:4100:3880:1234::84]) by smtp-relay.gmail.com with ESMTPS id d2e1a72fcca58-742a970d9f6sm312524b3a.1.2025.05.18.07.11.19 (version=TLS1_2 cipher=ECDHE-ECDSA-AES128-GCM-SHA256 bits=128/128); Sun, 18 May 2025 07:11:19 -0700 (PDT) X-Relaying-Domain: iol.unh.edu Date: Sun, 18 May 2025 07:11:19 -0700 (PDT) Message-ID: <6829ea87.050a0220.1b12b0.fc2bSMTPIN_ADDED_MISSING@mx.google.com> Received: from [172.17.0.2] (unknown [172.18.0.76]) by postal.iol.unh.edu (Postfix) with ESMTP id 8FE606052471; Sun, 18 May 2025 10:11:18 -0400 (EDT) Subject: |SUCCESS| pw153507-153509 [PATCH] [3/3] bitset: promote API stable From: dpdklab@iol.unh.edu To: Test Report Cc: dpdk-test-reports@iol.unh.edu In-Reply-To: <20250518080556.675092-3-mattias.ronnblom@ericsson.com> References: <20250518080556.675092-3-mattias.ronnblom@ericsson.com> Content-Type: text/plain X-BeenThere: test-report@dpdk.org X-Mailman-Version: 2.1.29 Precedence: list List-Id: automatic DPDK test reports List-Unsubscribe: , List-Archive: List-Post: List-Help: List-Subscribe: , Errors-To: test-report-bounces@dpdk.org Test-Label: iol-unit-arm64-testing Test-Status: SUCCESS http://dpdk.org/patch/153509 _Testing PASS_ Submitter: Mattias Ronnblom Date: Sunday, May 18 2025 08:05:56 DPDK git baseline: Repo:dpdk Branch: master CommitID:117e86c4b96ed761e9a7ab766261208fe81bf5ca 153507-153509 --> testing pass Upstream job id: Generic-Unit-Test-DPDK#338968 Test environment and result as below: +-----------------------------+----------------+------------------------------+---------------------------+--------------+ | Environment | dpdk_unit_test | cryptodev_sw_snow3g_autotest | cryptodev_sw_zuc_autotest | lpm_autotest | +=============================+================+==============================+===========================+==============+ | CentOS Stream 9 (ARM) | PASS | SKIPPED | SKIPPED | SKIPPED | +-----------------------------+----------------+------------------------------+---------------------------+--------------+ | Fedora 40 (ARM) | PASS | SKIPPED | SKIPPED | SKIPPED | +-----------------------------+----------------+------------------------------+---------------------------+--------------+ | Debian 12 (arm) | PASS | PASS | PASS | SKIPPED | +-----------------------------+----------------+------------------------------+---------------------------+--------------+ | Fedora 40 (ARM Clang) | PASS | SKIPPED | SKIPPED | SKIPPED | +-----------------------------+----------------+------------------------------+---------------------------+--------------+ | Fedora 41 (ARM Clang) | PASS | SKIPPED | SKIPPED | SKIPPED | +-----------------------------+----------------+------------------------------+---------------------------+--------------+ | RHEL9 (ARM) | PASS | SKIPPED | SKIPPED | SKIPPED | +-----------------------------+----------------+------------------------------+---------------------------+--------------+ | CentOS Stream 10 (ARM) | PASS | SKIPPED | SKIPPED | SKIPPED | +-----------------------------+----------------+------------------------------+---------------------------+--------------+ | Fedora 41 (ARM) | PASS | SKIPPED | SKIPPED | SKIPPED | +-----------------------------+----------------+------------------------------+---------------------------+--------------+ | Ubuntu 22.04 (ARM) | PASS | SKIPPED | SKIPPED | SKIPPED | +-----------------------------+----------------+------------------------------+---------------------------+--------------+ | Ubuntu 20.04 (ARM) | PASS | SKIPPED | SKIPPED | SKIPPED | +-----------------------------+----------------+------------------------------+---------------------------+--------------+ | Ubuntu 24.04 (ARM) | PASS | SKIPPED | SKIPPED | SKIPPED | +-----------------------------+----------------+------------------------------+---------------------------+--------------+ | 32-bit Ubuntu 22.04.4 (ARM) | PASS | SKIPPED | SKIPPED | SKIPPED | +-----------------------------+----------------+------------------------------+---------------------------+--------------+ | Ubuntu 20.04 ARM SVE | SKIPPED | SKIPPED | SKIPPED | PASS | +-----------------------------+----------------+------------------------------+---------------------------+--------------+ CentOS Stream 9 (ARM) Kernel: Depends on container host Compiler: gcc 11.5.0 20240719 (Red Hat 11.5.0-2) Fedora 40 (ARM) Kernel: Depends on container host Compiler: gcc 14.2.1 20240912 (Red Hat 14.2.1-3) Debian 12 (arm) Kernel: Depends on container host Compiler: gcc (Debian 12.2.0-14) 12.2.0 Fedora 40 (ARM Clang) Kernel: Depends on container host Compiler: clang 18.1.8 (Fedora 18.1.8-1.fc40) Fedora 41 (ARM Clang) Kernel: Depends on container host Compiler: clang 19.1.5 (Fedora 19.1.5-1.fc41) RHEL9 (ARM) Kernel: Depends on container host Compiler: gcc 11.5.0 20240719 (Red Hat 11.5.0-2) CentOS Stream 10 (ARM) Kernel: Depends on container host Compiler: gcc 14.2.1 20241104 (Red Hat 14.2.1-6) Fedora 41 (ARM) Kernel: Depends on container host Compiler: gcc 14.2.1 20240912 (Red Hat 14.2.1-3) Ubuntu 22.04 (ARM) Kernel: Depends on container host Compiler: gcc (Ubuntu 11.4.0-1ubuntu1~22.04) 11.4.0 Ubuntu 20.04 (ARM) Kernel: Depends on container host Compiler: gcc (Ubuntu 9.4.0-1ubuntu1~20.04.2) 9.4.0 Ubuntu 24.04 (ARM) Kernel: Depends on container host Compiler: gcc (Ubuntu 13.3.0-6ubuntu2~24.04) 13.3.0 32-bit Ubuntu 22.04.4 (ARM) Kernel: 5.15.83+ aarch64 Compiler: gcc (Ubuntu 11.4.0-1ubuntu1~22.04) 11.4.0 Ubuntu 20.04 ARM SVE Kernel: Depends on container host Compiler: gcc (Ubuntu 10.5.0-1ubuntu1~20.04) 10.5.0 To view detailed results, visit: https://lab.dpdk.org/results/dashboard/patchsets/33203/ UNH-IOL DPDK Community Lab To manage your email subscriptions, visit: https://lab.dpdk.org/results/dashboard/preferences/subscriptions/