From mboxrd@z Thu Jan 1 00:00:00 1970 Return-Path: Received: from mails.dpdk.org (mails.dpdk.org [217.70.189.124]) by inbox.dpdk.org (Postfix) with ESMTP id 28E3E46771 for ; Sun, 18 May 2025 17:21:48 +0200 (CEST) Received: from mails.dpdk.org (localhost [127.0.0.1]) by mails.dpdk.org (Postfix) with ESMTP id ECDD0402ED; Sun, 18 May 2025 17:21:47 +0200 (CEST) Received: from mail-yb1-f227.google.com (mail-yb1-f227.google.com [209.85.219.227]) by mails.dpdk.org (Postfix) with ESMTP id C0F67402C5 for ; Sun, 18 May 2025 17:21:46 +0200 (CEST) Received: by mail-yb1-f227.google.com with SMTP id 3f1490d57ef6-e7b9972069dso280244276.3 for ; Sun, 18 May 2025 08:21:46 -0700 (PDT) DKIM-Signature: v=1; a=rsa-sha256; c=relaxed/relaxed; d=iol.unh.edu; s=unh-iol; t=1747581706; x=1748186506; darn=dpdk.org; h=references:in-reply-to:cc:to:from:subject:message-id:date:from:to :cc:subject:date:message-id:reply-to; bh=04TkFAFRc5QqQm23da/MzFm5+wvC+z6sk6PyxgnxX/I=; b=g1XoUIzmlCodhfLytqteFrh38oNctMq8GOebpF8QtKWBdH+OF2W8GavqjysWbSXbns i6k/wzuCcDF2+Vpj0pYxqsPMruUF31eLppub0YqG1TGCjw3H8RUxm7c38CE0oU5Um8yA LALATdJ4wbN03O/W6OJPZLWIUeyYHqRPXiVM8= X-Google-DKIM-Signature: v=1; a=rsa-sha256; c=relaxed/relaxed; d=1e100.net; s=20230601; t=1747581706; x=1748186506; h=references:in-reply-to:cc:to:from:subject:message-id:date :x-gm-message-state:from:to:cc:subject:date:message-id:reply-to; bh=04TkFAFRc5QqQm23da/MzFm5+wvC+z6sk6PyxgnxX/I=; b=Ck5WLTMTzjSoCQMyaz/sB2m8cSaVRrfoQsZqaecljiwUKUHzhuPJGi5LdmwrzBHSlE gM3InHWssUwX0YplgqrtADb5OnXNpcD/TByCewudk9GoCO4UsVEo3RoHgLAV4stKj1ij tsdFac+4GGoRIFHlDJQK/MZbxqXCHoinrCSJIC95ai3ZhRSlHWwKvEu5OVzkClTCvyDT QmFBcKR/smPIUrpt7wfdTf1ENUJ1zK7FpnO+AoS39AzKnJpY7lIrx7mUrWWxgfN8IsaH dQp61a0+4Zd4ZzhzxBSHGEcuWdUZafxZduCyGHdbZhUehDA4OV0pB/84QzcGaulpbTvi WMHQ== X-Gm-Message-State: AOJu0Yx4VHqwMV/CcfDLS+9Yubahd7+Z8LxMnIb3iNus/JzcbD7gtwsR xAQOPmWK+IvKf9RbHqHXbGHl5/vbivdyjnWriHC+bLIVf/3O6wthkWxDDOOrTupY59xcX9YrhQo fPFWbuIh1sed2YfuApQnEpoP4RirQy5oroTwtWeHD0V2C X-Gm-Gg: ASbGncuqF0ddSEIvhGiyXhSUscIDOW1Cpn5sF+64fnJJKPeUBXYCG88Xh84zxQkdl1Y nKBLOTIAD0Pu8mLc33jTQhLLKFOuDcfaQtNVNmGznx8PRnu3ggw5102oTFcruL94wTaq1E9uNop 5vhf3zgXY0DKFiwxSxszuu1rcuql5ygJLfP5sCtUpfP1TGvHqmT51PhXJI/TrqiCBjXZGMboAgl EmsoUneDMfLKC3DbNT4tnpPvzJnGyU7AaZ2PiaPN0wGoFDyRYXBmXCDgs/EE/7UM/58Iz87mmK5 EAVc4ta/nEyFn9F5T9jvo2bZ8M8Efa1J26o0lrSwOgkE0EgZ+1dBQoeF3nk= X-Google-Smtp-Source: AGHT+IFnoullBRE9DwjS5xoNQ+MrIwWyzY2ywLGxjzuMHYv2ifM15W3Jvk/VCJs8IGr5ZOmf880ocF9rRBZ8 X-Received: by 2002:a05:6902:c08:b0:e72:e534:9a3c with SMTP id 3f1490d57ef6-e7b69e8656fmr13843767276.12.1747581706097; Sun, 18 May 2025 08:21:46 -0700 (PDT) Received: from postal.iol.unh.edu (postal.iol.unh.edu. [132.177.123.84]) by smtp-relay.gmail.com with ESMTPS id 3f1490d57ef6-e7b6ad102eesm107521276.18.2025.05.18.08.21.46 (version=TLS1_2 cipher=ECDHE-ECDSA-AES128-GCM-SHA256 bits=128/128); Sun, 18 May 2025 08:21:46 -0700 (PDT) X-Relaying-Domain: iol.unh.edu Date: Sun, 18 May 2025 08:21:46 -0700 (PDT) Message-ID: <6829fb0a.050a0220.50738.506bSMTPIN_ADDED_MISSING@mx.google.com> Received: from [172.17.0.2] (unknown [172.18.0.76]) by postal.iol.unh.edu (Postfix) with ESMTP id 6BFAE6052471; Sun, 18 May 2025 11:21:45 -0400 (EDT) Subject: |SUCCESS| pw153507-153509 [PATCH] [3/3] bitset: promote API stable From: dpdklab@iol.unh.edu To: Test Report Cc: dpdk-test-reports@iol.unh.edu In-Reply-To: <20250518080556.675092-3-mattias.ronnblom@ericsson.com> References: <20250518080556.675092-3-mattias.ronnblom@ericsson.com> Content-Type: text/plain X-BeenThere: test-report@dpdk.org X-Mailman-Version: 2.1.29 Precedence: list List-Id: automatic DPDK test reports List-Unsubscribe: , List-Archive: List-Post: List-Help: List-Subscribe: , Errors-To: test-report-bounces@dpdk.org Test-Label: iol-compile-arm64-testing Test-Status: SUCCESS http://dpdk.org/patch/153509 _Testing PASS_ Submitter: Mattias Ronnblom Date: Sunday, May 18 2025 08:05:56 DPDK git baseline: Repo:dpdk Branch: master CommitID:117e86c4b96ed761e9a7ab766261208fe81bf5ca 153507-153509 --> testing pass Upstream job id: Generic-DPDK-Compile-Meson#389309 Test environment and result as below: +----------------------------------------+--------------------+ | Environment | dpdk_meson_compile | +========================================+====================+ | RHEL9 (ARM) | PASS | +----------------------------------------+--------------------+ | Ubuntu 20.04 ARM GCC Cross Compile | PASS | +----------------------------------------+--------------------+ | Ubuntu 20.04 ARM SVE | PASS | +----------------------------------------+--------------------+ | Debian 12 with MUSDK | PASS | +----------------------------------------+--------------------+ | Fedora 40 (ARM Clang) | PASS | +----------------------------------------+--------------------+ | Fedora 41 (ARM) | PASS | +----------------------------------------+--------------------+ | Fedora 40 (ARM) | PASS | +----------------------------------------+--------------------+ | Ubuntu 24.04 (ARM) | PASS | +----------------------------------------+--------------------+ | Ubuntu 22.04 (ARM) | PASS | +----------------------------------------+--------------------+ | Ubuntu 20.04 (ARM) | PASS | +----------------------------------------+--------------------+ | Fedora 41 (ARM Clang) | PASS | +----------------------------------------+--------------------+ | CentOS Stream 9 (ARM) | PASS | +----------------------------------------+--------------------+ | CentOS Stream 10 (ARM) | PASS | +----------------------------------------+--------------------+ | Debian 12 (arm) | PASS | +----------------------------------------+--------------------+ | Ubuntu 20.04 ARM Clang Cross Compile | PASS | +----------------------------------------+--------------------+ | Ubuntu 20.04 aarch32 GCC Cross Compile | PASS | +----------------------------------------+--------------------+ RHEL9 (ARM) Kernel: Depends on container host Compiler: gcc 11.5.0 20240719 (Red Hat 11.5.0-2) Ubuntu 20.04 ARM GCC Cross Compile Kernel: Depends on container host Compiler: aarch64-linux-gnu-gcc (Ubuntu 9.4.0-1ubuntu1~20.04.2) 9.4.0 Ubuntu 20.04 ARM SVE Kernel: Depends on container host Compiler: gcc (Ubuntu 10.5.0-1ubuntu1~20.04) 10.5.0 Debian 12 with MUSDK Kernel: Depends on container host Compiler: gcc (Debian 12.2.0-14) 12.2.0 Fedora 40 (ARM Clang) Kernel: Depends on container host Compiler: clang 18.1.8 (Fedora 18.1.8-1.fc40) Fedora 41 (ARM) Kernel: Depends on container host Compiler: gcc 14.2.1 20240912 (Red Hat 14.2.1-3) Fedora 40 (ARM) Kernel: Depends on container host Compiler: gcc 14.2.1 20240912 (Red Hat 14.2.1-3) Ubuntu 24.04 (ARM) Kernel: Depends on container host Compiler: gcc (Ubuntu 13.3.0-6ubuntu2~24.04) 13.3.0 Ubuntu 22.04 (ARM) Kernel: Depends on container host Compiler: gcc (Ubuntu 11.4.0-1ubuntu1~22.04) 11.4.0 Ubuntu 20.04 (ARM) Kernel: Depends on container host Compiler: gcc (Ubuntu 9.4.0-1ubuntu1~20.04.2) 9.4.0 Fedora 41 (ARM Clang) Kernel: Depends on container host Compiler: clang 19.1.5 (Fedora 19.1.5-1.fc41) CentOS Stream 9 (ARM) Kernel: Depends on container host Compiler: gcc 11.5.0 20240719 (Red Hat 11.5.0-2) CentOS Stream 10 (ARM) Kernel: Depends on container host Compiler: gcc 14.2.1 20241104 (Red Hat 14.2.1-6) Debian 12 (arm) Kernel: Depends on container host Compiler: gcc (Debian 12.2.0-14) 12.2.0 Ubuntu 20.04 ARM Clang Cross Compile Kernel: Depends on container host Compiler: clang 10.0.0-4ubuntu1 Ubuntu 20.04 aarch32 GCC Cross Compile Kernel: Depends on container host Compiler: gcc 9.4.0 To view detailed results, visit: https://lab.dpdk.org/results/dashboard/patchsets/33203/ UNH-IOL DPDK Community Lab To manage your email subscriptions, visit: https://lab.dpdk.org/results/dashboard/preferences/subscriptions/