From mboxrd@z Thu Jan 1 00:00:00 1970 Return-Path: Received: from mails.dpdk.org (mails.dpdk.org [217.70.189.124]) by inbox.dpdk.org (Postfix) with ESMTP id BA5DC46787 for ; Mon, 19 May 2025 07:32:19 +0200 (CEST) Received: from mails.dpdk.org (localhost [127.0.0.1]) by mails.dpdk.org (Postfix) with ESMTP id 9420440613; Mon, 19 May 2025 07:32:19 +0200 (CEST) Received: from mail-io1-f98.google.com (mail-io1-f98.google.com [209.85.166.98]) by mails.dpdk.org (Postfix) with ESMTP id 678654060C for ; Mon, 19 May 2025 07:32:18 +0200 (CEST) Received: by mail-io1-f98.google.com with SMTP id ca18e2360f4ac-85b4170f1f5so158667439f.3 for ; Sun, 18 May 2025 22:32:18 -0700 (PDT) DKIM-Signature: v=1; a=rsa-sha256; c=relaxed/relaxed; d=iol.unh.edu; s=unh-iol; t=1747632737; x=1748237537; darn=dpdk.org; h=cc:to:from:subject:message-id:date:from:to:cc:subject:date :message-id:reply-to; bh=sZaWwRlEm1AYs/hTHpPfBKabXXahcbq4xu+828fCrMw=; b=e1QR5ltfN2nBvyiJB98w3eFPcsh6WmIdGp+D7pj11YgxX3zllkcxCPQSX0wPY9Z89Z zPhThPiWw/8nidpwcixthmAdWjFl88JK7yDTr/oPyq1OP2OVd+WMAOxdqPK4EzaAc6nU QArAmuoNxW3difYE8uPIAzMfZiJJATRebyIgI= X-Google-DKIM-Signature: v=1; a=rsa-sha256; c=relaxed/relaxed; d=1e100.net; s=20230601; t=1747632737; x=1748237537; h=cc:to:from:subject:message-id:date:x-gm-message-state:from:to:cc :subject:date:message-id:reply-to; bh=sZaWwRlEm1AYs/hTHpPfBKabXXahcbq4xu+828fCrMw=; b=WtrQ34qHAIDx05o1fMBUZLCQyefnDeKFNfPd/3n88U/8ODQ85PuXf2nf3c61XsBNP0 e2nlaIY0TmGi/+3dMMT5q3wzd+n3ToQhshNM1/G2S/caTIIPn+NHoGNpsM8546NPxRYP 9LoVujy4GdpKgBwzBQhT05eRv/nsFFkFlB9Q39vqMWgPl3hPB0v23A2j20GOFGMSGOmX txUE4H1ux8XYemA6xduUrZ6kulvqI4x0OtKiuw1zz9wetGC40hZpW3E2y/aSqs18vJ+o EXZYjRkn7xvdejbzKQuN2quwROwML2uM6296npYhe/FiPdQq6qeNuBaACftCygcETBd8 sxGw== X-Gm-Message-State: AOJu0YweBbJNwuXkh/LYl7qAJCigMfuQsdrYwLrMKFAYjE7oxwlODyMH CUU2P6Iyl10xRwfOl/Nc27ACWVTg29y9o85773RqteA5Nz8X50ZBUZ57qQtDAzlzaFyo+sRSmEu Uh9YqwoY3YTk93LEvlXZhi6ErL+lVqPpNSES/ X-Gm-Gg: ASbGncsk3nMubs5zhA7G8kUC/B2tBaoEwV/Oerj+dbY77CVYLIeYnIGM+8xIrEH4Dub 0WVa2iIjEKX5ATePiuU165zjVpN21ECgtkhkE6v3l9bdKmAdSGm+7TmzLiAhMSvTk6qiO2dPv+6 omgCw//hBofVzVl5jsgrqUEEgBU8uS/saZsEtXAWwmE+3xfOfZ3Vr3qRLayOvhFn8HETz+xAQE5 rnq51IOO+Oi1qtoAlFT5gVWgw1lHAhJCe24hOb8143LsSHEXuLF+fwhyhvb7ez3/qL2389ScECC 5jzqCVYyyEQtoYX2uAnzkqH9ZNHBjNhOASMG6Yi7lYCI2S+R+vQTIPTifJQ= X-Google-Smtp-Source: AGHT+IFmkuD5XLQX5D8O539wuQWGmjo2sJFWjwSMbp3LHIEflu2PjqTBdlVsgy2W8zRk3sB8DERXXgNBCKDz X-Received: by 2002:a05:6e02:16ca:b0:3d9:39ae:b23c with SMTP id e9e14a558f8ab-3db843689b4mr127940305ab.20.1747632737429; Sun, 18 May 2025 22:32:17 -0700 (PDT) Received: from postal.iol.unh.edu (postal.iol.unh.edu. [132.177.123.84]) by smtp-relay.gmail.com with ESMTPS id e9e14a558f8ab-3db8441f1efsm2944265ab.27.2025.05.18.22.32.17 (version=TLS1_2 cipher=ECDHE-ECDSA-AES128-GCM-SHA256 bits=128/128); Sun, 18 May 2025 22:32:17 -0700 (PDT) X-Relaying-Domain: iol.unh.edu Date: Sun, 18 May 2025 22:32:17 -0700 (PDT) Message-ID: <682ac261.920a0220.208dd5.f8a4SMTPIN_ADDED_MISSING@mx.google.com> Received: from [172.21.0.7] (unknown [172.18.0.240]) by postal.iol.unh.edu (Postfix) with ESMTP id E1E456052471; Mon, 19 May 2025 01:32:16 -0400 (EDT) Subject: |SUCCESS| [GIT MASTER] 4c5634de9f933555bab9c64a533d3dca999071cd From: dpdklab@iol.unh.edu To: Test Report Cc: dpdk-test-reports@iol.unh.edu, Xueming Li , Christian Ehrhardt , Kevin Traynor , Luca Boccassi Content-Type: text/plain X-BeenThere: test-report@dpdk.org X-Mailman-Version: 2.1.29 Precedence: list List-Id: automatic DPDK test reports List-Unsubscribe: , List-Archive: List-Post: List-Help: List-Subscribe: , Errors-To: test-report-bounces@dpdk.org _Testing PASS_ Branch: tags/v24.11 4c5634de9f933555bab9c64a533d3dca999071cd --> testing pass Upstream job id: Generic-Unit-Test-DPDK#339000 Test environment and result as below: +------------------------+---------------------------+--------------+------------------------------+----------------+ | Environment | cryptodev_sw_zuc_autotest | lpm_autotest | cryptodev_sw_snow3g_autotest | dpdk_unit_test | +========================+===========================+==============+==============================+================+ | Debian 12 (arm) | PASS | SKIPPED | PASS | PASS | +------------------------+---------------------------+--------------+------------------------------+----------------+ | Ubuntu 20.04 ARM SVE | SKIPPED | PASS | SKIPPED | SKIPPED | +------------------------+---------------------------+--------------+------------------------------+----------------+ | CentOS Stream 9 (ARM) | SKIPPED | SKIPPED | SKIPPED | PASS | +------------------------+---------------------------+--------------+------------------------------+----------------+ | Fedora 40 (ARM Clang) | SKIPPED | SKIPPED | SKIPPED | PASS | +------------------------+---------------------------+--------------+------------------------------+----------------+ | Fedora 41 (ARM) | SKIPPED | SKIPPED | SKIPPED | PASS | +------------------------+---------------------------+--------------+------------------------------+----------------+ | Fedora 40 (ARM) | SKIPPED | SKIPPED | SKIPPED | PASS | +------------------------+---------------------------+--------------+------------------------------+----------------+ | CentOS Stream 10 (ARM) | SKIPPED | SKIPPED | SKIPPED | PASS | +------------------------+---------------------------+--------------+------------------------------+----------------+ | Fedora 41 (ARM Clang) | SKIPPED | SKIPPED | SKIPPED | PASS | +------------------------+---------------------------+--------------+------------------------------+----------------+ | RHEL9 (ARM) | SKIPPED | SKIPPED | SKIPPED | PASS | +------------------------+---------------------------+--------------+------------------------------+----------------+ | Ubuntu 24.04 (ARM) | SKIPPED | SKIPPED | SKIPPED | PASS | +------------------------+---------------------------+--------------+------------------------------+----------------+ | Ubuntu 22.04 (ARM) | SKIPPED | SKIPPED | SKIPPED | PASS | +------------------------+---------------------------+--------------+------------------------------+----------------+ | Ubuntu 20.04 (ARM) | SKIPPED | SKIPPED | SKIPPED | PASS | +------------------------+---------------------------+--------------+------------------------------+----------------+ Debian 12 (arm) Kernel: Depends on container host Compiler: gcc (Debian 12.2.0-14) 12.2.0 Ubuntu 20.04 ARM SVE Kernel: Depends on container host Compiler: gcc (Ubuntu 10.5.0-1ubuntu1~20.04) 10.5.0 CentOS Stream 9 (ARM) Kernel: Depends on container host Compiler: gcc 11.5.0 20240719 (Red Hat 11.5.0-2) Fedora 40 (ARM Clang) Kernel: Depends on container host Compiler: clang 18.1.8 (Fedora 18.1.8-1.fc40) Fedora 41 (ARM) Kernel: Depends on container host Compiler: gcc 14.2.1 20240912 (Red Hat 14.2.1-3) Fedora 40 (ARM) Kernel: Depends on container host Compiler: gcc 14.2.1 20240912 (Red Hat 14.2.1-3) CentOS Stream 10 (ARM) Kernel: Depends on container host Compiler: gcc 14.2.1 20241104 (Red Hat 14.2.1-6) Fedora 41 (ARM Clang) Kernel: Depends on container host Compiler: clang 19.1.5 (Fedora 19.1.5-1.fc41) RHEL9 (ARM) Kernel: Depends on container host Compiler: gcc 11.5.0 20240719 (Red Hat 11.5.0-2) Ubuntu 24.04 (ARM) Kernel: Depends on container host Compiler: gcc (Ubuntu 13.3.0-6ubuntu2~24.04) 13.3.0 Ubuntu 22.04 (ARM) Kernel: Depends on container host Compiler: gcc (Ubuntu 11.4.0-1ubuntu1~22.04) 11.4.0 Ubuntu 20.04 (ARM) Kernel: Depends on container host Compiler: gcc (Ubuntu 9.4.0-1ubuntu1~20.04.2) 9.4.0 To view detailed results, visit: https://lab.dpdk.org/results/dashboard/tarballs/33577/ UNH-IOL DPDK Community Lab To manage your email subscriptions, visit: https://lab.dpdk.org/results/dashboard/preferences/subscriptions/