From mboxrd@z Thu Jan 1 00:00:00 1970 Return-Path: Received: from mails.dpdk.org (mails.dpdk.org [217.70.189.124]) by inbox.dpdk.org (Postfix) with ESMTP id D04A646789 for ; Mon, 19 May 2025 08:05:45 +0200 (CEST) Received: from mails.dpdk.org (localhost [127.0.0.1]) by mails.dpdk.org (Postfix) with ESMTP id 993E5402AC; Mon, 19 May 2025 08:05:45 +0200 (CEST) Received: from mail-pf1-f228.google.com (mail-pf1-f228.google.com [209.85.210.228]) by mails.dpdk.org (Postfix) with ESMTP id A2EBB40276 for ; Mon, 19 May 2025 08:05:43 +0200 (CEST) Received: by mail-pf1-f228.google.com with SMTP id d2e1a72fcca58-7424ccbef4eso3987932b3a.2 for ; Sun, 18 May 2025 23:05:43 -0700 (PDT) DKIM-Signature: v=1; a=rsa-sha256; c=relaxed/relaxed; d=iol.unh.edu; s=unh-iol; t=1747634742; x=1748239542; darn=dpdk.org; h=cc:to:from:subject:message-id:date:from:to:cc:subject:date :message-id:reply-to; bh=NyuZlq50s/OTmAHvFLWc8gofD4XcvlMKY3AUmODNZ9M=; b=Zj44w9Z5wuKO57QXh9HkczmxI3Z8L66z6x4e6qLF85JlaKZkldETpWYFrM4GBXHYrL EUZGWtNIcteW0d4F9rlU3X6bOFxH4T+31WDplm1S9DkI55bd5W3sEaw2unrHmOquD8i8 VO/KVwmb9qFyvGsayydClkWIJ54NO/ItPDJWU= X-Google-DKIM-Signature: v=1; a=rsa-sha256; c=relaxed/relaxed; d=1e100.net; s=20230601; t=1747634742; x=1748239542; h=cc:to:from:subject:message-id:date:x-gm-message-state:from:to:cc :subject:date:message-id:reply-to; bh=NyuZlq50s/OTmAHvFLWc8gofD4XcvlMKY3AUmODNZ9M=; b=vytKkOopNK+t5YPzA2oZTCSna4fVGJ0JPKBiSs111KFuisyS7QZVm6FJrWGseWwrds yQviwAedCC8MJts4Qh8afyXZkkVA9//i8B/uREJRmVIWpu1N4G36rDMlPgSn3gOPEZp3 10Ii3t0fgZPL5YEQloWDsDdPNmdTC+8oOzHgswVuZAqijA8yqdqFUJ5JiU6ZtxJfcvGq Q2yMu2L/yplGCm06JyTLMCMADhJD5TcF5RRQ5r5XZLUx3o30XrtiNJJ1bUxS/Kf2mBtp 2mrptoasMTrnEl0+x1QpARV4B0WpGlNDIT8UtbpIkbuFk8aU+HTpthmbChNeytlFfoUJ Geng== X-Gm-Message-State: AOJu0YwPuj59O54TbC0n1PNE4pkEzqPazu800xhxdxcyscmiGGMcijaL Q8dPEx51qYJHJjaYw7EsGiknsQtcU24Qi9jlIKiprvtN3cour+fljd/mU8R+eatkvy5w48Sq9kF 8hzKwxyFD4c+h6MqiicAPEH3ifjcWIg4bPTUhINPePyp1g3Y7xiKJ X-Gm-Gg: ASbGncvF8qc2BF9h95SfabzykZwUAT2ES1XF4rJKyg2cY4jR4g5MIdMMouBISxjeMSN ncLF8Nl1l1FkjrlS8tT1nnZI5BAG0KGdDY70DRJ+POePG3TazKHwENfcTvKr4ohemKKm+zuARPn Qt5kavnRzuiqqJH+K+z1JfgHnyxvniTKtcE8MiveYaRsvH4SETPRePBw8zhl1SghFexOIFdEdfe buQshV7nuv543cbYHN/W0xMTgV7ywh7xO6KYc2Zp6wWdYhbYAUQ07vtlrJgovpMVaLzCTMMC3PN pRNRA/qU8mC80twb8Jrc2yUKGdQyoJ1vDrJX X-Google-Smtp-Source: AGHT+IEwLmcE50jp8BL3FgQaz2OhwVIPowuB7qcXhHwShSz/P9qc8u1Vjdi0qymP0gK3jDZ50Wu61dGQw1w4 X-Received: by 2002:a05:6a00:1414:b0:736:450c:fa54 with SMTP id d2e1a72fcca58-742a979528bmr15109565b3a.6.1747634742356; Sun, 18 May 2025 23:05:42 -0700 (PDT) Received: from postal.iol.unh.edu (postal.iol.unh.edu. [2606:4100:3880:1234::84]) by smtp-relay.gmail.com with ESMTPS id d2e1a72fcca58-742a984c3b1sm437682b3a.18.2025.05.18.23.05.42 (version=TLS1_2 cipher=ECDHE-ECDSA-AES128-GCM-SHA256 bits=128/128); Sun, 18 May 2025 23:05:42 -0700 (PDT) X-Relaying-Domain: iol.unh.edu Date: Sun, 18 May 2025 23:05:42 -0700 (PDT) Message-ID: <682aca36.050a0220.1f1a89.734fSMTPIN_ADDED_MISSING@mx.google.com> Received: from [172.21.0.7] (unknown [172.18.0.240]) by postal.iol.unh.edu (Postfix) with ESMTP id 8E8B06052471; Mon, 19 May 2025 02:05:41 -0400 (EDT) Subject: |SUCCESS| [GIT MASTER] 4c5634de9f933555bab9c64a533d3dca999071cd From: dpdklab@iol.unh.edu To: Test Report Cc: dpdk-test-reports@iol.unh.edu, Xueming Li , Christian Ehrhardt , Kevin Traynor , Luca Boccassi Content-Type: text/plain X-BeenThere: test-report@dpdk.org X-Mailman-Version: 2.1.29 Precedence: list List-Id: automatic DPDK test reports List-Unsubscribe: , List-Archive: List-Post: List-Help: List-Subscribe: , Errors-To: test-report-bounces@dpdk.org _Testing PASS_ Branch: tags/v24.11 4c5634de9f933555bab9c64a533d3dca999071cd --> testing pass Upstream job id: Generic-Unit-Test-DPDK#339008 Test environment and result as below: +-------------------+----------------+ | Environment | dpdk_unit_test | +===================+================+ | CentOS Stream 10 | PASS | +-------------------+----------------+ | CentOS Stream 9 | PASS | +-------------------+----------------+ | Fedora 40 | PASS | +-------------------+----------------+ | Fedora 41 | PASS | +-------------------+----------------+ | Debian 12 | PASS | +-------------------+----------------+ | Fedora 40 (Clang) | PASS | +-------------------+----------------+ | Ubuntu 20.04 | PASS | +-------------------+----------------+ | RHEL9 | PASS | +-------------------+----------------+ | Ubuntu 22.04 | PASS | +-------------------+----------------+ | Fedora 41 (Clang) | PASS | +-------------------+----------------+ | RHEL8 | PASS | +-------------------+----------------+ | Ubuntu 24.04 | PASS | +-------------------+----------------+ CentOS Stream 10 Kernel: Depends on container host Compiler: gcc 14.2.1 20241104 (Red Hat 14.2.1-6) CentOS Stream 9 Kernel: Depends on container host Compiler: gcc 11.5.0 20240719 (Red Hat 11.5.0-2) Fedora 40 Kernel: Depends on container host Compiler: gcc 14.2.1 20240912 (Red Hat 14.2.1-3) Fedora 41 Kernel: Depends on container host Compiler: gcc 14.2.1 20240912 (Red Hat 14.2.1-3) Debian 12 Kernel: Depends on container host Compiler: gcc (Debian 12.2.0-14) 12.2.0 Fedora 40 (Clang) Kernel: Depends on container host Compiler: clang 18.1.8 (Fedora 18.1.8-1.fc40) Ubuntu 20.04 Kernel: Depends on container host Compiler: gcc (Ubuntu 9.4.0-1ubuntu1~20.04.2) 9.4.0 RHEL9 Kernel: Depends on container host Compiler: gcc 11.5.0 20240719 (Red Hat 11.5.0-2) Ubuntu 22.04 Kernel: Depends on container host Compiler: gcc (Ubuntu 11.4.0-1ubuntu1~22.04) 11.4.0 Fedora 41 (Clang) Kernel: Depends on container host Compiler: clang 19.1.5 (Fedora 19.1.5-1.fc41) RHEL8 Kernel: Depends on container host Compiler: gcc 8.5.0 20210514 (Red Hat 8.5.0-22) Ubuntu 24.04 Kernel: Depends on container host Compiler: gcc (Ubuntu 13.3.0-6ubuntu2~24.04) 13.3.0 To view detailed results, visit: https://lab.dpdk.org/results/dashboard/tarballs/33577/ UNH-IOL DPDK Community Lab To manage your email subscriptions, visit: https://lab.dpdk.org/results/dashboard/preferences/subscriptions/