From mboxrd@z Thu Jan 1 00:00:00 1970 Return-Path: Received: from mails.dpdk.org (mails.dpdk.org [217.70.189.124]) by inbox.dpdk.org (Postfix) with ESMTP id C15514678A for ; Mon, 19 May 2025 08:40:39 +0200 (CEST) Received: from mails.dpdk.org (localhost [127.0.0.1]) by mails.dpdk.org (Postfix) with ESMTP id 93381402AC; Mon, 19 May 2025 08:40:39 +0200 (CEST) Received: from mail-il1-f226.google.com (mail-il1-f226.google.com [209.85.166.226]) by mails.dpdk.org (Postfix) with ESMTP id 89B1640276 for ; Mon, 19 May 2025 08:40:37 +0200 (CEST) Received: by mail-il1-f226.google.com with SMTP id e9e14a558f8ab-3dc6945e109so9895385ab.2 for ; Sun, 18 May 2025 23:40:37 -0700 (PDT) DKIM-Signature: v=1; a=rsa-sha256; c=relaxed/relaxed; d=iol.unh.edu; s=unh-iol; t=1747636837; x=1748241637; darn=dpdk.org; h=cc:to:from:subject:message-id:date:from:to:cc:subject:date :message-id:reply-to; bh=6JyC6hF1wiGmEbjUF8UqjNagkNypX4Tvotp6emGqwro=; b=cT4iOj14iXXGdx1LuvSfrpHhAaO1nZFMt9AQ4Myhb5VennuRHyevj5i30JOSD15/HC BphReWa9ErDDzFWtQJi8+dK+YI8x14ShZwS6LtnUZq6HYRiLEczmWnlRCKiqpX6LHxkf EVjaE1cZoX0ZHOuCwIn7O4Z/DhZSYJ99lFixY= X-Google-DKIM-Signature: v=1; a=rsa-sha256; c=relaxed/relaxed; d=1e100.net; s=20230601; t=1747636837; x=1748241637; h=cc:to:from:subject:message-id:date:x-gm-message-state:from:to:cc :subject:date:message-id:reply-to; bh=6JyC6hF1wiGmEbjUF8UqjNagkNypX4Tvotp6emGqwro=; b=uVfDDLPzPxWIiUg32+qtZ07FpBQTU0iS4IwCZ73Z/EdJmvC5xBn437rRgY4EEyeOTT ADGLv242vhMGNxBDLoAgVtIZJ2YFUhtUYsmj4Upj3lc1zqrPvOtD/Rn3edacThexLrUB cFVgs+wEIQ/b8vJ37kMa3KfLFNvVFQZLinmCWgA5bj51v+E9Tghkj7HEA6uC/P6GgzJ/ jyXwh8KlF8u4dq1WppBzoKfMgw2bSY1QpA9perGZdraRuFmo2U9ZiIpN6YeuC/lWOMbz T/HKxiA5LMUyhomo36fJUQgvdaBZEJkxp79gi1R3eiBrUns9eSGt0zLPqpzOHn8mTbw3 Fdqg== X-Gm-Message-State: AOJu0YzjrlXVKbHMgKQ7+zT334ltruToG+QpmlFuHRtQ6hW8JLHsVzV1 I4ctMq+bcehjAbfNmaSH1PwvBX0JBTz2WjqwMoFmQ/n0k3v7Zi8mQELtGLY6BacUYxh8YVy5w7r vd7LHr+cu0z5jEjYGHrCHaWEM87stHN3kDR5w X-Gm-Gg: ASbGncukYZ0PQE/uwtj5bMqJ5NHqEZ/fJSpLaWXvMZAHJoy3eRys6ybtLRYvkkKlfPd t68fEsi3HVaFh29fl8z6ULCAfEF+9pDef1yoYzMYgDJhk2wsNG7e+MEX8TqVttjuxQMYI9vyvvP Gjl4g2ic5zBaj72ZeBe5AUI45m168Oc6EfzV3dqmlPzh8yZ1DP3SToWoRGVpbfndjKmk/kHJuH5 t682aJ8Hg3pN7DxO5GB0TzJpVpK0VtzoNWAM4T/VXAKsmmVQnoc59BB7IceZNA1D7qkQpo+qkf8 KLwBIuS81Zgls7jqUhlmZjyDz6kAmijqiMDTY2qPknzMIJvvJ0oqR4g3TmU= X-Google-Smtp-Source: AGHT+IHZ83zqYndC0pReDlGhtOO9kOWhEvAxuw6GwqeXxnS9aX4GX2KHaC++Aq9D/EHeDeenSFhoaidu8Zce X-Received: by 2002:a92:ca0d:0:b0:3db:748b:e9aa with SMTP id e9e14a558f8ab-3db8427f200mr128722495ab.5.1747636836744; Sun, 18 May 2025 23:40:36 -0700 (PDT) Received: from postal.iol.unh.edu (postal.iol.unh.edu. [132.177.123.84]) by smtp-relay.gmail.com with ESMTPS id e9e14a558f8ab-3dc63cb36e0sm1396305ab.12.2025.05.18.23.40.36 (version=TLS1_2 cipher=ECDHE-ECDSA-AES128-GCM-SHA256 bits=128/128); Sun, 18 May 2025 23:40:36 -0700 (PDT) X-Relaying-Domain: iol.unh.edu Date: Sun, 18 May 2025 23:40:36 -0700 (PDT) Message-ID: <682ad264.050a0220.4bccb.6944SMTPIN_ADDED_MISSING@mx.google.com> Received: from [172.21.0.6] (unknown [172.18.0.240]) by postal.iol.unh.edu (Postfix) with ESMTP id 3D5736052471; Mon, 19 May 2025 02:40:36 -0400 (EDT) Subject: |SUCCESS| [GIT MASTER] 4c5634de9f933555bab9c64a533d3dca999071cd From: dpdklab@iol.unh.edu To: Test Report Cc: dpdk-test-reports@iol.unh.edu, Xueming Li , Christian Ehrhardt , Kevin Traynor , Luca Boccassi Content-Type: text/plain X-BeenThere: test-report@dpdk.org X-Mailman-Version: 2.1.29 Precedence: list List-Id: automatic DPDK test reports List-Unsubscribe: , List-Archive: List-Post: List-Help: List-Subscribe: , Errors-To: test-report-bounces@dpdk.org _Testing PASS_ Branch: tags/v24.11 4c5634de9f933555bab9c64a533d3dca999071cd --> testing pass Upstream job id: Generic-VM-Unit-Test-DPDK#28615 Test environment and result as below: +---------------------+----------------+ | Environment | dpdk_unit_test | +=====================+================+ | CentOS Stream 10 | PASS | +---------------------+----------------+ | CentOS Stream 9 | PASS | +---------------------+----------------+ | Fedora 40 | PASS | +---------------------+----------------+ | Fedora 41 | PASS | +---------------------+----------------+ | Debian 12 | PASS | +---------------------+----------------+ | Fedora 40 (Clang) | PASS | +---------------------+----------------+ | Ubuntu 20.04 | PASS | +---------------------+----------------+ | RHEL9 | PASS | +---------------------+----------------+ | Ubuntu 22.04 | PASS | +---------------------+----------------+ | Fedora 41 (Clang) | PASS | +---------------------+----------------+ | RHEL8 | PASS | +---------------------+----------------+ | Ubuntu 24.04 | PASS | +---------------------+----------------+ | Windows Server 2022 | PASS | +---------------------+----------------+ CentOS Stream 10 Kernel: Depends on container host Compiler: gcc 14.2.1 20241104 (Red Hat 14.2.1-6) CentOS Stream 9 Kernel: Depends on container host Compiler: gcc 11.5.0 20240719 (Red Hat 11.5.0-2) Fedora 40 Kernel: Depends on container host Compiler: gcc 14.2.1 20240912 (Red Hat 14.2.1-3) Fedora 41 Kernel: Depends on container host Compiler: gcc 14.2.1 20240912 (Red Hat 14.2.1-3) Debian 12 Kernel: Depends on container host Compiler: gcc (Debian 12.2.0-14) 12.2.0 Fedora 40 (Clang) Kernel: Depends on container host Compiler: clang 18.1.8 (Fedora 18.1.8-1.fc40) Ubuntu 20.04 Kernel: Depends on container host Compiler: gcc (Ubuntu 9.4.0-1ubuntu1~20.04.2) 9.4.0 RHEL9 Kernel: Depends on container host Compiler: gcc 11.5.0 20240719 (Red Hat 11.5.0-2) Ubuntu 22.04 Kernel: Depends on container host Compiler: gcc (Ubuntu 11.4.0-1ubuntu1~22.04) 11.4.0 Fedora 41 (Clang) Kernel: Depends on container host Compiler: clang 19.1.5 (Fedora 19.1.5-1.fc41) RHEL8 Kernel: Depends on container host Compiler: gcc 8.5.0 20210514 (Red Hat 8.5.0-22) Ubuntu 24.04 Kernel: Depends on container host Compiler: gcc (Ubuntu 13.3.0-6ubuntu2~24.04) 13.3.0 Windows Server 2022 Kernel: 10.0.20348.2031 Compiler: clang 15.0.7, gcc 14.1.0 (MinGW), and MSVC VS 19.39.33521 To view detailed results, visit: https://lab.dpdk.org/results/dashboard/tarballs/33577/ UNH-IOL DPDK Community Lab To manage your email subscriptions, visit: https://lab.dpdk.org/results/dashboard/preferences/subscriptions/