From mboxrd@z Thu Jan 1 00:00:00 1970 Return-Path: Received: from mails.dpdk.org (mails.dpdk.org [217.70.189.124]) by inbox.dpdk.org (Postfix) with ESMTP id 57C114678A for ; Mon, 19 May 2025 09:32:25 +0200 (CEST) Received: from mails.dpdk.org (localhost [127.0.0.1]) by mails.dpdk.org (Postfix) with ESMTP id 371C0402AC; Mon, 19 May 2025 09:32:25 +0200 (CEST) Received: from mail-ot1-f100.google.com (mail-ot1-f100.google.com [209.85.210.100]) by mails.dpdk.org (Postfix) with ESMTP id 88095402AC for ; Mon, 19 May 2025 09:32:24 +0200 (CEST) Received: by mail-ot1-f100.google.com with SMTP id 46e09a7af769-72c40235c34so1357491a34.3 for ; Mon, 19 May 2025 00:32:24 -0700 (PDT) DKIM-Signature: v=1; a=rsa-sha256; c=relaxed/relaxed; d=iol.unh.edu; s=unh-iol; t=1747639943; x=1748244743; darn=dpdk.org; h=cc:to:from:subject:message-id:date:from:to:cc:subject:date :message-id:reply-to; bh=ZvssEzzKWnuHo41lyPqM5jMRSpKsmzUt3+MuAEFoX1s=; b=hRFk+HZXS/1qMX+qrCemG7pLsfBuyevSv0oLYcu8ggPPH898bx7ONjEa6QFy8Fe33e fuQSJrd87Wb25DyVfFkNNV5ikZPfR1/aMQ8MzG/4ipFehWfFZRPaouypjEuI4Oo3vAgq mGAYD45Jnh+APJUo4h7/moz+AzG+ZHl827WoQ= X-Google-DKIM-Signature: v=1; a=rsa-sha256; c=relaxed/relaxed; d=1e100.net; s=20230601; t=1747639943; x=1748244743; h=cc:to:from:subject:message-id:date:x-gm-message-state:from:to:cc :subject:date:message-id:reply-to; bh=ZvssEzzKWnuHo41lyPqM5jMRSpKsmzUt3+MuAEFoX1s=; b=TWxBRMjk8CKZ10NckraPKwRPlF+6ytrFcpyy6MybzDuP+8jkJ/T6J8ttYoLNu+l+y2 S6ObZDLG3XzgPkD4QRdmNYE7krD+aqDF5kv+w82o/oPsEa6lHCvGDPzBQ6G4gwr7aY9L QDovo5gomvlD7UQmy1PKwe6MuasY5Eo15elQ1QGGxBAqe1kIT9dXxsnVE28w5CdWA0K6 6dlgQ449SXMomvC4HE1f60KdZODosMd/WqvvyrK3iuhpD/8ljyzRC1WRzv0+4E0eHNeH o9VYEHbxmSz6eHogqMe9LLngJAdhJbTwpSyRKpHVaCsoqs/JNDPDw41/mAJhb6vTtEFL pqKg== X-Gm-Message-State: AOJu0YyjbuKDRCl8rIWcKSzG2AJm+DNLWh4ETS8qD73UouZCejf9NBwD PMq7s/ixbUEVxAbzHw0Tlpxq5ycgN/eYfVIGdM3LsP69al4mDlc3MmwU5TSMAIUngWPaLiUpSg3 HGYFahmq/SJWaftPC3ElI0XvgCpctZbzg7tqW X-Gm-Gg: ASbGncuXbHFij+u0j3gpzRQ6hOaLGcW3DH6cHoItXK8nM0q3k5WkqV26O9MOgr/FLrk ayqYfLqrSa9xVKGNQ8wS8qjwZpB0ETUdeTnl2DvDRnT2BrQZWTbNKXhhwqB03eQF1j7mdhoM37K OnADEf26kPsL9M3IxY7/iOPt8/i3iewfKyFq91l7NatMF2Aq6NhhneBcs5lwkWWHwPyBG76VHvT gu21QXzzbxEqlShKJnBQXG307xN/V8o+Sjy/jGg/5HAUhkTbbRcTgoIhCN1QFzk/tNL0o0dqlqh lfg/UTQjtM4qy6PZ8xfSCFHKJ3D8Tt82HGz/5J5/EOSMmgglO5VkAbA1Cmo= X-Google-Smtp-Source: AGHT+IE9uMy4DufuWnUD4YhPI5TKsSjEkWD3X9vTyBDlv1ZXkqZdWxvphEa7evFIPov3/RWq5plT0T/NCcgG X-Received: by 2002:a05:6870:af87:b0:2c1:bc87:9bd7 with SMTP id 586e51a60fabf-2e3c8572d74mr6727136fac.35.1747639943435; Mon, 19 May 2025 00:32:23 -0700 (PDT) Received: from postal.iol.unh.edu (postal.iol.unh.edu. [132.177.123.84]) by smtp-relay.gmail.com with ESMTPS id 586e51a60fabf-2e3c0bbcb6esm370047fac.28.2025.05.19.00.32.23 (version=TLS1_2 cipher=ECDHE-ECDSA-AES128-GCM-SHA256 bits=128/128); Mon, 19 May 2025 00:32:23 -0700 (PDT) X-Relaying-Domain: iol.unh.edu Date: Mon, 19 May 2025 00:32:23 -0700 (PDT) Message-ID: <682ade87.050a0220.2aa7ce.377cSMTPIN_ADDED_MISSING@mx.google.com> Received: from [172.21.0.5] (unknown [172.18.0.240]) by postal.iol.unh.edu (Postfix) with ESMTP id A98DB6052471; Mon, 19 May 2025 03:32:22 -0400 (EDT) Subject: |SUCCESS| [GIT MASTER] 83a7a648344674c0269fcaeb71d8d16468421a0e From: dpdklab@iol.unh.edu To: Test Report Cc: dpdk-test-reports@iol.unh.edu, Xueming Li , Christian Ehrhardt , Kevin Traynor , Luca Boccassi Content-Type: text/plain X-BeenThere: test-report@dpdk.org X-Mailman-Version: 2.1.29 Precedence: list List-Id: automatic DPDK test reports List-Unsubscribe: , List-Archive: List-Post: List-Help: List-Subscribe: , Errors-To: test-report-bounces@dpdk.org _Testing PASS_ Branch: tags/v23.11 83a7a648344674c0269fcaeb71d8d16468421a0e --> testing pass Upstream job id: Generic-VM-Unit-Test-DPDK#28618 Test environment and result as below: +---------------------+----------------+ | Environment | dpdk_unit_test | +=====================+================+ | Debian 12 | PASS | +---------------------+----------------+ | CentOS Stream 9 | PASS | +---------------------+----------------+ | CentOS Stream 10 | PASS | +---------------------+----------------+ | RHEL8 | PASS | +---------------------+----------------+ | Fedora 40 (Clang) | PASS | +---------------------+----------------+ | Fedora 41 | PASS | +---------------------+----------------+ | Fedora 40 | PASS | +---------------------+----------------+ | RHEL9 | PASS | +---------------------+----------------+ | Ubuntu 20.04 | PASS | +---------------------+----------------+ | Fedora 41 (Clang) | PASS | +---------------------+----------------+ | Ubuntu 22.04 | PASS | +---------------------+----------------+ | Ubuntu 24.04 | PASS | +---------------------+----------------+ | Windows Server 2022 | PASS | +---------------------+----------------+ Debian 12 Kernel: Depends on container host Compiler: gcc (Debian 12.2.0-14) 12.2.0 CentOS Stream 9 Kernel: Depends on container host Compiler: gcc 11.5.0 20240719 (Red Hat 11.5.0-2) CentOS Stream 10 Kernel: Depends on container host Compiler: gcc 14.2.1 20241104 (Red Hat 14.2.1-6) RHEL8 Kernel: Depends on container host Compiler: gcc 8.5.0 20210514 (Red Hat 8.5.0-22) Fedora 40 (Clang) Kernel: Depends on container host Compiler: clang 18.1.8 (Fedora 18.1.8-1.fc40) Fedora 41 Kernel: Depends on container host Compiler: gcc 14.2.1 20240912 (Red Hat 14.2.1-3) Fedora 40 Kernel: Depends on container host Compiler: gcc 14.2.1 20240912 (Red Hat 14.2.1-3) RHEL9 Kernel: Depends on container host Compiler: gcc 11.5.0 20240719 (Red Hat 11.5.0-2) Ubuntu 20.04 Kernel: Depends on container host Compiler: gcc (Ubuntu 9.4.0-1ubuntu1~20.04.2) 9.4.0 Fedora 41 (Clang) Kernel: Depends on container host Compiler: clang 19.1.5 (Fedora 19.1.5-1.fc41) Ubuntu 22.04 Kernel: Depends on container host Compiler: gcc (Ubuntu 11.4.0-1ubuntu1~22.04) 11.4.0 Ubuntu 24.04 Kernel: Depends on container host Compiler: gcc (Ubuntu 13.3.0-6ubuntu2~24.04) 13.3.0 Windows Server 2022 Kernel: 10.0.20348.2031 Compiler: clang 15.0.7, gcc 14.1.0 (MinGW), and MSVC VS 19.39.33521 To view detailed results, visit: https://lab.dpdk.org/results/dashboard/tarballs/33578/ UNH-IOL DPDK Community Lab To manage your email subscriptions, visit: https://lab.dpdk.org/results/dashboard/preferences/subscriptions/