From mboxrd@z Thu Jan 1 00:00:00 1970 Return-Path: Received: from mails.dpdk.org (mails.dpdk.org [217.70.189.124]) by inbox.dpdk.org (Postfix) with ESMTP id 222974678C for ; Mon, 19 May 2025 10:36:25 +0200 (CEST) Received: from mails.dpdk.org (localhost [127.0.0.1]) by mails.dpdk.org (Postfix) with ESMTP id 1D2F0402AC; Mon, 19 May 2025 10:36:25 +0200 (CEST) Received: from mail-vk1-f225.google.com (mail-vk1-f225.google.com [209.85.221.225]) by mails.dpdk.org (Postfix) with ESMTP id 5A04D40276 for ; Mon, 19 May 2025 10:36:23 +0200 (CEST) Received: by mail-vk1-f225.google.com with SMTP id 71dfb90a1353d-52e0d047d31so671820e0c.2 for ; Mon, 19 May 2025 01:36:23 -0700 (PDT) DKIM-Signature: v=1; a=rsa-sha256; c=relaxed/relaxed; d=iol.unh.edu; s=unh-iol; t=1747643782; x=1748248582; darn=dpdk.org; h=cc:to:from:subject:message-id:date:from:to:cc:subject:date :message-id:reply-to; bh=vRcFVhveH8hnbNFUVbuVWwnDvF2iOZ2nldb7njyvqbY=; b=c9PglgRzxfFDgybkdWDF4N+Q19MQos0Rz1jO4KmFfartTTI6jfmj3wWNEfytKpcPAw NMIc0RRTNYYV2v9kMtxwXOaCcuz34mQl2mfrKNUiNdYwTt9KSr+eMcFLSdOSscANKK1N PAKbS5YR3KzpsmKmCCFLHF1H4xvcDuBRoNbac= X-Google-DKIM-Signature: v=1; a=rsa-sha256; c=relaxed/relaxed; d=1e100.net; s=20230601; t=1747643782; x=1748248582; h=cc:to:from:subject:message-id:date:x-gm-message-state:from:to:cc :subject:date:message-id:reply-to; bh=vRcFVhveH8hnbNFUVbuVWwnDvF2iOZ2nldb7njyvqbY=; b=q/WmlOQkSdfwp5RBfcTBoXJMuwKcDW1fzG6p2h8BXXYdLig2tYICiCbuzYmg4iy63S n5S3J7qvjyWBTs8y54vxGQPpz+sjuHeVaOAS/kMVYrXxZrW95xC4NsPtFYoauCJKWlfW z72SAbiFsQGHQts7bMIfMzcySLQuuWs1yj7H6l+5ADZHekAaZvGZhubQl4z8YBobo92e sWBCr2yLErQkvHoLsxNoO5KUJ6wau/zggdjM20jKDsznN0lx0qNXDe9vICqwnT40OYle oLSz75UivqCeOnAu8Htqrz3Q5lYQc69FCcTd+S+NBYEllHcUeISh1SjFcZ6loBdb1pmX z+pw== X-Gm-Message-State: AOJu0YwzYHX63sIughsJlc10yJ1cxmmvaEA50+Y+Q1HX+Hv0/62CpfIv 6g0FKIRZ4IPFu7OQgo/S19iPV6JJxVbmT2ATU55nrEtGjDgoDJWeqXaeTL9Miw0en5VuFtq7gtv MiSccX4ak/VuvSKYNKPkXith+rZ4Pmg6XZrgm X-Gm-Gg: ASbGnctoIVYLYNo3yFpOqrYS6U4N1SUpb0gcJdFwsz039IKRd9EBA5D2fsZKrhy8+HT H6B2nedY71YqDn0PmDgNU/swDVdddonKm5nf1P1VG05AE5tf4IP2sMdwDRcE33aCeZ//RelAy0I JfWaHw64qF3h3RAzIGPc5RA8btO7cSEk+QDPuGM46qn1/YXid5Yy16qiHtzZ7+MEUjCuQiKGcFX mLqs1J2K012zJ+NHmdlnyTvvN2UTM7M8K+cXlFsly8yr7hOVch2EMt290QNA7tMnT2qgtIp0ccf f543TkE/pGXsgDWxf4iNDRZ9dG60ia6m3fe1QHnQY1cRpcwcPjbpGQ9chA4= X-Google-Smtp-Source: AGHT+IGoXEEIxd9UxU7HTu/LxIkxwzyyTLT4gbTb5B5CW7R8KkKcPoGQT2Qi9eFj7Fgy5rIH0Cp7kGZcmruF X-Received: by 2002:a05:6122:4147:b0:52a:79fd:34bd with SMTP id 71dfb90a1353d-52dba83b425mr10641093e0c.4.1747643771866; Mon, 19 May 2025 01:36:11 -0700 (PDT) Received: from postal.iol.unh.edu (postal.iol.unh.edu. [132.177.123.84]) by smtp-relay.gmail.com with ESMTPS id 71dfb90a1353d-52dba91b6besm279971e0c.3.2025.05.19.01.35.49 (version=TLS1_2 cipher=ECDHE-ECDSA-AES128-GCM-SHA256 bits=128/128); Mon, 19 May 2025 01:35:49 -0700 (PDT) X-Relaying-Domain: iol.unh.edu Date: Mon, 19 May 2025 01:35:49 -0700 (PDT) Message-ID: <682aed65.050a0220.141784.f18fSMTPIN_ADDED_MISSING@mx.google.com> Received: from [172.21.0.6] (unknown [172.18.0.240]) by postal.iol.unh.edu (Postfix) with ESMTP id C8A286052471; Mon, 19 May 2025 04:35:48 -0400 (EDT) Subject: |SUCCESS| [GIT MASTER] 4401486b5e30d43a134f80f9802f60b5f43e74a8 From: dpdklab@iol.unh.edu To: Test Report Cc: dpdk-test-reports@iol.unh.edu, Xueming Li , Christian Ehrhardt , Kevin Traynor , Luca Boccassi Content-Type: text/plain X-BeenThere: test-report@dpdk.org X-Mailman-Version: 2.1.29 Precedence: list List-Id: automatic DPDK test reports List-Unsubscribe: , List-Archive: List-Post: List-Help: List-Subscribe: , Errors-To: test-report-bounces@dpdk.org _Testing PASS_ Branch: tags/v22.11 4401486b5e30d43a134f80f9802f60b5f43e74a8 --> testing pass Upstream job id: Generic-DPDK-Compile-Meson#389327 Test environment and result as below: +------------------------------------+--------------------+ | Environment | dpdk_meson_compile | +====================================+====================+ | RHEL9 (ARM) | PASS | +------------------------------------+--------------------+ | Ubuntu 20.04 ARM SVE | PASS | +------------------------------------+--------------------+ | Ubuntu 20.04 ARM GCC Cross Compile | PASS | +------------------------------------+--------------------+ | Debian 12 with MUSDK | PASS | +------------------------------------+--------------------+ | Fedora 40 (ARM) | PASS | +------------------------------------+--------------------+ | Fedora 40 (ARM Clang) | PASS | +------------------------------------+--------------------+ | Ubuntu 20.04 (ARM) | PASS | +------------------------------------+--------------------+ | Fedora 41 (ARM Clang) | PASS | +------------------------------------+--------------------+ | Ubuntu 22.04 (ARM) | PASS | +------------------------------------+--------------------+ | CentOS Stream 10 (ARM) | PASS | +------------------------------------+--------------------+ | CentOS Stream 9 (ARM) | PASS | +------------------------------------+--------------------+ | Debian 12 (arm) | PASS | +------------------------------------+--------------------+ | Fedora 41 (ARM) | PASS | +------------------------------------+--------------------+ | Ubuntu 24.04 (ARM) | PASS | +------------------------------------+--------------------+ RHEL9 (ARM) Kernel: Depends on container host Compiler: gcc 11.5.0 20240719 (Red Hat 11.5.0-2) Ubuntu 20.04 ARM SVE Kernel: Depends on container host Compiler: gcc (Ubuntu 10.5.0-1ubuntu1~20.04) 10.5.0 Ubuntu 20.04 ARM GCC Cross Compile Kernel: Depends on container host Compiler: aarch64-linux-gnu-gcc (Ubuntu 9.4.0-1ubuntu1~20.04.2) 9.4.0 Debian 12 with MUSDK Kernel: Depends on container host Compiler: gcc (Debian 12.2.0-14) 12.2.0 Fedora 40 (ARM) Kernel: Depends on container host Compiler: gcc 14.2.1 20240912 (Red Hat 14.2.1-3) Fedora 40 (ARM Clang) Kernel: Depends on container host Compiler: clang 18.1.8 (Fedora 18.1.8-1.fc40) Ubuntu 20.04 (ARM) Kernel: Depends on container host Compiler: gcc (Ubuntu 9.4.0-1ubuntu1~20.04.2) 9.4.0 Fedora 41 (ARM Clang) Kernel: Depends on container host Compiler: clang 19.1.5 (Fedora 19.1.5-1.fc41) Ubuntu 22.04 (ARM) Kernel: Depends on container host Compiler: gcc (Ubuntu 11.4.0-1ubuntu1~22.04) 11.4.0 CentOS Stream 10 (ARM) Kernel: Depends on container host Compiler: gcc 14.2.1 20241104 (Red Hat 14.2.1-6) CentOS Stream 9 (ARM) Kernel: Depends on container host Compiler: gcc 11.5.0 20240719 (Red Hat 11.5.0-2) Debian 12 (arm) Kernel: Depends on container host Compiler: gcc (Debian 12.2.0-14) 12.2.0 Fedora 41 (ARM) Kernel: Depends on container host Compiler: gcc 14.2.1 20240912 (Red Hat 14.2.1-3) Ubuntu 24.04 (ARM) Kernel: Depends on container host Compiler: gcc (Ubuntu 13.3.0-6ubuntu2~24.04) 13.3.0 To view detailed results, visit: https://lab.dpdk.org/results/dashboard/tarballs/33579/ UNH-IOL DPDK Community Lab To manage your email subscriptions, visit: https://lab.dpdk.org/results/dashboard/preferences/subscriptions/